BEGIN:VCALENDAR
VERSION:2.0
PRODID:-//Psychosozialer Trägerverein Solingen e. V. - ECPv6.15.12.2//NONSGML v1.0//EN
CALSCALE:GREGORIAN
METHOD:PUBLISH
X-WR-CALNAME:Psychosozialer Trägerverein Solingen e. V.
X-ORIGINAL-URL:https://ptv-solingen.de
X-WR-CALDESC:Veranstaltungen für Psychosozialer Trägerverein Solingen e. V.
REFRESH-INTERVAL;VALUE=DURATION:PT1H
X-Robots-Tag:noindex
X-PUBLISHED-TTL:PT1H
BEGIN:VTIMEZONE
TZID:UTC
BEGIN:STANDARD
TZOFFSETFROM:+0000
TZOFFSETTO:+0000
TZNAME:UTC
DTSTART:20230101T000000
END:STANDARD
END:VTIMEZONE
BEGIN:VEVENT
DTSTART;TZID=UTC:20240604T180000
DTEND;TZID=UTC:20240604T190000
DTSTAMP:20260423T054727
CREATED:20240527T060304Z
LAST-MODIFIED:20240527T060304Z
UID:10908-1717524000-1717527600@ptv-solingen.de
SUMMARY:NEU Sportgruppe „Mindfull Combat“ im PTV
DESCRIPTION:MINDFUL COMBAT im PTV\nKörper\, Gedanken\, Gefühle und Handlungen arbeiten zusammen\,\num unser Wohlbefinden zu beeinflussen. \nHerr Talsik bietet ab dem 09.04.2024 eine Sportgruppe im PTV an.\nDienstags von 18 bis 19 Uhr in der Kölner Straße 1 im Dachgeschoss des\nSozialpsychiatrischen Zentrum.\nEs gibt kaum Voraussetzungen für die Teilnahme\, Jede*r kann mitmachen.\nWenn Du Spaß an Sport hast\, melde Dich gerne.\nDieses Angebot ist für die Gruppenteilnehmenden kostenfrei!\nWeitere Informationen und Anmeldung am Runden Tisch unter\nTelefon: 0212 248 21 59 \nMINDFUL COMBAT beschreibt den achtsamen Umgang mit sich selbst\, den Kampf gegen die Krankheit\, den Kampf für ein bewussteres Leben und die Inspiration\, um das Beste aus sich heraus zu holen.\nEs ist ein Training\, dass Dich da abholt wo Du bist -mit achtsamen und Ausdauer-Anteilen und einem Mix aus verschiedenen Kampfsportarten.\nAuf mögliche Einschränkungen wird individuell Rücksicht genommen. Wenn gewünscht\, unterstütze ich dabei\, aus der Gruppe heraus ein weiterführendes und langfristiges Sportangebot in Solingen zu finden.\nFür weitere Informationen zum Training und zum Trainer besuche www.hasn-inspire.de und für Interesse an der Teilnahme melde Dich direkt am Runden Tisch. \nDer Flyer als PDF zum Ausdrucken.
URL:https://ptv-solingen.de/event/neu-sportgruppe-mindfull-combat-im-ptv-duplicate-1-7/
LOCATION:Kölner Straße\, Kölner Straße 1\, Solingen\, 42651\, Deutschland
ATTACH;FMTTYPE=image/jpeg:https://ptv-solingen.de/wp-content/uploads/2024/03/combat-scaled.jpg
ORGANIZER;CN="Psychosozialer Tr%C3%A4gerverein Solingen e.V.":MAILTO:info@ptv-solingen.de
END:VEVENT
BEGIN:VEVENT
DTSTART;TZID=UTC:20240611T180000
DTEND;TZID=UTC:20240611T190000
DTSTAMP:20260423T054727
CREATED:20240527T075510Z
LAST-MODIFIED:20240527T075510Z
UID:10926-1718128800-1718132400@ptv-solingen.de
SUMMARY:NEU Sportgruppe „Mindfull Combat“ im PTV
DESCRIPTION:MINDFUL COMBAT im PTV\nKörper\, Gedanken\, Gefühle und Handlungen arbeiten zusammen\,\num unser Wohlbefinden zu beeinflussen. \nHerr Talsik bietet ab dem 09.04.2024 eine Sportgruppe im PTV an.\nDienstags von 18 bis 19 Uhr in der Kölner Straße 1 im Dachgeschoss des\nSozialpsychiatrischen Zentrum.\nEs gibt kaum Voraussetzungen für die Teilnahme\, Jede*r kann mitmachen.\nWenn Du Spaß an Sport hast\, melde Dich gerne.\nDieses Angebot ist für die Gruppenteilnehmenden kostenfrei!\nWeitere Informationen und Anmeldung am Runden Tisch unter\nTelefon: 0212 248 21 59 \nMINDFUL COMBAT beschreibt den achtsamen Umgang mit sich selbst\, den Kampf gegen die Krankheit\, den Kampf für ein bewussteres Leben und die Inspiration\, um das Beste aus sich heraus zu holen.\nEs ist ein Training\, dass Dich da abholt wo Du bist -mit achtsamen und Ausdauer-Anteilen und einem Mix aus verschiedenen Kampfsportarten.\nAuf mögliche Einschränkungen wird individuell Rücksicht genommen. Wenn gewünscht\, unterstütze ich dabei\, aus der Gruppe heraus ein weiterführendes und langfristiges Sportangebot in Solingen zu finden.\nFür weitere Informationen zum Training und zum Trainer besuche www.hasn-inspire.de und für Interesse an der Teilnahme melde Dich direkt am Runden Tisch. \nDer Flyer als PDF zum Ausdrucken.
URL:https://ptv-solingen.de/event/neu-sportgruppe-mindfull-combat-im-ptv-duplicate-1-8/
LOCATION:Kölner Straße\, Kölner Straße 1\, Solingen\, 42651\, Deutschland
ATTACH;FMTTYPE=image/jpeg:https://ptv-solingen.de/wp-content/uploads/2024/03/combat-scaled.jpg
ORGANIZER;CN="Psychosozialer Tr%C3%A4gerverein Solingen e.V.":MAILTO:info@ptv-solingen.de
END:VEVENT
BEGIN:VEVENT
DTSTART;TZID=UTC:20240618T180000
DTEND;TZID=UTC:20240618T190000
DTSTAMP:20260423T054727
CREATED:20240527T081155Z
LAST-MODIFIED:20240527T081155Z
UID:10941-1718733600-1718737200@ptv-solingen.de
SUMMARY:NEU Sportgruppe „Mindfull Combat“ im PTV
DESCRIPTION:MINDFUL COMBAT im PTV\nKörper\, Gedanken\, Gefühle und Handlungen arbeiten zusammen\,\num unser Wohlbefinden zu beeinflussen. \nHerr Talsik bietet ab dem 09.04.2024 eine Sportgruppe im PTV an.\nDienstags von 18 bis 19 Uhr in der Kölner Straße 1 im Dachgeschoss des\nSozialpsychiatrischen Zentrum.\nEs gibt kaum Voraussetzungen für die Teilnahme\, Jede*r kann mitmachen.\nWenn Du Spaß an Sport hast\, melde Dich gerne.\nDieses Angebot ist für die Gruppenteilnehmenden kostenfrei!\nWeitere Informationen und Anmeldung am Runden Tisch unter\nTelefon: 0212 248 21 59 \nMINDFUL COMBAT beschreibt den achtsamen Umgang mit sich selbst\, den Kampf gegen die Krankheit\, den Kampf für ein bewussteres Leben und die Inspiration\, um das Beste aus sich heraus zu holen.\nEs ist ein Training\, dass Dich da abholt wo Du bist -mit achtsamen und Ausdauer-Anteilen und einem Mix aus verschiedenen Kampfsportarten.\nAuf mögliche Einschränkungen wird individuell Rücksicht genommen. Wenn gewünscht\, unterstütze ich dabei\, aus der Gruppe heraus ein weiterführendes und langfristiges Sportangebot in Solingen zu finden.\nFür weitere Informationen zum Training und zum Trainer besuche www.hasn-inspire.de und für Interesse an der Teilnahme melde Dich direkt am Runden Tisch. \nDer Flyer als PDF zum Ausdrucken.
URL:https://ptv-solingen.de/event/neu-sportgruppe-mindfull-combat-im-ptv-duplicate-1-9/
LOCATION:Kölner Straße\, Kölner Straße 1\, Solingen\, 42651\, Deutschland
ATTACH;FMTTYPE=image/jpeg:https://ptv-solingen.de/wp-content/uploads/2024/03/combat-scaled.jpg
ORGANIZER;CN="Psychosozialer Tr%C3%A4gerverein Solingen e.V.":MAILTO:info@ptv-solingen.de
END:VEVENT
END:VCALENDAR