BEGIN:VCALENDAR
VERSION:2.0
PRODID:-//Psychosozialer Trägerverein Solingen e. V. - ECPv6.15.12.2//NONSGML v1.0//EN
CALSCALE:GREGORIAN
METHOD:PUBLISH
X-ORIGINAL-URL:https://ptv-solingen.de
X-WR-CALDESC:Veranstaltungen für Psychosozialer Trägerverein Solingen e. V.
REFRESH-INTERVAL;VALUE=DURATION:PT1H
X-Robots-Tag:noindex
X-PUBLISHED-TTL:PT1H
BEGIN:VTIMEZONE
TZID:UTC
BEGIN:STANDARD
TZOFFSETFROM:+0000
TZOFFSETTO:+0000
TZNAME:UTC
DTSTART:20230101T000000
END:STANDARD
END:VTIMEZONE
BEGIN:VEVENT
DTSTART;TZID=UTC:20240507T180000
DTEND;TZID=UTC:20240507T190000
DTSTAMP:20260423T070703
CREATED:20240423T052515Z
LAST-MODIFIED:20240423T052515Z
UID:10715-1715104800-1715108400@ptv-solingen.de
SUMMARY:NEU Sportgruppe „Mindfull Combat“ im PTV
DESCRIPTION:MINDFUL COMBAT im PTV\nKörper\, Gedanken\, Gefühle und Handlungen arbeiten zusammen\,\num unser Wohlbefinden zu beeinflussen. \nHerr Talsik bietet ab dem 09.04.2024 eine Sportgruppe im PTV an.\nDienstags von 18 bis 19 Uhr in der Kölner Straße 1 im Dachgeschoss des\nSozialpsychiatrischen Zentrum.\nEs gibt kaum Voraussetzungen für die Teilnahme\, Jede*r kann mitmachen.\nWenn Du Spaß an Sport hast\, melde Dich gerne.\nDieses Angebot ist für die Gruppenteilnehmenden kostenfrei!\nWeitere Informationen und Anmeldung am Runden Tisch unter\nTelefon: 0212 248 21 59 \nMINDFUL COMBAT beschreibt den achtsamen Umgang mit sich selbst\, den Kampf gegen die Krankheit\, den Kampf für ein bewussteres Leben und die Inspiration\, um das Beste aus sich heraus zu holen.\nEs ist ein Training\, dass Dich da abholt wo Du bist -mit achtsamen und Ausdauer-Anteilen und einem Mix aus verschiedenen Kampfsportarten.\nAuf mögliche Einschränkungen wird individuell Rücksicht genommen. Wenn gewünscht\, unterstütze ich dabei\, aus der Gruppe heraus ein weiterführendes und langfristiges Sportangebot in Solingen zu finden.\nFür weitere Informationen zum Training und zum Trainer besuche www.hasn-inspire.de und für Interesse an der Teilnahme melde Dich direkt am Runden Tisch. \nDer Flyer als PDF zum Ausdrucken.
URL:https://ptv-solingen.de/event/neu-sportgruppe-mindfull-combat-im-ptv-duplicate-1-3/
LOCATION:Kölner Straße\, Kölner Straße 1\, Solingen\, 42651\, Deutschland
ATTACH;FMTTYPE=image/jpeg:https://ptv-solingen.de/wp-content/uploads/2024/03/combat-scaled.jpg
ORGANIZER;CN="Psychosozialer Tr%C3%A4gerverein Solingen e.V.":MAILTO:info@ptv-solingen.de
END:VEVENT
BEGIN:VEVENT
DTSTART;TZID=UTC:20240514T180000
DTEND;TZID=UTC:20240514T190000
DTSTAMP:20260423T070703
CREATED:20240423T053428Z
LAST-MODIFIED:20240423T053428Z
UID:10729-1715709600-1715713200@ptv-solingen.de
SUMMARY:NEU Sportgruppe „Mindfull Combat“ im PTV
DESCRIPTION:MINDFUL COMBAT im PTV\nKörper\, Gedanken\, Gefühle und Handlungen arbeiten zusammen\,\num unser Wohlbefinden zu beeinflussen. \nHerr Talsik bietet ab dem 09.04.2024 eine Sportgruppe im PTV an.\nDienstags von 18 bis 19 Uhr in der Kölner Straße 1 im Dachgeschoss des\nSozialpsychiatrischen Zentrum.\nEs gibt kaum Voraussetzungen für die Teilnahme\, Jede*r kann mitmachen.\nWenn Du Spaß an Sport hast\, melde Dich gerne.\nDieses Angebot ist für die Gruppenteilnehmenden kostenfrei!\nWeitere Informationen und Anmeldung am Runden Tisch unter\nTelefon: 0212 248 21 59 \nMINDFUL COMBAT beschreibt den achtsamen Umgang mit sich selbst\, den Kampf gegen die Krankheit\, den Kampf für ein bewussteres Leben und die Inspiration\, um das Beste aus sich heraus zu holen.\nEs ist ein Training\, dass Dich da abholt wo Du bist -mit achtsamen und Ausdauer-Anteilen und einem Mix aus verschiedenen Kampfsportarten.\nAuf mögliche Einschränkungen wird individuell Rücksicht genommen. Wenn gewünscht\, unterstütze ich dabei\, aus der Gruppe heraus ein weiterführendes und langfristiges Sportangebot in Solingen zu finden.\nFür weitere Informationen zum Training und zum Trainer besuche www.hasn-inspire.de und für Interesse an der Teilnahme melde Dich direkt am Runden Tisch. \nDer Flyer als PDF zum Ausdrucken.
URL:https://ptv-solingen.de/event/neu-sportgruppe-mindfull-combat-im-ptv-duplicate-1-4/
LOCATION:Kölner Straße\, Kölner Straße 1\, Solingen\, 42651\, Deutschland
ATTACH;FMTTYPE=image/jpeg:https://ptv-solingen.de/wp-content/uploads/2024/03/combat-scaled.jpg
ORGANIZER;CN="Psychosozialer Tr%C3%A4gerverein Solingen e.V.":MAILTO:info@ptv-solingen.de
END:VEVENT
BEGIN:VEVENT
DTSTART;TZID=UTC:20240521T180000
DTEND;TZID=UTC:20240521T190000
DTSTAMP:20260423T070703
CREATED:20240423T054724Z
LAST-MODIFIED:20240423T054820Z
UID:10743-1716314400-1716318000@ptv-solingen.de
SUMMARY:NEU Sportgruppe „Mindfull Combat“ im PTV
DESCRIPTION:MINDFUL COMBAT im PTV\nKörper\, Gedanken\, Gefühle und Handlungen arbeiten zusammen\,\num unser Wohlbefinden zu beeinflussen. \nHerr Talsik bietet ab dem 09.04.2024 eine Sportgruppe im PTV an.\nDienstags von 18 bis 19 Uhr in der Kölner Straße 1 im Dachgeschoss des\nSozialpsychiatrischen Zentrum.\nEs gibt kaum Voraussetzungen für die Teilnahme\, Jede*r kann mitmachen.\nWenn Du Spaß an Sport hast\, melde Dich gerne.\nDieses Angebot ist für die Gruppenteilnehmenden kostenfrei!\nWeitere Informationen und Anmeldung am Runden Tisch unter\nTelefon: 0212 248 21 59 \nMINDFUL COMBAT beschreibt den achtsamen Umgang mit sich selbst\, den Kampf gegen die Krankheit\, den Kampf für ein bewussteres Leben und die Inspiration\, um das Beste aus sich heraus zu holen.\nEs ist ein Training\, dass Dich da abholt wo Du bist -mit achtsamen und Ausdauer-Anteilen und einem Mix aus verschiedenen Kampfsportarten.\nAuf mögliche Einschränkungen wird individuell Rücksicht genommen. Wenn gewünscht\, unterstütze ich dabei\, aus der Gruppe heraus ein weiterführendes und langfristiges Sportangebot in Solingen zu finden.\nFür weitere Informationen zum Training und zum Trainer besuche www.hasn-inspire.de und für Interesse an der Teilnahme melde Dich direkt am Runden Tisch. \nDer Flyer als PDF zum Ausdrucken.
URL:https://ptv-solingen.de/event/neu-sportgruppe-mindfull-combat-im-ptv-duplicate-1-5/
LOCATION:Kölner Straße\, Kölner Straße 1\, Solingen\, 42651\, Deutschland
ATTACH;FMTTYPE=image/jpeg:https://ptv-solingen.de/wp-content/uploads/2024/03/combat-scaled.jpg
ORGANIZER;CN="Psychosozialer Tr%C3%A4gerverein Solingen e.V.":MAILTO:info@ptv-solingen.de
END:VEVENT
BEGIN:VEVENT
DTSTART;TZID=UTC:20240528T180000
DTEND;TZID=UTC:20240528T190000
DTSTAMP:20260423T070703
CREATED:20240423T061038Z
LAST-MODIFIED:20240528T143209Z
UID:10755-1716919200-1716922800@ptv-solingen.de
SUMMARY:NEU Sportgruppe „Mindfull Combat“ im PTV
DESCRIPTION:MINDFUL COMBAT im PTV\nKörper\, Gedanken\, Gefühle und Handlungen arbeiten zusammen\,\num unser Wohlbefinden zu beeinflussen. \nHerr Talsik bietet ab dem 09.04.2024 eine Sportgruppe im PTV an.\nDienstags von 18 bis 19 Uhr in der Kölner Straße 1 im Dachgeschoss des\nSozialpsychiatrischen Zentrum.\nEs gibt kaum Voraussetzungen für die Teilnahme\, Jede*r kann mitmachen.\nWenn Du Spaß an Sport hast\, melde Dich gerne.\nDieses Angebot ist für die Gruppenteilnehmenden kostenfrei!\nWeitere Informationen und Anmeldung am Runden Tisch unter\nTelefon: 0212 248 21 59 \nMINDFUL COMBAT beschreibt den achtsamen Umgang mit sich selbst\, den Kampf gegen die Krankheit\, den Kampf für ein bewussteres Leben und die Inspiration\, um das Beste aus sich heraus zu holen.\nEs ist ein Training\, dass Dich da abholt wo Du bist -mit achtsamen und Ausdauer-Anteilen und einem Mix aus verschiedenen Kampfsportarten.\nAuf mögliche Einschränkungen wird individuell Rücksicht genommen. Wenn gewünscht\, unterstütze ich dabei\, aus der Gruppe heraus ein weiterführendes und langfristiges Sportangebot in Solingen zu finden.\nFür weitere Informationen zum Training und zum Trainer besuche www.hasn-inspire.de und für Interesse an der Teilnahme melde Dich direkt am Runden Tisch. \nDer 
URL:https://ptv-solingen.de/event/neu-sportgruppe-mindfull-combat-im-ptv-duplicate-1-6/
LOCATION:Kölner Straße\, Kölner Straße 1\, Solingen\, 42651\, Deutschland
ATTACH;FMTTYPE=image/jpeg:https://ptv-solingen.de/wp-content/uploads/2024/03/combat-scaled.jpg
ORGANIZER;CN="Psychosozialer Tr%C3%A4gerverein Solingen e.V.":MAILTO:info@ptv-solingen.de
END:VEVENT
END:VCALENDAR