BEGIN:VCALENDAR
VERSION:2.0
PRODID:-//Psychosozialer Trägerverein Solingen e. V. - ECPv6.15.12.2//NONSGML v1.0//EN
CALSCALE:GREGORIAN
METHOD:PUBLISH
X-ORIGINAL-URL:https://ptv-solingen.de
X-WR-CALDESC:Veranstaltungen für Psychosozialer Trägerverein Solingen e. V.
REFRESH-INTERVAL;VALUE=DURATION:PT1H
X-Robots-Tag:noindex
X-PUBLISHED-TTL:PT1H
BEGIN:VTIMEZONE
TZID:UTC
BEGIN:STANDARD
TZOFFSETFROM:+0000
TZOFFSETTO:+0000
TZNAME:UTC
DTSTART:20250101T000000
END:STANDARD
END:VTIMEZONE
BEGIN:VEVENT
DTSTART;TZID=UTC:20260304T093000
DTEND;TZID=UTC:20260304T110000
DTSTAMP:20260420T144707
CREATED:20260223T062801Z
LAST-MODIFIED:20260223T062801Z
UID:13400-1772616600-1772622000@ptv-solingen.de
SUMMARY:Recovery Gruppe
DESCRIPTION:Ab Mittwoch\, den 30.10. bieten wir\, die Peer-Beratung Euch 14-tägig eine neue\, ambulante Gruppe an.\nIhr habt die Möglichkeit die Themen selbst zu bestimmen und mit anderen Erfahrenen und uns\, darüber ins Gespräch zu kommen. \nEs sind noch Plätze frei. \nIhr seid unsicher oder habt noch Fragen? Meldet Euch gerne. Wir freuen uns auf Euch. \n\n\n\nWann?\nAb 30.10.24\, 09.30 – 11.00 Uhr\, alle 14 Tage\n\n\nWo?\nKölner Str. 6\n\n\nMuss ich mich anmelden?\nJa\, bitte per Mail unter sebastian.schroeter@ptv-solingen.de oder telefonisch unter 24821-269 (Mo.- Do.)\n\n\nWie groß ist die Gruppe?\nDie Gruppe besteht maximal aus 10 Teilnehmenden.\n\n\nWer kann teilnehmen?\nDas Angebot richtet sich an Menschen zwischen 18 und 65\, die u.a. auf einen Therapieplatz warten\, darauf in eine Klinik/Tagesklinik aufgenommen zu werden oder sich einfach mit ihren individuellen Genesungsthemen beschäftigen möchten.
URL:https://ptv-solingen.de/event/recovery-gruppe-17/
LOCATION:Kölner Straße\, Kölner Straße 1\, Solingen\, 42651\, Deutschland
ATTACH;FMTTYPE=image/png:https://ptv-solingen.de/wp-content/uploads/2024/10/recovery-e1732003346371.png
ORGANIZER;CN="Psychosozialer Tr%C3%A4gerverein Solingen e.V.":MAILTO:info@ptv-solingen.de
END:VEVENT
BEGIN:VEVENT
DTSTART;TZID=UTC:20260318T093000
DTEND;TZID=UTC:20260318T110000
DTSTAMP:20260420T144707
CREATED:20260223T080616Z
LAST-MODIFIED:20260223T080616Z
UID:13436-1773826200-1773831600@ptv-solingen.de
SUMMARY:Recovery Gruppe
DESCRIPTION:Ab Mittwoch\, den 30.10. bieten wir\, die Peer-Beratung Euch 14-tägig eine neue\, ambulante Gruppe an.\nIhr habt die Möglichkeit die Themen selbst zu bestimmen und mit anderen Erfahrenen und uns\, darüber ins Gespräch zu kommen. \nEs sind noch Plätze frei. \nIhr seid unsicher oder habt noch Fragen? Meldet Euch gerne. Wir freuen uns auf Euch. \n\n\n\nWann?\nAb 30.10.24\, 09.30 – 11.00 Uhr\, alle 14 Tage\n\n\nWo?\nKölner Str. 6\n\n\nMuss ich mich anmelden?\nJa\, bitte per Mail unter sebastian.schroeter@ptv-solingen.de oder telefonisch unter 24821-269 (Mo.- Do.)\n\n\nWie groß ist die Gruppe?\nDie Gruppe besteht maximal aus 10 Teilnehmenden.\n\n\nWer kann teilnehmen?\nDas Angebot richtet sich an Menschen zwischen 18 und 65\, die u.a. auf einen Therapieplatz warten\, darauf in eine Klinik/Tagesklinik aufgenommen zu werden oder sich einfach mit ihren individuellen Genesungsthemen beschäftigen möchten.
URL:https://ptv-solingen.de/event/recovery-gruppe-18/
LOCATION:Kölner Straße\, Kölner Straße 1\, Solingen\, 42651\, Deutschland
ATTACH;FMTTYPE=image/png:https://ptv-solingen.de/wp-content/uploads/2024/10/recovery-e1732003346371.png
ORGANIZER;CN="Psychosozialer Tr%C3%A4gerverein Solingen e.V.":MAILTO:info@ptv-solingen.de
END:VEVENT
END:VCALENDAR