BEGIN:VCALENDAR
VERSION:2.0
PRODID:-//Psychosozialer Trägerverein Solingen e. V. - ECPv6.15.12.2//NONSGML v1.0//EN
CALSCALE:GREGORIAN
METHOD:PUBLISH
X-WR-CALNAME:Psychosozialer Trägerverein Solingen e. V.
X-ORIGINAL-URL:https://ptv-solingen.de
X-WR-CALDESC:Veranstaltungen für Psychosozialer Trägerverein Solingen e. V.
REFRESH-INTERVAL;VALUE=DURATION:PT1H
X-Robots-Tag:noindex
X-PUBLISHED-TTL:PT1H
BEGIN:VTIMEZONE
TZID:UTC
BEGIN:STANDARD
TZOFFSETFROM:+0000
TZOFFSETTO:+0000
TZNAME:UTC
DTSTART:20240101T000000
END:STANDARD
END:VTIMEZONE
BEGIN:VEVENT
DTSTART;TZID=UTC:20250903T093000
DTEND;TZID=UTC:20250903T110000
DTSTAMP:20260420T234442
CREATED:20250903T055828Z
LAST-MODIFIED:20250903T055828Z
UID:12772-1756891800-1756897200@ptv-solingen.de
SUMMARY:Recovery Gruppe
DESCRIPTION:Ab Mittwoch\, den 30.10. bieten wir\, die Peer-Beratung Euch 14-tägig eine neue\, ambulante Gruppe an.\nIhr habt die Möglichkeit die Themen selbst zu bestimmen und mit anderen Erfahrenen und uns\, darüber ins Gespräch zu kommen. \nEs sind noch Plätze frei. \nIhr seid unsicher oder habt noch Fragen? Meldet Euch gerne. Wir freuen uns auf Euch. \n\n\n\nWann?\nAb 30.10.24\, 09.30 – 11.00 Uhr\, alle 14 Tage\n\n\nWo?\nKölner Str. 6\n\n\nMuss ich mich anmelden?\nJa\, bitte per Mail unter sebastian.schroeter@ptv-solingen.de oder telefonisch unter 24821-269 (Mo.- Do.)\n\n\nWie groß ist die Gruppe?\nDie Gruppe besteht maximal aus 10 Teilnehmenden.\n\n\nWer kann teilnehmen?\nDas Angebot richtet sich an Menschen zwischen 18 und 65\, die u.a. auf einen Therapieplatz warten\, darauf in eine Klinik/Tagesklinik aufgenommen zu werden oder sich einfach mit ihren individuellen Genesungsthemen beschäftigen möchten.
URL:https://ptv-solingen.de/event/recovery-gruppe-6/
LOCATION:Kölner Straße\, Kölner Straße 1\, Solingen\, 42651\, Deutschland
ATTACH;FMTTYPE=image/png:https://ptv-solingen.de/wp-content/uploads/2024/10/recovery-e1732003346371.png
ORGANIZER;CN="Psychosozialer Tr%C3%A4gerverein Solingen e.V.":MAILTO:info@ptv-solingen.de
END:VEVENT
BEGIN:VEVENT
DTSTART;TZID=UTC:20250917T093000
DTEND;TZID=UTC:20250917T110000
DTSTAMP:20260420T234442
CREATED:20250903T074906Z
LAST-MODIFIED:20250903T074906Z
UID:12813-1758101400-1758106800@ptv-solingen.de
SUMMARY:Recovery Gruppe
DESCRIPTION:Ab Mittwoch\, den 30.10. bieten wir\, die Peer-Beratung Euch 14-tägig eine neue\, ambulante Gruppe an.\nIhr habt die Möglichkeit die Themen selbst zu bestimmen und mit anderen Erfahrenen und uns\, darüber ins Gespräch zu kommen. \nEs sind noch Plätze frei. \nIhr seid unsicher oder habt noch Fragen? Meldet Euch gerne. Wir freuen uns auf Euch. \n\n\n\nWann?\nAb 30.10.24\, 09.30 – 11.00 Uhr\, alle 14 Tage\n\n\nWo?\nKölner Str. 6\n\n\nMuss ich mich anmelden?\nJa\, bitte per Mail unter sebastian.schroeter@ptv-solingen.de oder telefonisch unter 24821-269 (Mo.- Do.)\n\n\nWie groß ist die Gruppe?\nDie Gruppe besteht maximal aus 10 Teilnehmenden.\n\n\nWer kann teilnehmen?\nDas Angebot richtet sich an Menschen zwischen 18 und 65\, die u.a. auf einen Therapieplatz warten\, darauf in eine Klinik/Tagesklinik aufgenommen zu werden oder sich einfach mit ihren individuellen Genesungsthemen beschäftigen möchten.
URL:https://ptv-solingen.de/event/recovery-gruppe-7/
LOCATION:Kölner Straße\, Kölner Straße 1\, Solingen\, 42651\, Deutschland
ATTACH;FMTTYPE=image/png:https://ptv-solingen.de/wp-content/uploads/2024/10/recovery-e1732003346371.png
ORGANIZER;CN="Psychosozialer Tr%C3%A4gerverein Solingen e.V.":MAILTO:info@ptv-solingen.de
END:VEVENT
BEGIN:VEVENT
DTSTART;TZID=UTC:20250924T153000
DTEND;TZID=UTC:20250924T173000
DTSTAMP:20260420T234442
CREATED:20250903T082121Z
LAST-MODIFIED:20250903T082759Z
UID:12844-1758727800-1758735000@ptv-solingen.de
SUMMARY:Trialog "Gesichter statt Etiketten"
DESCRIPTION:Wir laden Euch herzlich zum Gesprächskreis auf Augenhöhe ein. \nEgal ob Ihr selbst von psychischen Erkrankungen betroffene Menschen\, An-/ und Zugehörige oder Mitarbeitende des psychiatrischen Hilfesystems seid – wir freuen uns auf Euch.\nAuch wenn es sich um einen Gesprächskreis handelt\, ist wie immer „nur“ zuhören ausdrücklich erlaubt. \nDieses Mal zum Thema:\n„Gesichter statt Etiketten“\nStigmatisierung? Wir reden darüber! \nWann?\nMittwoch\, 24. September ´25 \n15.30 bis 17.30 Uhr \nWo?\nIn den Räumen des Runden Tischs / Kölner Str. 1 \nDie Veranstaltung ist auf 18 Personen begrenzt\, daher bitten wir um Anmeldung bei den Kollegen vom Runden Tisch unter der Rufnummer 24821-51; oder direkt vor Ort auf der Kölner Str. 1. \nHabt Ihr noch Fragen? Schreibt uns gerne eine Mail an: \npeerberatung@ptv-solingen.de \nUnd hier noch der Flyer zum Download.
URL:https://ptv-solingen.de/event/trialog-gesichter-statt-etiketten/
LOCATION:Kölner Straße\, Kölner Straße 1\, Solingen\, 42651\, Deutschland
ATTACH;FMTTYPE=image/png:https://ptv-solingen.de/wp-content/uploads/2025/09/Screenshot-2025-09-03-101809.png
ORGANIZER;CN="Psychosozialer Tr%C3%A4gerverein Solingen e.V.":MAILTO:info@ptv-solingen.de
END:VEVENT
END:VCALENDAR