BEGIN:VCALENDAR
VERSION:2.0
PRODID:-//Psychosozialer Trägerverein Solingen e. V. - ECPv6.15.12.2//NONSGML v1.0//EN
CALSCALE:GREGORIAN
METHOD:PUBLISH
X-ORIGINAL-URL:https://ptv-solingen.de
X-WR-CALDESC:Veranstaltungen für Psychosozialer Trägerverein Solingen e. V.
REFRESH-INTERVAL;VALUE=DURATION:PT1H
X-Robots-Tag:noindex
X-PUBLISHED-TTL:PT1H
BEGIN:VTIMEZONE
TZID:UTC
BEGIN:STANDARD
TZOFFSETFROM:+0000
TZOFFSETTO:+0000
TZNAME:UTC
DTSTART:20240101T000000
END:STANDARD
END:VTIMEZONE
BEGIN:VEVENT
DTSTART;TZID=UTC:20250402T093000
DTEND;TZID=UTC:20250402T110000
DTSTAMP:20260421T070129
CREATED:20250221T093558Z
LAST-MODIFIED:20250221T093558Z
UID:12010-1743586200-1743591600@ptv-solingen.de
SUMMARY:NEU Recovery Gruppe
DESCRIPTION:Ab Mittwoch\, den 30.10. bieten wir\, die Peer-Beratung Euch 14-tägig eine neue\, ambulante Gruppe an.\nIhr habt die Möglichkeit die Themen selbst zu bestimmen und mit anderen Erfahrenen und uns\, darüber ins Gespräch zu kommen. \nEs sind noch Plätze frei. \nIhr seid unsicher oder habt noch Fragen? Meldet Euch gerne. Wir freuen uns auf Euch. \n\n\n\nWann?\nAb 30.10.24\, 09.30 – 11.00 Uhr\, alle 14 Tage\n\n\nWo?\nKölner Str. 6\n\n\nMuss ich mich anmelden?\nJa\, bitte per Mail unter sebastian.schroeter@ptv-solingen.de oder telefonisch unter 24821-269 (Mo.- Do.)\n\n\nWie groß ist die Gruppe?\nDie Gruppe besteht maximal aus 10 Teilnehmenden.\n\n\nWer kann teilnehmen?\nDas Angebot richtet sich an Menschen zwischen 18 und 65\, die u.a. auf einen Therapieplatz warten\, darauf in eine Klinik/Tagesklinik aufgenommen zu werden oder sich einfach mit ihren individuellen Genesungsthemen beschäftigen möchten.
URL:https://ptv-solingen.de/event/neu-recovery-gruppe-11/
LOCATION:Kölner Straße\, Kölner Straße 1\, Solingen\, 42651\, Deutschland
ATTACH;FMTTYPE=image/png:https://ptv-solingen.de/wp-content/uploads/2024/10/recovery-e1732003346371.png
ORGANIZER;CN="Psychosozialer Tr%C3%A4gerverein Solingen e.V.":MAILTO:info@ptv-solingen.de
END:VEVENT
BEGIN:VEVENT
DTSTART;TZID=UTC:20250405T110000
DTEND;TZID=UTC:20250405T120000
DTSTAMP:20260421T070129
CREATED:20250325T081802Z
LAST-MODIFIED:20250325T081802Z
UID:12140-1743850800-1743854400@ptv-solingen.de
SUMMARY:Sportgruppe „Mindful Combat“ im PTV
DESCRIPTION:MINDFUL COMBAT im PTV\nKörper\, Gedanken\, Gefühle und Handlungen arbeiten zusammen\,\num unser Wohlbefinden zu beeinflussen. \nHerr Talsik bietet ab dem 09.04.2024 eine Sportgruppe im PTV an.\nDienstags von 18 bis 19 Uhr in der Kölner Straße 1 im Dachgeschoss des\nSozialpsychiatrischen Zentrum. \nUpdate Oktober 2024\nAb der Kalenderwoche 42 findet Mindful Combat samstags ab 11 Uhr statt. \nEs gibt kaum Voraussetzungen für die Teilnahme\, jede*r kann mitmachen.\nWenn Du Spaß an Sport hast\, melde Dich gerne.\nDieses Angebot ist für die Gruppenteilnehmenden kostenfrei!\nWeitere Informationen und Anmeldung am Runden Tisch unter\nTelefon: 0212 248 21 59 \nMINDFUL COMBAT beschreibt den achtsamen Umgang mit sich selbst\, den Kampf gegen die Krankheit\, den Kampf für ein bewussteres Leben und die Inspiration\, um das Beste aus sich heraus zu holen.\nEs ist ein Training\, dass Dich da abholt\, wo Du bist -mit achtsamen und Ausdauer-Anteilen und einem Mix aus verschiedenen Kampfsportarten.\nAuf mögliche Einschränkungen wird individuell Rücksicht genommen. Wenn gewünscht\, unterstütze ich dabei\, aus der Gruppe heraus ein weiterführendes und langfristiges Sportangebot in Solingen zu finden.\nFür weitere Informationen zum Training und zum Trainer besuche www.hasn-inspire.de und für Interesse an der Teilnahme melde Dich direkt am Runden Tisch. \nDer Flyer als PDF zum Ausdrucken.
URL:https://ptv-solingen.de/event/sportgruppe-mindful-combat-im-ptv-26/
LOCATION:Kölner Straße\, Kölner Straße 1\, Solingen\, 42651\, Deutschland
ATTACH;FMTTYPE=image/jpeg:https://ptv-solingen.de/wp-content/uploads/2024/03/combat-scaled.jpg
ORGANIZER;CN="Psychosozialer Tr%C3%A4gerverein Solingen e.V.":MAILTO:info@ptv-solingen.de
END:VEVENT
BEGIN:VEVENT
DTSTART;TZID=UTC:20250412T110000
DTEND;TZID=UTC:20250412T120000
DTSTAMP:20260421T070129
CREATED:20250325T083707Z
LAST-MODIFIED:20250325T083707Z
UID:12158-1744455600-1744459200@ptv-solingen.de
SUMMARY:Sportgruppe „Mindful Combat“ im PTV
DESCRIPTION:MINDFUL COMBAT im PTV\nKörper\, Gedanken\, Gefühle und Handlungen arbeiten zusammen\,\num unser Wohlbefinden zu beeinflussen. \nHerr Talsik bietet ab dem 09.04.2024 eine Sportgruppe im PTV an.\nDienstags von 18 bis 19 Uhr in der Kölner Straße 1 im Dachgeschoss des\nSozialpsychiatrischen Zentrum. \nUpdate Oktober 2024\nAb der Kalenderwoche 42 findet Mindful Combat samstags ab 11 Uhr statt. \nEs gibt kaum Voraussetzungen für die Teilnahme\, jede*r kann mitmachen.\nWenn Du Spaß an Sport hast\, melde Dich gerne.\nDieses Angebot ist für die Gruppenteilnehmenden kostenfrei!\nWeitere Informationen und Anmeldung am Runden Tisch unter\nTelefon: 0212 248 21 59 \nMINDFUL COMBAT beschreibt den achtsamen Umgang mit sich selbst\, den Kampf gegen die Krankheit\, den Kampf für ein bewussteres Leben und die Inspiration\, um das Beste aus sich heraus zu holen.\nEs ist ein Training\, dass Dich da abholt\, wo Du bist -mit achtsamen und Ausdauer-Anteilen und einem Mix aus verschiedenen Kampfsportarten.\nAuf mögliche Einschränkungen wird individuell Rücksicht genommen. Wenn gewünscht\, unterstütze ich dabei\, aus der Gruppe heraus ein weiterführendes und langfristiges Sportangebot in Solingen zu finden.\nFür weitere Informationen zum Training und zum Trainer besuche www.hasn-inspire.de und für Interesse an der Teilnahme melde Dich direkt am Runden Tisch. \nDer Flyer als PDF zum Ausdrucken.
URL:https://ptv-solingen.de/event/sportgruppe-mindful-combat-im-ptv-27/
LOCATION:Kölner Straße\, Kölner Straße 1\, Solingen\, 42651\, Deutschland
ATTACH;FMTTYPE=image/jpeg:https://ptv-solingen.de/wp-content/uploads/2024/03/combat-scaled.jpg
ORGANIZER;CN="Psychosozialer Tr%C3%A4gerverein Solingen e.V.":MAILTO:info@ptv-solingen.de
END:VEVENT
BEGIN:VEVENT
DTSTART;TZID=UTC:20250416T093000
DTEND;TZID=UTC:20250416T110000
DTSTAMP:20260421T070129
CREATED:20250325T083143Z
LAST-MODIFIED:20250325T090032Z
UID:12150-1744795800-1744801200@ptv-solingen.de
SUMMARY:NEU Recovery Gruppe
DESCRIPTION:Ab Mittwoch\, den 30.10. bieten wir\, die Peer-Beratung Euch 14-tägig eine neue\, ambulante Gruppe an.\nIhr habt die Möglichkeit die Themen selbst zu bestimmen und mit anderen Erfahrenen und uns\, darüber ins Gespräch zu kommen. \nEs sind noch Plätze frei. \nIhr seid unsicher oder habt noch Fragen? Meldet Euch gerne. Wir freuen uns auf Euch. \n\n\n\nWann?\nAb 30.10.24\, 09.30 – 11.00 Uhr\, alle 14 Tage\n\n\nWo?\nKölner Str. 6\n\n\nMuss ich mich anmelden?\nJa\, bitte per Mail unter sebastian.schroeter@ptv-solingen.de oder telefonisch unter 24821-269 (Mo.- Do.)\n\n\nWie groß ist die Gruppe?\nDie Gruppe besteht maximal aus 10 Teilnehmenden.\n\n\nWer kann teilnehmen?\nDas Angebot richtet sich an Menschen zwischen 18 und 65\, die u.a. auf einen Therapieplatz warten\, darauf in eine Klinik/Tagesklinik aufgenommen zu werden oder sich einfach mit ihren individuellen Genesungsthemen beschäftigen möchten.
URL:https://ptv-solingen.de/event/neu-recovery-gruppe-12/
LOCATION:Kölner Straße\, Kölner Straße 1\, Solingen\, 42651\, Deutschland
ATTACH;FMTTYPE=image/png:https://ptv-solingen.de/wp-content/uploads/2024/10/recovery-e1732003346371.png
ORGANIZER;CN="Psychosozialer Tr%C3%A4gerverein Solingen e.V.":MAILTO:info@ptv-solingen.de
END:VEVENT
BEGIN:VEVENT
DTSTART;TZID=UTC:20250419T110000
DTEND;TZID=UTC:20250419T120000
DTSTAMP:20260421T070129
CREATED:20250325T085407Z
LAST-MODIFIED:20250325T085407Z
UID:12172-1745060400-1745064000@ptv-solingen.de
SUMMARY:Sportgruppe „Mindful Combat“ im PTV
DESCRIPTION:MINDFUL COMBAT im PTV\nKörper\, Gedanken\, Gefühle und Handlungen arbeiten zusammen\,\num unser Wohlbefinden zu beeinflussen. \nHerr Talsik bietet ab dem 09.04.2024 eine Sportgruppe im PTV an.\nDienstags von 18 bis 19 Uhr in der Kölner Straße 1 im Dachgeschoss des\nSozialpsychiatrischen Zentrum. \nUpdate Oktober 2024\nAb der Kalenderwoche 42 findet Mindful Combat samstags ab 11 Uhr statt. \nEs gibt kaum Voraussetzungen für die Teilnahme\, jede*r kann mitmachen.\nWenn Du Spaß an Sport hast\, melde Dich gerne.\nDieses Angebot ist für die Gruppenteilnehmenden kostenfrei!\nWeitere Informationen und Anmeldung am Runden Tisch unter\nTelefon: 0212 248 21 59 \nMINDFUL COMBAT beschreibt den achtsamen Umgang mit sich selbst\, den Kampf gegen die Krankheit\, den Kampf für ein bewussteres Leben und die Inspiration\, um das Beste aus sich heraus zu holen.\nEs ist ein Training\, dass Dich da abholt\, wo Du bist -mit achtsamen und Ausdauer-Anteilen und einem Mix aus verschiedenen Kampfsportarten.\nAuf mögliche Einschränkungen wird individuell Rücksicht genommen. Wenn gewünscht\, unterstütze ich dabei\, aus der Gruppe heraus ein weiterführendes und langfristiges Sportangebot in Solingen zu finden.\nFür weitere Informationen zum Training und zum Trainer besuche www.hasn-inspire.de und für Interesse an der Teilnahme melde Dich direkt am Runden Tisch. \nDer Flyer als PDF zum Ausdrucken.
URL:https://ptv-solingen.de/event/sportgruppe-mindful-combat-im-ptv-28/
LOCATION:Kölner Straße\, Kölner Straße 1\, Solingen\, 42651\, Deutschland
ATTACH;FMTTYPE=image/jpeg:https://ptv-solingen.de/wp-content/uploads/2024/03/combat-scaled.jpg
ORGANIZER;CN="Psychosozialer Tr%C3%A4gerverein Solingen e.V.":MAILTO:info@ptv-solingen.de
END:VEVENT
BEGIN:VEVENT
DTSTART;TZID=UTC:20250426T110000
DTEND;TZID=UTC:20250426T120000
DTSTAMP:20260421T070129
CREATED:20250325T085756Z
LAST-MODIFIED:20250325T085756Z
UID:12178-1745665200-1745668800@ptv-solingen.de
SUMMARY:Sportgruppe „Mindful Combat“ im PTV
DESCRIPTION:MINDFUL COMBAT im PTV\nKörper\, Gedanken\, Gefühle und Handlungen arbeiten zusammen\,\num unser Wohlbefinden zu beeinflussen. \nHerr Talsik bietet ab dem 09.04.2024 eine Sportgruppe im PTV an.\nDienstags von 18 bis 19 Uhr in der Kölner Straße 1 im Dachgeschoss des\nSozialpsychiatrischen Zentrum. \nUpdate Oktober 2024\nAb der Kalenderwoche 42 findet Mindful Combat samstags ab 11 Uhr statt. \nEs gibt kaum Voraussetzungen für die Teilnahme\, jede*r kann mitmachen.\nWenn Du Spaß an Sport hast\, melde Dich gerne.\nDieses Angebot ist für die Gruppenteilnehmenden kostenfrei!\nWeitere Informationen und Anmeldung am Runden Tisch unter\nTelefon: 0212 248 21 59 \nMINDFUL COMBAT beschreibt den achtsamen Umgang mit sich selbst\, den Kampf gegen die Krankheit\, den Kampf für ein bewussteres Leben und die Inspiration\, um das Beste aus sich heraus zu holen.\nEs ist ein Training\, dass Dich da abholt\, wo Du bist -mit achtsamen und Ausdauer-Anteilen und einem Mix aus verschiedenen Kampfsportarten.\nAuf mögliche Einschränkungen wird individuell Rücksicht genommen. Wenn gewünscht\, unterstütze ich dabei\, aus der Gruppe heraus ein weiterführendes und langfristiges Sportangebot in Solingen zu finden.\nFür weitere Informationen zum Training und zum Trainer besuche www.hasn-inspire.de und für Interesse an der Teilnahme melde Dich direkt am Runden Tisch. \nDer Flyer als PDF zum Ausdrucken.
URL:https://ptv-solingen.de/event/sportgruppe-mindful-combat-im-ptv-29/
LOCATION:Kölner Straße\, Kölner Straße 1\, Solingen\, 42651\, Deutschland
ATTACH;FMTTYPE=image/jpeg:https://ptv-solingen.de/wp-content/uploads/2024/03/combat-scaled.jpg
ORGANIZER;CN="Psychosozialer Tr%C3%A4gerverein Solingen e.V.":MAILTO:info@ptv-solingen.de
END:VEVENT
BEGIN:VEVENT
DTSTART;TZID=UTC:20250430T093000
DTEND;TZID=UTC:20250430T110000
DTSTAMP:20260421T070129
CREATED:20250325T090124Z
LAST-MODIFIED:20250325T090124Z
UID:12182-1746005400-1746010800@ptv-solingen.de
SUMMARY:NEU Recovery Gruppe
DESCRIPTION:Ab Mittwoch\, den 30.10. bieten wir\, die Peer-Beratung Euch 14-tägig eine neue\, ambulante Gruppe an.\nIhr habt die Möglichkeit die Themen selbst zu bestimmen und mit anderen Erfahrenen und uns\, darüber ins Gespräch zu kommen. \nEs sind noch Plätze frei. \nIhr seid unsicher oder habt noch Fragen? Meldet Euch gerne. Wir freuen uns auf Euch. \n\n\n\nWann?\nAb 30.10.24\, 09.30 – 11.00 Uhr\, alle 14 Tage\n\n\nWo?\nKölner Str. 6\n\n\nMuss ich mich anmelden?\nJa\, bitte per Mail unter sebastian.schroeter@ptv-solingen.de oder telefonisch unter 24821-269 (Mo.- Do.)\n\n\nWie groß ist die Gruppe?\nDie Gruppe besteht maximal aus 10 Teilnehmenden.\n\n\nWer kann teilnehmen?\nDas Angebot richtet sich an Menschen zwischen 18 und 65\, die u.a. auf einen Therapieplatz warten\, darauf in eine Klinik/Tagesklinik aufgenommen zu werden oder sich einfach mit ihren individuellen Genesungsthemen beschäftigen möchten.
URL:https://ptv-solingen.de/event/neu-recovery-gruppe-13/
LOCATION:Kölner Straße\, Kölner Straße 1\, Solingen\, 42651\, Deutschland
ATTACH;FMTTYPE=image/png:https://ptv-solingen.de/wp-content/uploads/2024/10/recovery-e1732003346371.png
ORGANIZER;CN="Psychosozialer Tr%C3%A4gerverein Solingen e.V.":MAILTO:info@ptv-solingen.de
END:VEVENT
END:VCALENDAR