BEGIN:VCALENDAR
VERSION:2.0
PRODID:-//Psychosozialer Trägerverein Solingen e. V. - ECPv6.15.12.2//NONSGML v1.0//EN
CALSCALE:GREGORIAN
METHOD:PUBLISH
X-ORIGINAL-URL:https://ptv-solingen.de
X-WR-CALDESC:Veranstaltungen für Psychosozialer Trägerverein Solingen e. V.
REFRESH-INTERVAL;VALUE=DURATION:PT1H
X-Robots-Tag:noindex
X-PUBLISHED-TTL:PT1H
BEGIN:VTIMEZONE
TZID:UTC
BEGIN:STANDARD
TZOFFSETFROM:+0000
TZOFFSETTO:+0000
TZNAME:UTC
DTSTART:20240101T000000
END:STANDARD
END:VTIMEZONE
BEGIN:VEVENT
DTSTART;TZID=UTC:20250726T150000
DTEND;TZID=UTC:20250726T150000
DTSTAMP:20260421T064056
CREATED:20250625T083651Z
LAST-MODIFIED:20250627T053700Z
UID:12555-1753542000-1753542000@ptv-solingen.de
SUMMARY:Ausflug zum Klingenpride im Südpark
DESCRIPTION:Am 28.06.2025 fährt der Wohnverbund Neustr./ Hebbelstr. zum Klingenpride im Südpark.\nTreffpunkt ist die Neustr. 34 um 15 Uhr. Zu Fuß geht´s zusammen zum Südpark.  \nGut wäre ein bisschen Geld mitzunehmen\, um sich mit Essen und Trinken versorgen zu können.\nAnmelden kann man sich über den Runden Tisch oder per Mail über wochenendaktivitaeten@ptv-solingen.de.
URL:https://ptv-solingen.de/event/ausflug-zum-klingenpride-im-suedpark/
ATTACH;FMTTYPE=image/jpeg:https://ptv-solingen.de/wp-content/uploads/2025/06/klingenpride.jpg
ORGANIZER;CN="Psychosozialer Tr%C3%A4gerverein Solingen e.V.":MAILTO:info@ptv-solingen.de
END:VEVENT
END:VCALENDAR