BEGIN:VCALENDAR
VERSION:2.0
PRODID:-//Psychosozialer Trägerverein Solingen e. V. - ECPv6.15.12.2//NONSGML v1.0//EN
CALSCALE:GREGORIAN
METHOD:PUBLISH
X-ORIGINAL-URL:https://ptv-solingen.de
X-WR-CALDESC:Veranstaltungen für Psychosozialer Trägerverein Solingen e. V.
REFRESH-INTERVAL;VALUE=DURATION:PT1H
X-Robots-Tag:noindex
X-PUBLISHED-TTL:PT1H
BEGIN:VTIMEZONE
TZID:UTC
BEGIN:STANDARD
TZOFFSETFROM:+0000
TZOFFSETTO:+0000
TZNAME:UTC
DTSTART:20230101T000000
END:STANDARD
END:VTIMEZONE
BEGIN:VEVENT
DTSTART;TZID=UTC:20240502T144500
DTEND;TZID=UTC:20240502T170000
DTSTAMP:20260422T062817
CREATED:20240423T051801Z
LAST-MODIFIED:20240423T051801Z
UID:10705-1714661100-1714669200@ptv-solingen.de
SUMMARY:Gemeinsam Kegeln
DESCRIPTION:Ab sofort jeden ersten Donnerstag im Monat. \nHabt Ihr Lust auf Kegeln? In unseren netten Gemeinschaft macht das sehr viel Spaß. Hierfür treffen wir uns in der Paritätischen Begegnungsstätte Weyerstraße 243. \nEine Anmeldung ist nicht nötig. Kommt einfach vorbei und schaut es Euch an. Jeder ist willkommen. Auch wenn Ihr noch nie gekegelt habt oder einfach mal zuschauen wollt\, jedes Spiel-Niveau kommt hier auf seine Kosten. \nFür unsere Wohnbereiche steht ein Fahrdienst zur Verfügung. Hierfür bitte in Eurem Wohnbereich nachfragen. \nTelefon: 0212 248 21 51
URL:https://ptv-solingen.de/event/gemeinsam-kegeln-duplicate-1-9/
LOCATION:Paritätische Begegnungsstätte Weyerstraße 243\, Weyerstraße 243\, Solingen\, 42659\, Deutschland
ATTACH;FMTTYPE=image/jpeg:https://ptv-solingen.de/wp-content/uploads/2023/05/AdobeStock_192161174-min-scaled.jpeg
ORGANIZER;CN="Psychosozialer Tr%C3%A4gerverein Solingen e.V.":MAILTO:info@ptv-solingen.de
END:VEVENT
END:VCALENDAR