BEGIN:VCALENDAR
VERSION:2.0
PRODID:-//Psychosozialer Trägerverein Solingen e. V. - ECPv6.15.12.2//NONSGML v1.0//EN
CALSCALE:GREGORIAN
METHOD:PUBLISH
X-ORIGINAL-URL:https://ptv-solingen.de
X-WR-CALDESC:Veranstaltungen für Psychosozialer Trägerverein Solingen e. V.
REFRESH-INTERVAL;VALUE=DURATION:PT1H
X-Robots-Tag:noindex
X-PUBLISHED-TTL:PT1H
BEGIN:VTIMEZONE
TZID:UTC
BEGIN:STANDARD
TZOFFSETFROM:+0000
TZOFFSETTO:+0000
TZNAME:UTC
DTSTART:20240101T000000
END:STANDARD
END:VTIMEZONE
BEGIN:VEVENT
DTSTART;TZID=UTC:20250731T150000
DTEND;TZID=UTC:20250731T170000
DTSTAMP:20260424T100531
CREATED:20250625T084346Z
LAST-MODIFIED:20250625T084346Z
UID:12571-1753974000-1753981200@ptv-solingen.de
SUMMARY:Treffen für junge Erwachsene von 18 bis 40 Jahren
DESCRIPTION:Treffen für junge Erwachsene von 18 bis 40 Jahren \nJeden Donnerstag von 15:00 – 17:00 Uhr \nmit Frau Ischebeck\, Frau Noll und Frau Köhler
URL:https://ptv-solingen.de/event/treffen-fuer-junge-erwachsene-von-18-bis-40-jahren-47/
LOCATION:Kölner Straße\, Kölner Straße 1\, Solingen\, 42651\, Deutschland
ATTACH;FMTTYPE=image/jpeg:https://ptv-solingen.de/wp-content/uploads/2021/04/AdobeStock_206183606-scaled.jpeg
ORGANIZER;CN="Psychosozialer Tr%C3%A4gerverein Solingen e.V.":MAILTO:info@ptv-solingen.de
END:VEVENT
BEGIN:VEVENT
DTSTART;TZID=UTC:20250807T150000
DTEND;TZID=UTC:20250807T170000
DTSTAMP:20260424T100531
CREATED:20250728T054949Z
LAST-MODIFIED:20250728T054949Z
UID:12640-1754578800-1754586000@ptv-solingen.de
SUMMARY:Treffen für junge Erwachsene von 18 bis 40 Jahren
DESCRIPTION:Treffen für junge Erwachsene von 18 bis 40 Jahren \nJeden Donnerstag von 15:00 – 17:00 Uhr \nmit Frau Ischebeck\, Frau Noll und Frau Köhler
URL:https://ptv-solingen.de/event/treffen-fuer-junge-erwachsene-von-18-bis-40-jahren-48/
LOCATION:Kölner Straße\, Kölner Straße 1\, Solingen\, 42651\, Deutschland
ATTACH;FMTTYPE=image/jpeg:https://ptv-solingen.de/wp-content/uploads/2021/04/AdobeStock_206183606-scaled.jpeg
ORGANIZER;CN="Psychosozialer Tr%C3%A4gerverein Solingen e.V.":MAILTO:info@ptv-solingen.de
END:VEVENT
BEGIN:VEVENT
DTSTART;TZID=UTC:20250814T150000
DTEND;TZID=UTC:20250814T170000
DTSTAMP:20260424T100531
CREATED:20250728T073950Z
LAST-MODIFIED:20250728T073950Z
UID:12670-1755183600-1755190800@ptv-solingen.de
SUMMARY:Treffen für junge Erwachsene von 18 bis 40 Jahren
DESCRIPTION:Treffen für junge Erwachsene von 18 bis 40 Jahren \nJeden Donnerstag von 15:00 – 17:00 Uhr \nmit Frau Ischebeck\, Frau Noll und Frau Köhler
URL:https://ptv-solingen.de/event/treffen-fuer-junge-erwachsene-von-18-bis-40-jahren-49/
LOCATION:Kölner Straße\, Kölner Straße 1\, Solingen\, 42651\, Deutschland
ATTACH;FMTTYPE=image/jpeg:https://ptv-solingen.de/wp-content/uploads/2021/04/AdobeStock_206183606-scaled.jpeg
ORGANIZER;CN="Psychosozialer Tr%C3%A4gerverein Solingen e.V.":MAILTO:info@ptv-solingen.de
END:VEVENT
BEGIN:VEVENT
DTSTART;TZID=UTC:20250821T150000
DTEND;TZID=UTC:20250821T170000
DTSTAMP:20260424T100531
CREATED:20250728T075708Z
LAST-MODIFIED:20250728T075708Z
UID:12696-1755788400-1755795600@ptv-solingen.de
SUMMARY:Treffen für junge Erwachsene von 18 bis 40 Jahren
DESCRIPTION:Treffen für junge Erwachsene von 18 bis 40 Jahren \nJeden Donnerstag von 15:00 – 17:00 Uhr \nmit Frau Ischebeck\, Frau Noll und Frau Köhler
URL:https://ptv-solingen.de/event/treffen-fuer-junge-erwachsene-von-18-bis-40-jahren-50/
LOCATION:Kölner Straße\, Kölner Straße 1\, Solingen\, 42651\, Deutschland
ATTACH;FMTTYPE=image/jpeg:https://ptv-solingen.de/wp-content/uploads/2021/04/AdobeStock_206183606-scaled.jpeg
ORGANIZER;CN="Psychosozialer Tr%C3%A4gerverein Solingen e.V.":MAILTO:info@ptv-solingen.de
END:VEVENT
BEGIN:VEVENT
DTSTART;TZID=UTC:20250828T150000
DTEND;TZID=UTC:20250828T170000
DTSTAMP:20260424T100531
CREATED:20250728T093310Z
LAST-MODIFIED:20250728T093310Z
UID:12722-1756393200-1756400400@ptv-solingen.de
SUMMARY:Treffen für junge Erwachsene von 18 bis 40 Jahren
DESCRIPTION:Treffen für junge Erwachsene von 18 bis 40 Jahren \nJeden Donnerstag von 15:00 – 17:00 Uhr \nmit Frau Ischebeck\, Frau Noll und Frau Köhler
URL:https://ptv-solingen.de/event/treffen-fuer-junge-erwachsene-von-18-bis-40-jahren-51/
LOCATION:Kölner Straße\, Kölner Straße 1\, Solingen\, 42651\, Deutschland
ATTACH;FMTTYPE=image/jpeg:https://ptv-solingen.de/wp-content/uploads/2021/04/AdobeStock_206183606-scaled.jpeg
ORGANIZER;CN="Psychosozialer Tr%C3%A4gerverein Solingen e.V.":MAILTO:info@ptv-solingen.de
END:VEVENT
BEGIN:VEVENT
DTSTART;TZID=UTC:20250904T150000
DTEND;TZID=UTC:20250904T170000
DTSTAMP:20260424T100531
CREATED:20250903T060152Z
LAST-MODIFIED:20250903T060152Z
UID:12779-1756998000-1757005200@ptv-solingen.de
SUMMARY:Treffen für junge Erwachsene von 18 bis 40 Jahren
DESCRIPTION:Treffen für junge Erwachsene von 18 bis 40 Jahren \nJeden Donnerstag von 15:00 – 17:00 Uhr \nmit Frau Ischebeck\, Frau Noll und Frau Köhler
URL:https://ptv-solingen.de/event/treffen-fuer-junge-erwachsene-von-18-bis-40-jahren-52/
LOCATION:Kölner Straße\, Kölner Straße 1\, Solingen\, 42651\, Deutschland
ATTACH;FMTTYPE=image/jpeg:https://ptv-solingen.de/wp-content/uploads/2021/04/AdobeStock_206183606-scaled.jpeg
ORGANIZER;CN="Psychosozialer Tr%C3%A4gerverein Solingen e.V.":MAILTO:info@ptv-solingen.de
END:VEVENT
BEGIN:VEVENT
DTSTART;TZID=UTC:20250911T150000
DTEND;TZID=UTC:20250911T170000
DTSTAMP:20260424T100531
CREATED:20250903T074207Z
LAST-MODIFIED:20250903T074207Z
UID:12801-1757602800-1757610000@ptv-solingen.de
SUMMARY:Treffen für junge Erwachsene von 18 bis 40 Jahren
DESCRIPTION:Treffen für junge Erwachsene von 18 bis 40 Jahren \nJeden Donnerstag von 15:00 – 17:00 Uhr \nmit Frau Ischebeck\, Frau Noll und Frau Köhler
URL:https://ptv-solingen.de/event/treffen-fuer-junge-erwachsene-von-18-bis-40-jahren-53/
LOCATION:Kölner Straße\, Kölner Straße 1\, Solingen\, 42651\, Deutschland
ATTACH;FMTTYPE=image/jpeg:https://ptv-solingen.de/wp-content/uploads/2021/04/AdobeStock_206183606-scaled.jpeg
ORGANIZER;CN="Psychosozialer Tr%C3%A4gerverein Solingen e.V.":MAILTO:info@ptv-solingen.de
END:VEVENT
BEGIN:VEVENT
DTSTART;TZID=UTC:20250918T150000
DTEND;TZID=UTC:20250918T170000
DTSTAMP:20260424T100531
CREATED:20250903T075037Z
LAST-MODIFIED:20250903T075037Z
UID:12817-1758207600-1758214800@ptv-solingen.de
SUMMARY:Treffen für junge Erwachsene von 18 bis 40 Jahren
DESCRIPTION:Treffen für junge Erwachsene von 18 bis 40 Jahren \nJeden Donnerstag von 15:00 – 17:00 Uhr \nmit Frau Ischebeck\, Frau Noll und Frau Köhler
URL:https://ptv-solingen.de/event/treffen-fuer-junge-erwachsene-von-18-bis-40-jahren-54/
LOCATION:Kölner Straße\, Kölner Straße 1\, Solingen\, 42651\, Deutschland
ATTACH;FMTTYPE=image/jpeg:https://ptv-solingen.de/wp-content/uploads/2021/04/AdobeStock_206183606-scaled.jpeg
ORGANIZER;CN="Psychosozialer Tr%C3%A4gerverein Solingen e.V.":MAILTO:info@ptv-solingen.de
END:VEVENT
BEGIN:VEVENT
DTSTART;TZID=UTC:20250925T150000
DTEND;TZID=UTC:20250925T170000
DTSTAMP:20260424T100531
CREATED:20250903T075740Z
LAST-MODIFIED:20250903T075740Z
UID:12833-1758812400-1758819600@ptv-solingen.de
SUMMARY:Treffen für junge Erwachsene von 18 bis 40 Jahren
DESCRIPTION:Treffen für junge Erwachsene von 18 bis 40 Jahren \nJeden Donnerstag von 15:00 – 17:00 Uhr \nmit Frau Ischebeck\, Frau Noll und Frau Köhler
URL:https://ptv-solingen.de/event/treffen-fuer-junge-erwachsene-von-18-bis-40-jahren-55/
LOCATION:Kölner Straße\, Kölner Straße 1\, Solingen\, 42651\, Deutschland
ATTACH;FMTTYPE=image/jpeg:https://ptv-solingen.de/wp-content/uploads/2021/04/AdobeStock_206183606-scaled.jpeg
ORGANIZER;CN="Psychosozialer Tr%C3%A4gerverein Solingen e.V.":MAILTO:info@ptv-solingen.de
END:VEVENT
BEGIN:VEVENT
DTSTART;TZID=UTC:20251002T150000
DTEND;TZID=UTC:20251002T170000
DTSTAMP:20260424T100531
CREATED:20250922T082157Z
LAST-MODIFIED:20250922T082157Z
UID:12882-1759417200-1759424400@ptv-solingen.de
SUMMARY:Treffen für junge Erwachsene von 18 bis 40 Jahren
DESCRIPTION:Treffen für junge Erwachsene von 18 bis 40 Jahren \nJeden Donnerstag von 15:00 – 17:00 Uhr \nmit Frau Ischebeck\, Frau Noll und Frau Köhler
URL:https://ptv-solingen.de/event/treffen-fuer-junge-erwachsene-von-18-bis-40-jahren-56/
LOCATION:Kölner Straße\, Kölner Straße 1\, Solingen\, 42651\, Deutschland
ATTACH;FMTTYPE=image/jpeg:https://ptv-solingen.de/wp-content/uploads/2021/04/AdobeStock_206183606-scaled.jpeg
ORGANIZER;CN="Psychosozialer Tr%C3%A4gerverein Solingen e.V.":MAILTO:info@ptv-solingen.de
END:VEVENT
BEGIN:VEVENT
DTSTART;TZID=UTC:20251009T150000
DTEND;TZID=UTC:20251009T170000
DTSTAMP:20260424T100531
CREATED:20250923T083851Z
LAST-MODIFIED:20250923T083851Z
UID:12900-1760022000-1760029200@ptv-solingen.de
SUMMARY:Treffen für junge Erwachsene von 18 bis 40 Jahren
DESCRIPTION:Treffen für junge Erwachsene von 18 bis 40 Jahren \nJeden Donnerstag von 15:00 – 17:00 Uhr \nmit Frau Ischebeck\, Frau Noll und Frau Köhler
URL:https://ptv-solingen.de/event/treffen-fuer-junge-erwachsene-von-18-bis-40-jahren-57/
LOCATION:Kölner Straße\, Kölner Straße 1\, Solingen\, 42651\, Deutschland
ATTACH;FMTTYPE=image/jpeg:https://ptv-solingen.de/wp-content/uploads/2021/04/AdobeStock_206183606-scaled.jpeg
ORGANIZER;CN="Psychosozialer Tr%C3%A4gerverein Solingen e.V.":MAILTO:info@ptv-solingen.de
END:VEVENT
BEGIN:VEVENT
DTSTART;TZID=UTC:20251016T150000
DTEND;TZID=UTC:20251016T170000
DTSTAMP:20260424T100531
CREATED:20250924T073135Z
LAST-MODIFIED:20250924T073135Z
UID:12918-1760626800-1760634000@ptv-solingen.de
SUMMARY:Treffen für junge Erwachsene von 18 bis 40 Jahren
DESCRIPTION:Treffen für junge Erwachsene von 18 bis 40 Jahren \nJeden Donnerstag von 15:00 – 17:00 Uhr \nmit Frau Ischebeck\, Frau Noll und Frau Köhler
URL:https://ptv-solingen.de/event/treffen-fuer-junge-erwachsene-von-18-bis-40-jahren-58/
LOCATION:Kölner Straße\, Kölner Straße 1\, Solingen\, 42651\, Deutschland
ATTACH;FMTTYPE=image/jpeg:https://ptv-solingen.de/wp-content/uploads/2021/04/AdobeStock_206183606-scaled.jpeg
ORGANIZER;CN="Psychosozialer Tr%C3%A4gerverein Solingen e.V.":MAILTO:info@ptv-solingen.de
END:VEVENT
BEGIN:VEVENT
DTSTART;TZID=UTC:20251023T150000
DTEND;TZID=UTC:20251023T170000
DTSTAMP:20260424T100531
CREATED:20250925T072323Z
LAST-MODIFIED:20250925T072323Z
UID:12938-1761231600-1761238800@ptv-solingen.de
SUMMARY:Treffen für junge Erwachsene von 18 bis 40 Jahren
DESCRIPTION:Treffen für junge Erwachsene von 18 bis 40 Jahren \nJeden Donnerstag von 15:00 – 17:00 Uhr \nmit Frau Ischebeck\, Frau Noll und Frau Köhler
URL:https://ptv-solingen.de/event/treffen-fuer-junge-erwachsene-von-18-bis-40-jahren-59/
LOCATION:Kölner Straße\, Kölner Straße 1\, Solingen\, 42651\, Deutschland
ATTACH;FMTTYPE=image/jpeg:https://ptv-solingen.de/wp-content/uploads/2021/04/AdobeStock_206183606-scaled.jpeg
ORGANIZER;CN="Psychosozialer Tr%C3%A4gerverein Solingen e.V.":MAILTO:info@ptv-solingen.de
END:VEVENT
BEGIN:VEVENT
DTSTART;TZID=UTC:20251030T150000
DTEND;TZID=UTC:20251030T170000
DTSTAMP:20260424T100531
CREATED:20250925T073625Z
LAST-MODIFIED:20250925T073625Z
UID:12954-1761836400-1761843600@ptv-solingen.de
SUMMARY:Treffen für junge Erwachsene von 18 bis 40 Jahren
DESCRIPTION:Treffen für junge Erwachsene von 18 bis 40 Jahren \nJeden Donnerstag von 15:00 – 17:00 Uhr \nmit Frau Ischebeck\, Frau Noll und Frau Köhler
URL:https://ptv-solingen.de/event/treffen-fuer-junge-erwachsene-von-18-bis-40-jahren-60/
LOCATION:Kölner Straße\, Kölner Straße 1\, Solingen\, 42651\, Deutschland
ATTACH;FMTTYPE=image/jpeg:https://ptv-solingen.de/wp-content/uploads/2021/04/AdobeStock_206183606-scaled.jpeg
ORGANIZER;CN="Psychosozialer Tr%C3%A4gerverein Solingen e.V.":MAILTO:info@ptv-solingen.de
END:VEVENT
BEGIN:VEVENT
DTSTART;TZID=UTC:20251106T150000
DTEND;TZID=UTC:20251106T170000
DTSTAMP:20260424T100531
CREATED:20251103T064000Z
LAST-MODIFIED:20251103T064000Z
UID:13046-1762441200-1762448400@ptv-solingen.de
SUMMARY:Treffen für junge Erwachsene von 18 bis 40 Jahren
DESCRIPTION:Treffen für junge Erwachsene von 18 bis 40 Jahren \nJeden Donnerstag von 15:00 – 17:00 Uhr \nmit Frau Ischebeck\, Frau Noll und Frau Köhler
URL:https://ptv-solingen.de/event/treffen-fuer-junge-erwachsene-von-18-bis-40-jahren-61/
LOCATION:Kölner Straße\, Kölner Straße 1\, Solingen\, 42651\, Deutschland
ATTACH;FMTTYPE=image/jpeg:https://ptv-solingen.de/wp-content/uploads/2021/04/AdobeStock_206183606-scaled.jpeg
ORGANIZER;CN="Psychosozialer Tr%C3%A4gerverein Solingen e.V.":MAILTO:info@ptv-solingen.de
END:VEVENT
BEGIN:VEVENT
DTSTART;TZID=UTC:20251113T150000
DTEND;TZID=UTC:20251113T170000
DTSTAMP:20260424T100531
CREATED:20251103T081139Z
LAST-MODIFIED:20251103T081139Z
UID:13062-1763046000-1763053200@ptv-solingen.de
SUMMARY:Treffen für junge Erwachsene von 18 bis 40 Jahren
DESCRIPTION:Treffen für junge Erwachsene von 18 bis 40 Jahren \nJeden Donnerstag von 15:00 – 17:00 Uhr \nmit Frau Ischebeck\, Frau Noll und Frau Köhler
URL:https://ptv-solingen.de/event/treffen-fuer-junge-erwachsene-von-18-bis-40-jahren-62/
LOCATION:Kölner Straße\, Kölner Straße 1\, Solingen\, 42651\, Deutschland
ATTACH;FMTTYPE=image/jpeg:https://ptv-solingen.de/wp-content/uploads/2021/04/AdobeStock_206183606-scaled.jpeg
ORGANIZER;CN="Psychosozialer Tr%C3%A4gerverein Solingen e.V.":MAILTO:info@ptv-solingen.de
END:VEVENT
BEGIN:VEVENT
DTSTART;TZID=UTC:20251120T150000
DTEND;TZID=UTC:20251120T170000
DTSTAMP:20260424T100531
CREATED:20251103T082235Z
LAST-MODIFIED:20251103T082235Z
UID:13080-1763650800-1763658000@ptv-solingen.de
SUMMARY:Treffen für junge Erwachsene von 18 bis 40 Jahren
DESCRIPTION:Treffen für junge Erwachsene von 18 bis 40 Jahren \nJeden Donnerstag von 15:00 – 17:00 Uhr \nmit Frau Ischebeck\, Frau Noll und Frau Köhler
URL:https://ptv-solingen.de/event/treffen-fuer-junge-erwachsene-von-18-bis-40-jahren-63/
LOCATION:Kölner Straße\, Kölner Straße 1\, Solingen\, 42651\, Deutschland
ATTACH;FMTTYPE=image/jpeg:https://ptv-solingen.de/wp-content/uploads/2021/04/AdobeStock_206183606-scaled.jpeg
ORGANIZER;CN="Psychosozialer Tr%C3%A4gerverein Solingen e.V.":MAILTO:info@ptv-solingen.de
END:VEVENT
BEGIN:VEVENT
DTSTART;TZID=UTC:20251127T150000
DTEND;TZID=UTC:20251127T170000
DTSTAMP:20260424T100531
CREATED:20251103T082636Z
LAST-MODIFIED:20251103T082636Z
UID:13086-1764255600-1764262800@ptv-solingen.de
SUMMARY:Treffen für junge Erwachsene von 18 bis 40 Jahren
DESCRIPTION:Treffen für junge Erwachsene von 18 bis 40 Jahren \nJeden Donnerstag von 15:00 – 17:00 Uhr \nmit Frau Ischebeck\, Frau Noll und Frau Köhler
URL:https://ptv-solingen.de/event/treffen-fuer-junge-erwachsene-von-18-bis-40-jahren-64/
LOCATION:Kölner Straße\, Kölner Straße 1\, Solingen\, 42651\, Deutschland
ATTACH;FMTTYPE=image/jpeg:https://ptv-solingen.de/wp-content/uploads/2021/04/AdobeStock_206183606-scaled.jpeg
ORGANIZER;CN="Psychosozialer Tr%C3%A4gerverein Solingen e.V.":MAILTO:info@ptv-solingen.de
END:VEVENT
BEGIN:VEVENT
DTSTART;TZID=UTC:20251204T150000
DTEND;TZID=UTC:20251204T170000
DTSTAMP:20260424T100531
CREATED:20251117T084937Z
LAST-MODIFIED:20251117T084937Z
UID:13159-1764860400-1764867600@ptv-solingen.de
SUMMARY:Treffen für junge Erwachsene von 18 bis 40 Jahren
DESCRIPTION:Treffen für junge Erwachsene von 18 bis 40 Jahren \nJeden Donnerstag von 15:00 – 17:00 Uhr \nmit Frau Ischebeck\, Frau Noll und Frau Köhler
URL:https://ptv-solingen.de/event/treffen-fuer-junge-erwachsene-von-18-bis-40-jahren-65/
LOCATION:Kölner Straße\, Kölner Straße 1\, Solingen\, 42651\, Deutschland
ATTACH;FMTTYPE=image/jpeg:https://ptv-solingen.de/wp-content/uploads/2021/04/AdobeStock_206183606-scaled.jpeg
ORGANIZER;CN="Psychosozialer Tr%C3%A4gerverein Solingen e.V.":MAILTO:info@ptv-solingen.de
END:VEVENT
BEGIN:VEVENT
DTSTART;TZID=UTC:20251211T150000
DTEND;TZID=UTC:20251211T170000
DTSTAMP:20260424T100531
CREATED:20251117T094920Z
LAST-MODIFIED:20251117T094920Z
UID:13179-1765465200-1765472400@ptv-solingen.de
SUMMARY:Treffen für junge Erwachsene von 18 bis 40 Jahren
DESCRIPTION:Treffen für junge Erwachsene von 18 bis 40 Jahren \nJeden Donnerstag von 15:00 – 17:00 Uhr \nmit Frau Ischebeck\, Frau Noll und Frau Köhler
URL:https://ptv-solingen.de/event/treffen-fuer-junge-erwachsene-von-18-bis-40-jahren-66/
LOCATION:Kölner Straße\, Kölner Straße 1\, Solingen\, 42651\, Deutschland
ATTACH;FMTTYPE=image/jpeg:https://ptv-solingen.de/wp-content/uploads/2021/04/AdobeStock_206183606-scaled.jpeg
ORGANIZER;CN="Psychosozialer Tr%C3%A4gerverein Solingen e.V.":MAILTO:info@ptv-solingen.de
END:VEVENT
BEGIN:VEVENT
DTSTART;TZID=UTC:20251218T150000
DTEND;TZID=UTC:20251218T170000
DTSTAMP:20260424T100531
CREATED:20251118T084241Z
LAST-MODIFIED:20251118T084241Z
UID:13198-1766070000-1766077200@ptv-solingen.de
SUMMARY:Treffen für junge Erwachsene von 18 bis 40 Jahren
DESCRIPTION:Treffen für junge Erwachsene von 18 bis 40 Jahren \nJeden Donnerstag von 15:00 – 17:00 Uhr \nmit Frau Ischebeck\, Frau Noll und Frau Köhler
URL:https://ptv-solingen.de/event/treffen-fuer-junge-erwachsene-von-18-bis-40-jahren-67/
LOCATION:Kölner Straße\, Kölner Straße 1\, Solingen\, 42651\, Deutschland
ATTACH;FMTTYPE=image/jpeg:https://ptv-solingen.de/wp-content/uploads/2021/04/AdobeStock_206183606-scaled.jpeg
ORGANIZER;CN="Psychosozialer Tr%C3%A4gerverein Solingen e.V.":MAILTO:info@ptv-solingen.de
END:VEVENT
BEGIN:VEVENT
DTSTART;TZID=UTC:20260205T150000
DTEND;TZID=UTC:20260205T170000
DTSTAMP:20260424T100531
CREATED:20260123T093548Z
LAST-MODIFIED:20260123T093548Z
UID:13327-1770303600-1770310800@ptv-solingen.de
SUMMARY:Treffen für junge Erwachsene von 18 bis 40 Jahren
DESCRIPTION:Treffen für junge Erwachsene von 18 bis 40 Jahren \nJeden Donnerstag von 15:00 – 17:00 Uhr \nmit Frau Ischebeck\, Frau Noll und Frau Köhler
URL:https://ptv-solingen.de/event/treffen-fuer-junge-erwachsene-von-18-bis-40-jahren-68/
LOCATION:Kölner Straße\, Kölner Straße 1\, Solingen\, 42651\, Deutschland
ATTACH;FMTTYPE=image/jpeg:https://ptv-solingen.de/wp-content/uploads/2021/04/AdobeStock_206183606-scaled.jpeg
ORGANIZER;CN="Psychosozialer Tr%C3%A4gerverein Solingen e.V.":MAILTO:info@ptv-solingen.de
END:VEVENT
BEGIN:VEVENT
DTSTART;TZID=UTC:20260212T150000
DTEND;TZID=UTC:20260212T170000
DTSTAMP:20260424T100531
CREATED:20260127T085117Z
LAST-MODIFIED:20260127T085117Z
UID:13343-1770908400-1770915600@ptv-solingen.de
SUMMARY:Treffen für junge Erwachsene von 18 bis 40 Jahren
DESCRIPTION:Treffen für junge Erwachsene von 18 bis 40 Jahren \nJeden Donnerstag von 15:00 – 17:00 Uhr \nmit Frau Ischebeck\, Frau Noll und Frau Köhler
URL:https://ptv-solingen.de/event/treffen-fuer-junge-erwachsene-von-18-bis-40-jahren-69/
LOCATION:Kölner Straße\, Kölner Straße 1\, Solingen\, 42651\, Deutschland
ATTACH;FMTTYPE=image/jpeg:https://ptv-solingen.de/wp-content/uploads/2021/04/AdobeStock_206183606-scaled.jpeg
ORGANIZER;CN="Psychosozialer Tr%C3%A4gerverein Solingen e.V.":MAILTO:info@ptv-solingen.de
END:VEVENT
BEGIN:VEVENT
DTSTART;TZID=UTC:20260219T150000
DTEND;TZID=UTC:20260219T170000
DTSTAMP:20260424T100531
CREATED:20260127T091935Z
LAST-MODIFIED:20260127T091935Z
UID:13362-1771513200-1771520400@ptv-solingen.de
SUMMARY:Treffen für junge Erwachsene von 18 bis 40 Jahren
DESCRIPTION:Treffen für junge Erwachsene von 18 bis 40 Jahren \nJeden Donnerstag von 15:00 – 17:00 Uhr \nmit Frau Ischebeck\, Frau Noll und Frau Köhler
URL:https://ptv-solingen.de/event/treffen-fuer-junge-erwachsene-von-18-bis-40-jahren-71/
LOCATION:Kölner Straße\, Kölner Straße 1\, Solingen\, 42651\, Deutschland
ATTACH;FMTTYPE=image/jpeg:https://ptv-solingen.de/wp-content/uploads/2021/04/AdobeStock_206183606-scaled.jpeg
ORGANIZER;CN="Psychosozialer Tr%C3%A4gerverein Solingen e.V.":MAILTO:info@ptv-solingen.de
END:VEVENT
BEGIN:VEVENT
DTSTART;TZID=UTC:20260226T150000
DTEND;TZID=UTC:20260226T170000
DTSTAMP:20260424T100531
CREATED:20260127T091755Z
LAST-MODIFIED:20260127T091755Z
UID:13360-1772118000-1772125200@ptv-solingen.de
SUMMARY:Treffen für junge Erwachsene von 18 bis 40 Jahren
DESCRIPTION:Treffen für junge Erwachsene von 18 bis 40 Jahren \nJeden Donnerstag von 15:00 – 17:00 Uhr \nmit Frau Ischebeck\, Frau Noll und Frau Köhler
URL:https://ptv-solingen.de/event/treffen-fuer-junge-erwachsene-von-18-bis-40-jahren-70/
LOCATION:Kölner Straße\, Kölner Straße 1\, Solingen\, 42651\, Deutschland
ATTACH;FMTTYPE=image/jpeg:https://ptv-solingen.de/wp-content/uploads/2021/04/AdobeStock_206183606-scaled.jpeg
ORGANIZER;CN="Psychosozialer Tr%C3%A4gerverein Solingen e.V.":MAILTO:info@ptv-solingen.de
END:VEVENT
BEGIN:VEVENT
DTSTART;TZID=UTC:20260305T150000
DTEND;TZID=UTC:20260305T170000
DTSTAMP:20260424T100531
CREATED:20260223T063148Z
LAST-MODIFIED:20260223T063148Z
UID:13406-1772722800-1772730000@ptv-solingen.de
SUMMARY:Treffen für junge Erwachsene von 18 bis 40 Jahren
DESCRIPTION:Treffen für junge Erwachsene von 18 bis 40 Jahren \nJeden Donnerstag von 15:00 – 17:00 Uhr \nmit Frau Ischebeck\, Frau Noll und Frau Köhler
URL:https://ptv-solingen.de/event/treffen-fuer-junge-erwachsene-von-18-bis-40-jahren-72/
LOCATION:Kölner Straße\, Kölner Straße 1\, Solingen\, 42651\, Deutschland
ATTACH;FMTTYPE=image/jpeg:https://ptv-solingen.de/wp-content/uploads/2021/04/AdobeStock_206183606-scaled.jpeg
ORGANIZER;CN="Psychosozialer Tr%C3%A4gerverein Solingen e.V.":MAILTO:info@ptv-solingen.de
END:VEVENT
BEGIN:VEVENT
DTSTART;TZID=UTC:20260312T150000
DTEND;TZID=UTC:20260312T170000
DTSTAMP:20260424T100531
CREATED:20260223T065537Z
LAST-MODIFIED:20260223T065537Z
UID:13424-1773327600-1773334800@ptv-solingen.de
SUMMARY:Treffen für junge Erwachsene von 18 bis 40 Jahren
DESCRIPTION:Treffen für junge Erwachsene von 18 bis 40 Jahren \nJeden Donnerstag von 15:00 – 17:00 Uhr \nmit Frau Ischebeck\, Frau Noll und Frau Köhler
URL:https://ptv-solingen.de/event/treffen-fuer-junge-erwachsene-von-18-bis-40-jahren-73/
LOCATION:Kölner Straße\, Kölner Straße 1\, Solingen\, 42651\, Deutschland
ATTACH;FMTTYPE=image/jpeg:https://ptv-solingen.de/wp-content/uploads/2021/04/AdobeStock_206183606-scaled.jpeg
ORGANIZER;CN="Psychosozialer Tr%C3%A4gerverein Solingen e.V.":MAILTO:info@ptv-solingen.de
END:VEVENT
BEGIN:VEVENT
DTSTART;TZID=UTC:20260319T150000
DTEND;TZID=UTC:20260319T170000
DTSTAMP:20260424T100531
CREATED:20260223T080808Z
LAST-MODIFIED:20260223T080808Z
UID:13440-1773932400-1773939600@ptv-solingen.de
SUMMARY:Treffen für junge Erwachsene von 18 bis 40 Jahren
DESCRIPTION:Treffen für junge Erwachsene von 18 bis 40 Jahren \nJeden Donnerstag von 15:00 – 17:00 Uhr \nmit Frau Ischebeck\, Frau Noll und Frau Köhler
URL:https://ptv-solingen.de/event/treffen-fuer-junge-erwachsene-von-18-bis-40-jahren-74/
LOCATION:Kölner Straße\, Kölner Straße 1\, Solingen\, 42651\, Deutschland
ATTACH;FMTTYPE=image/jpeg:https://ptv-solingen.de/wp-content/uploads/2021/04/AdobeStock_206183606-scaled.jpeg
ORGANIZER;CN="Psychosozialer Tr%C3%A4gerverein Solingen e.V.":MAILTO:info@ptv-solingen.de
END:VEVENT
BEGIN:VEVENT
DTSTART;TZID=UTC:20260326T150000
DTEND;TZID=UTC:20260326T170000
DTSTAMP:20260424T100531
CREATED:20260223T084045Z
LAST-MODIFIED:20260223T084045Z
UID:13454-1774537200-1774544400@ptv-solingen.de
SUMMARY:Treffen für junge Erwachsene von 18 bis 40 Jahren
DESCRIPTION:Treffen für junge Erwachsene von 18 bis 40 Jahren \nJeden Donnerstag von 15:00 – 17:00 Uhr \nmit Frau Ischebeck\, Frau Noll und Frau Köhler
URL:https://ptv-solingen.de/event/treffen-fuer-junge-erwachsene-von-18-bis-40-jahren-75/
LOCATION:Kölner Straße\, Kölner Straße 1\, Solingen\, 42651\, Deutschland
ATTACH;FMTTYPE=image/jpeg:https://ptv-solingen.de/wp-content/uploads/2021/04/AdobeStock_206183606-scaled.jpeg
ORGANIZER;CN="Psychosozialer Tr%C3%A4gerverein Solingen e.V.":MAILTO:info@ptv-solingen.de
END:VEVENT
END:VCALENDAR