BEGIN:VCALENDAR
VERSION:2.0
PRODID:-//Psychosozialer Trägerverein Solingen e. V. - ECPv6.15.12.2//NONSGML v1.0//EN
CALSCALE:GREGORIAN
METHOD:PUBLISH
X-ORIGINAL-URL:https://ptv-solingen.de
X-WR-CALDESC:Veranstaltungen für Psychosozialer Trägerverein Solingen e. V.
REFRESH-INTERVAL;VALUE=DURATION:PT1H
X-Robots-Tag:noindex
X-PUBLISHED-TTL:PT1H
BEGIN:VTIMEZONE
TZID:UTC
BEGIN:STANDARD
TZOFFSETFROM:+0000
TZOFFSETTO:+0000
TZNAME:UTC
DTSTART:20240101T000000
END:STANDARD
END:VTIMEZONE
BEGIN:VEVENT
DTSTART;TZID=UTC:20251201T190000
DTEND;TZID=UTC:20251201T203000
DTSTAMP:20260420T011617
CREATED:20251117T084329Z
LAST-MODIFIED:20251117T084329Z
UID:13151-1764615600-1764621000@ptv-solingen.de
SUMMARY:Selbsthilfegruppe „Angehörige psychisch Erkrankter in Solingen“
DESCRIPTION:Die Selbsthilfegruppe „Angehörige psychisch Erkrankter in Solingen“\ntrifft sich 14-tägig montags (ungerade Wochen\, 19:00-20:30 Uhr)\nin der Eichenstraße 105-109\, 42659 Solingen (Sozialraum). \nWeitere Informationen auf der Website:\nAngehörigenselbsthilfe \nDer Flyer der Selbsthilfegruppe zum Download.
URL:https://ptv-solingen.de/event/selbsthilfegruppe-angehoerige-psychisch-erkrankter-in-solingen-29/
LOCATION:Eichenstraße\, Eichenstraße 105 - 109\, Solingen\, 42659\, Deutschland
ATTACH;FMTTYPE=image/jpeg:https://ptv-solingen.de/wp-content/uploads/2021/11/AdobeStock_176837640-min-scaled.jpeg
ORGANIZER;CN="Psychosozialer Tr%C3%A4gerverein Solingen e.V.":MAILTO:info@ptv-solingen.de
END:VEVENT
BEGIN:VEVENT
DTSTART;TZID=UTC:20251215T190000
DTEND;TZID=UTC:20251215T203000
DTSTAMP:20260420T011617
CREATED:20251118T083852Z
LAST-MODIFIED:20251118T083852Z
UID:13192-1765825200-1765830600@ptv-solingen.de
SUMMARY:Selbsthilfegruppe „Angehörige psychisch Erkrankter in Solingen“
DESCRIPTION:Die Selbsthilfegruppe „Angehörige psychisch Erkrankter in Solingen“\ntrifft sich 14-tägig montags (ungerade Wochen\, 19:00-20:30 Uhr)\nin der Eichenstraße 105-109\, 42659 Solingen (Sozialraum). \nWeitere Informationen auf der Website:\nAngehörigenselbsthilfe \nDer Flyer der Selbsthilfegruppe zum Download.
URL:https://ptv-solingen.de/event/selbsthilfegruppe-angehoerige-psychisch-erkrankter-in-solingen-30/
LOCATION:Eichenstraße\, Eichenstraße 105 - 109\, Solingen\, 42659\, Deutschland
ATTACH;FMTTYPE=image/jpeg:https://ptv-solingen.de/wp-content/uploads/2021/11/AdobeStock_176837640-min-scaled.jpeg
ORGANIZER;CN="Psychosozialer Tr%C3%A4gerverein Solingen e.V.":MAILTO:info@ptv-solingen.de
END:VEVENT
BEGIN:VEVENT
DTSTART;TZID=UTC:20251229T190000
DTEND;TZID=UTC:20251229T203000
DTSTAMP:20260420T011617
CREATED:20251118T085327Z
LAST-MODIFIED:20251118T085327Z
UID:13212-1767034800-1767040200@ptv-solingen.de
SUMMARY:Selbsthilfegruppe „Angehörige psychisch Erkrankter in Solingen“
DESCRIPTION:Die Selbsthilfegruppe „Angehörige psychisch Erkrankter in Solingen“\ntrifft sich 14-tägig montags (ungerade Wochen\, 19:00-20:30 Uhr)\nin der Eichenstraße 105-109\, 42659 Solingen (Sozialraum). \nWeitere Informationen auf der Website:\nAngehörigenselbsthilfe \nDer Flyer der Selbsthilfegruppe zum Download.
URL:https://ptv-solingen.de/event/selbsthilfegruppe-angehoerige-psychisch-erkrankter-in-solingen-31/
LOCATION:Eichenstraße\, Eichenstraße 105 - 109\, Solingen\, 42659\, Deutschland
ATTACH;FMTTYPE=image/jpeg:https://ptv-solingen.de/wp-content/uploads/2021/11/AdobeStock_176837640-min-scaled.jpeg
ORGANIZER;CN="Psychosozialer Tr%C3%A4gerverein Solingen e.V.":MAILTO:info@ptv-solingen.de
END:VEVENT
END:VCALENDAR