BEGIN:VCALENDAR
VERSION:2.0
PRODID:-//Psychosozialer Trägerverein Solingen e. V. - ECPv6.15.12.2//NONSGML v1.0//EN
CALSCALE:GREGORIAN
METHOD:PUBLISH
X-ORIGINAL-URL:https://ptv-solingen.de
X-WR-CALDESC:Veranstaltungen für Psychosozialer Trägerverein Solingen e. V.
REFRESH-INTERVAL;VALUE=DURATION:PT1H
X-Robots-Tag:noindex
X-PUBLISHED-TTL:PT1H
BEGIN:VTIMEZONE
TZID:UTC
BEGIN:STANDARD
TZOFFSETFROM:+0000
TZOFFSETTO:+0000
TZNAME:UTC
DTSTART:20220101T000000
END:STANDARD
END:VTIMEZONE
BEGIN:VEVENT
DTSTART;TZID=UTC:20230201T150000
DTEND;TZID=UTC:20230201T180000
DTSTAMP:20260421T100301
CREATED:20230117T084723Z
LAST-MODIFIED:20230117T084723Z
UID:9142-1675263600-1675274400@ptv-solingen.de
SUMMARY:Die Gartengruppe
DESCRIPTION:Jeden Mittwoch von 15:00 – 18:00 Uhr \nDas Treffen der Gartengruppe findet im Garten Nr. 5 des Kleingärtnerverein Gabelsbergerstraße e.V. statt. \nGemeinsam gestalten und bewirtschaften wir unseren Kleingarten. Gerne sammeln wir unsere Ideen\, setzen diese nach Möglichkeit um und genießen die Ergebnisse. \n \nBei schlechtem Wetter den Ort des Treffens bitte erfragen.\nBei Interesse melden Sie sich bitte bei uns\, wir geben Ihnen gerne weitere Informationen: \nBirgit Büque                        0173 – 248 08 61\nUlrike König-Ramadani    0173 – 248 08 76
URL:https://ptv-solingen.de/event/die-gartengruppe-duplicate-1-61/
LOCATION:Gartenanlage Gabelsberg\, Wittekindstraße 2\, Solingen\, 42659\, Deutschland
ATTACH;FMTTYPE=image/jpeg:https://ptv-solingen.de/wp-content/uploads/2021/09/garten-scaled-e1631092097189.jpg
ORGANIZER;CN="Psychosozialer Tr%C3%A4gerverein Solingen e.V.":MAILTO:info@ptv-solingen.de
END:VEVENT
BEGIN:VEVENT
DTSTART;TZID=UTC:20230202T150000
DTEND;TZID=UTC:20230202T170000
DTSTAMP:20260421T100301
CREATED:20230117T084822Z
LAST-MODIFIED:20230117T084822Z
UID:9144-1675350000-1675357200@ptv-solingen.de
SUMMARY:Treffen für junge Erwachsene von 18 bis 40 Jahren
DESCRIPTION:Treffen für junge Erwachsene von 18 bis 40 Jahren \nJeden Donnerstag von 15:00 – 17:00 Uhr \nmit Frau Ischebeck\, Frau Noll und Frau Gerth
URL:https://ptv-solingen.de/event/treffen-fuer-junge-erwachsene-von-18-bis-40-jahren-duplicate-1-60/
LOCATION:Kölner Straße\, Kölner Straße 1\, Solingen\, 42651\, Deutschland
ATTACH;FMTTYPE=image/jpeg:https://ptv-solingen.de/wp-content/uploads/2021/04/AdobeStock_206183606-scaled.jpeg
ORGANIZER;CN="Psychosozialer Tr%C3%A4gerverein Solingen e.V.":MAILTO:info@ptv-solingen.de
END:VEVENT
BEGIN:VEVENT
DTSTART;TZID=UTC:20230203T093000
DTEND;TZID=UTC:20230203T103000
DTSTAMP:20260421T100301
CREATED:20230117T084908Z
LAST-MODIFIED:20230117T084908Z
UID:9146-1675416600-1675420200@ptv-solingen.de
SUMMARY:Frühstück am Runden Tisch
DESCRIPTION:Frühstück am Runden Tisch auf der Kölner Straße \nJeden Freitag von 09:30-10:30 Uhr\nAnmeldung bis Donnerstag\, 13:00 Uhr
URL:https://ptv-solingen.de/event/fruehstueck-am-runden-tisch-duplicate-1-56/
LOCATION:Kölner Straße\, Kölner Straße 1\, Solingen\, 42651\, Deutschland
ATTACH;FMTTYPE=image/jpeg:https://ptv-solingen.de/wp-content/uploads/2021/11/AdobeStock_453679680-min-scaled.jpeg
ORGANIZER;CN="Psychosozialer Tr%C3%A4gerverein Solingen e.V.":MAILTO:info@ptv-solingen.de
END:VEVENT
BEGIN:VEVENT
DTSTART;TZID=UTC:20230203T130000
DTEND;TZID=UTC:20230203T150000
DTSTAMP:20260421T100301
CREATED:20230117T085025Z
LAST-MODIFIED:20230117T085025Z
UID:9148-1675429200-1675436400@ptv-solingen.de
SUMMARY:Die Mundartgruppe
DESCRIPTION:Von 13:00 – 15:00 Uhr auf der Kölner Straße \nBitte vorher telefonisch bei Fr Steingans anmelden. \nAnsprechpartnerin:\nFrau Steingans Telefon: 0173 – 35 64 858
URL:https://ptv-solingen.de/event/die-mundartgruppe-duplicate-1-28/
LOCATION:Kölner Straße\, Kölner Straße 1\, Solingen\, 42651\, Deutschland
ATTACH;FMTTYPE=image/jpeg:https://ptv-solingen.de/wp-content/uploads/2021/09/9444068-5e518c43-9eac-4bf8-9b49-e05ff9ea19ed-0-44a7.jpg
ORGANIZER;CN="Psychosozialer Tr%C3%A4gerverein Solingen e.V.":MAILTO:info@ptv-solingen.de
END:VEVENT
BEGIN:VEVENT
DTSTART;TZID=UTC:20230206T143000
DTEND;TZID=UTC:20230206T170000
DTSTAMP:20260421T100301
CREATED:20230117T085116Z
LAST-MODIFIED:20230117T085116Z
UID:9150-1675693800-1675702800@ptv-solingen.de
SUMMARY:Strick- und Handarbeitsgruppe
DESCRIPTION:Stricken und Häkeln mit Frau König-Ramadani \nMontags\, 14.30 Uhr – 17.00 Uhr \nIm Sommer treffen wir uns im Kleingarten Nr.5\, in der Kleingartenanlage Gabelsberg. Im Winter treffen wir uns in der Beckmannstraße 110. \nGemeinsam genießen wir unser Hobby und stricken\, spinnen und häkeln was auch immer grade Spaß macht. Gegenseitig helfen wir uns gerne und kommen gemeinsam gut voran. \nBei Interesse melden Sie sich bitte bei:\nFrau König-Ramadani unter 0173 – 248 08 76\nBitte vorher telefonisch anmelden!
URL:https://ptv-solingen.de/event/strick-und-handarbeitsgruppe-duplicate-1-59/
LOCATION:Beckmannstraße\, Beckmannstr. 110\, Solingen\, 42659\, Deutschland
ATTACH;FMTTYPE=image/jpeg:https://ptv-solingen.de/wp-content/uploads/2021/11/AdobeStock_78575029-min-scaled.jpeg
ORGANIZER;CN="Psychosozialer Tr%C3%A4gerverein Solingen e.V.":MAILTO:info@ptv-solingen.de
END:VEVENT
BEGIN:VEVENT
DTSTART;TZID=UTC:20230207T153000
DTEND;TZID=UTC:20230207T190000
DTSTAMP:20260421T100301
CREATED:20230117T085221Z
LAST-MODIFIED:20230117T085221Z
UID:9152-1675783800-1675796400@ptv-solingen.de
SUMMARY:Die Kochgruppe
DESCRIPTION:Von 15:30 Uhr – 19:00 Uhr auf der Kölner Straße 1 mit Herr Wiederhake. \nBitte vorher telefonisch bei Herrn Wiederhake anmelden.\nAnsprechpartner:\nHerr Wiederhake Telefon: 0212 – 248 21 59
URL:https://ptv-solingen.de/event/die-kochgruppe-duplicate-1-16/
LOCATION:Kölner Straße\, Kölner Straße 1\, Solingen\, 42651\, Deutschland
ATTACH;FMTTYPE=image/jpeg:https://ptv-solingen.de/wp-content/uploads/2021/11/AdobeStock_48306297-min-scaled.jpeg
ORGANIZER;CN="Psychosozialer Tr%C3%A4gerverein Solingen e.V.":MAILTO:info@ptv-solingen.de
END:VEVENT
BEGIN:VEVENT
DTSTART;TZID=UTC:20230208T150000
DTEND;TZID=UTC:20230208T180000
DTSTAMP:20260421T100301
CREATED:20230117T085323Z
LAST-MODIFIED:20230117T085323Z
UID:9154-1675868400-1675879200@ptv-solingen.de
SUMMARY:Die Gartengruppe
DESCRIPTION:Jeden Mittwoch von 15:00 – 18:00 Uhr \nDas Treffen der Gartengruppe findet im Garten Nr. 5 des Kleingärtnerverein Gabelsbergerstraße e.V. statt. \nGemeinsam gestalten und bewirtschaften wir unseren Kleingarten. Gerne sammeln wir unsere Ideen\, setzen diese nach Möglichkeit um und genießen die Ergebnisse. \n \nBei schlechtem Wetter den Ort des Treffens bitte erfragen.\nBei Interesse melden Sie sich bitte bei uns\, wir geben Ihnen gerne weitere Informationen: \nBirgit Büque                        0173 – 248 08 61\nUlrike König-Ramadani    0173 – 248 08 76
URL:https://ptv-solingen.de/event/die-gartengruppe-duplicate-1-62/
LOCATION:Gartenanlage Gabelsberg\, Wittekindstraße 2\, Solingen\, 42659\, Deutschland
ATTACH;FMTTYPE=image/jpeg:https://ptv-solingen.de/wp-content/uploads/2021/09/garten-scaled-e1631092097189.jpg
ORGANIZER;CN="Psychosozialer Tr%C3%A4gerverein Solingen e.V.":MAILTO:info@ptv-solingen.de
END:VEVENT
BEGIN:VEVENT
DTSTART;TZID=UTC:20230209T150000
DTEND;TZID=UTC:20230209T170000
DTSTAMP:20260421T100301
CREATED:20230117T085425Z
LAST-MODIFIED:20230117T085425Z
UID:9156-1675954800-1675962000@ptv-solingen.de
SUMMARY:Treffen für junge Erwachsene von 18 bis 40 Jahren
DESCRIPTION:Treffen für junge Erwachsene von 18 bis 40 Jahren \nJeden Donnerstag von 15:00 – 17:00 Uhr \nmit Frau Ischebeck\, Frau Noll und Frau Gerth
URL:https://ptv-solingen.de/event/treffen-fuer-junge-erwachsene-von-18-bis-40-jahren-duplicate-1-61/
LOCATION:Kölner Straße\, Kölner Straße 1\, Solingen\, 42651\, Deutschland
ATTACH;FMTTYPE=image/jpeg:https://ptv-solingen.de/wp-content/uploads/2021/04/AdobeStock_206183606-scaled.jpeg
ORGANIZER;CN="Psychosozialer Tr%C3%A4gerverein Solingen e.V.":MAILTO:info@ptv-solingen.de
END:VEVENT
BEGIN:VEVENT
DTSTART;TZID=UTC:20230210T093000
DTEND;TZID=UTC:20230210T103000
DTSTAMP:20260421T100301
CREATED:20230117T085559Z
LAST-MODIFIED:20230117T085559Z
UID:9158-1676021400-1676025000@ptv-solingen.de
SUMMARY:Frühstück am Runden Tisch
DESCRIPTION:Frühstück am Runden Tisch auf der Kölner Straße \nJeden Freitag von 09:30-10:30 Uhr\nAnmeldung bis Donnerstag\, 13:00 Uhr
URL:https://ptv-solingen.de/event/fruehstueck-am-runden-tisch-duplicate-1-57/
LOCATION:Kölner Straße\, Kölner Straße 1\, Solingen\, 42651\, Deutschland
ATTACH;FMTTYPE=image/jpeg:https://ptv-solingen.de/wp-content/uploads/2021/11/AdobeStock_453679680-min-scaled.jpeg
ORGANIZER;CN="Psychosozialer Tr%C3%A4gerverein Solingen e.V.":MAILTO:info@ptv-solingen.de
END:VEVENT
BEGIN:VEVENT
DTSTART;TZID=UTC:20230210T130000
DTEND;TZID=UTC:20230210T150000
DTSTAMP:20260421T100301
CREATED:20230117T090723Z
LAST-MODIFIED:20230117T090723Z
UID:9160-1676034000-1676041200@ptv-solingen.de
SUMMARY:Die Mundartgruppe
DESCRIPTION:Von 13:00 – 15:00 Uhr auf der Kölner Straße \nBitte vorher telefonisch bei Fr Steingans anmelden. \nAnsprechpartnerin:\nFrau Steingans Telefon: 0173 – 35 64 858
URL:https://ptv-solingen.de/event/die-mundartgruppe-duplicate-1-29/
LOCATION:Kölner Straße\, Kölner Straße 1\, Solingen\, 42651\, Deutschland
ATTACH;FMTTYPE=image/jpeg:https://ptv-solingen.de/wp-content/uploads/2021/09/9444068-5e518c43-9eac-4bf8-9b49-e05ff9ea19ed-0-44a7.jpg
ORGANIZER;CN="Psychosozialer Tr%C3%A4gerverein Solingen e.V.":MAILTO:info@ptv-solingen.de
END:VEVENT
BEGIN:VEVENT
DTSTART;TZID=UTC:20230213T143000
DTEND;TZID=UTC:20230213T170000
DTSTAMP:20260421T100301
CREATED:20230117T090814Z
LAST-MODIFIED:20230117T090814Z
UID:9162-1676298600-1676307600@ptv-solingen.de
SUMMARY:Strick- und Handarbeitsgruppe
DESCRIPTION:Stricken und Häkeln mit Frau König-Ramadani \nMontags\, 14.30 Uhr – 17.00 Uhr \nIm Sommer treffen wir uns im Kleingarten Nr.5\, in der Kleingartenanlage Gabelsberg. Im Winter treffen wir uns in der Beckmannstraße 110. \nGemeinsam genießen wir unser Hobby und stricken\, spinnen und häkeln was auch immer grade Spaß macht. Gegenseitig helfen wir uns gerne und kommen gemeinsam gut voran. \nBei Interesse melden Sie sich bitte bei:\nFrau König-Ramadani unter 0173 – 248 08 76\nBitte vorher telefonisch anmelden!
URL:https://ptv-solingen.de/event/strick-und-handarbeitsgruppe-duplicate-1-60/
LOCATION:Beckmannstraße\, Beckmannstr. 110\, Solingen\, 42659\, Deutschland
ATTACH;FMTTYPE=image/jpeg:https://ptv-solingen.de/wp-content/uploads/2021/11/AdobeStock_78575029-min-scaled.jpeg
ORGANIZER;CN="Psychosozialer Tr%C3%A4gerverein Solingen e.V.":MAILTO:info@ptv-solingen.de
END:VEVENT
BEGIN:VEVENT
DTSTART;TZID=UTC:20230215T150000
DTEND;TZID=UTC:20230215T180000
DTSTAMP:20260421T100301
CREATED:20230117T090931Z
LAST-MODIFIED:20230117T090931Z
UID:9164-1676473200-1676484000@ptv-solingen.de
SUMMARY:Die Gartengruppe
DESCRIPTION:Jeden Mittwoch von 15:00 – 18:00 Uhr \nDas Treffen der Gartengruppe findet im Garten Nr. 5 des Kleingärtnerverein Gabelsbergerstraße e.V. statt. \nGemeinsam gestalten und bewirtschaften wir unseren Kleingarten. Gerne sammeln wir unsere Ideen\, setzen diese nach Möglichkeit um und genießen die Ergebnisse. \n \nBei schlechtem Wetter den Ort des Treffens bitte erfragen.\nBei Interesse melden Sie sich bitte bei uns\, wir geben Ihnen gerne weitere Informationen: \nBirgit Büque                        0173 – 248 08 61\nUlrike König-Ramadani    0173 – 248 08 76
URL:https://ptv-solingen.de/event/die-gartengruppe-duplicate-1-63/
LOCATION:Gartenanlage Gabelsberg\, Wittekindstraße 2\, Solingen\, 42659\, Deutschland
ATTACH;FMTTYPE=image/jpeg:https://ptv-solingen.de/wp-content/uploads/2021/09/garten-scaled-e1631092097189.jpg
ORGANIZER;CN="Psychosozialer Tr%C3%A4gerverein Solingen e.V.":MAILTO:info@ptv-solingen.de
END:VEVENT
BEGIN:VEVENT
DTSTART;TZID=UTC:20230216T110000
DTEND;TZID=UTC:20230216T120000
DTSTAMP:20260421T100301
CREATED:20230117T091256Z
LAST-MODIFIED:20230117T091256Z
UID:9170-1676545200-1676548800@ptv-solingen.de
SUMMARY:Vollversammlung am runden Tisch
DESCRIPTION:Vollversammlung am runden Tisch \nBeginn: 11.00 Uhr \nDie Vollversammlung ist ein Treffen für Besucher des Runden Tisches mit der Gruppenleitung des Runden Tisches\, um neue Informationen im Verein und für den Runden Tisch mitzubekommen\, aber auch um gemeinsam über Anregungen und Kritik der Nutzer zu sprechen. \nWir freuen uns auf zahlreiches Erscheinen!
URL:https://ptv-solingen.de/event/vollversammlung-am-runden-tisch-duplicate-1-13/
LOCATION:Kölner Straße\, Kölner Straße 1\, Solingen\, 42651\, Deutschland
ATTACH;FMTTYPE=image/jpeg:https://ptv-solingen.de/wp-content/uploads/2020/09/paper-3213924_960_720.jpg
ORGANIZER;CN="Psychosozialer Tr%C3%A4gerverein Solingen e.V.":MAILTO:info@ptv-solingen.de
END:VEVENT
BEGIN:VEVENT
DTSTART;TZID=UTC:20230216T150000
DTEND;TZID=UTC:20230216T170000
DTSTAMP:20260421T100301
CREATED:20230117T091028Z
LAST-MODIFIED:20230117T091028Z
UID:9166-1676559600-1676566800@ptv-solingen.de
SUMMARY:Treffen für junge Erwachsene von 18 bis 40 Jahren
DESCRIPTION:Treffen für junge Erwachsene von 18 bis 40 Jahren \nJeden Donnerstag von 15:00 – 17:00 Uhr \nmit Frau Ischebeck\, Frau Noll und Frau Gerth
URL:https://ptv-solingen.de/event/treffen-fuer-junge-erwachsene-von-18-bis-40-jahren-duplicate-1-62/
LOCATION:Kölner Straße\, Kölner Straße 1\, Solingen\, 42651\, Deutschland
ATTACH;FMTTYPE=image/jpeg:https://ptv-solingen.de/wp-content/uploads/2021/04/AdobeStock_206183606-scaled.jpeg
ORGANIZER;CN="Psychosozialer Tr%C3%A4gerverein Solingen e.V.":MAILTO:info@ptv-solingen.de
END:VEVENT
BEGIN:VEVENT
DTSTART;TZID=UTC:20230217T093000
DTEND;TZID=UTC:20230217T103000
DTSTAMP:20260421T100301
CREATED:20230117T091119Z
LAST-MODIFIED:20230117T091119Z
UID:9168-1676626200-1676629800@ptv-solingen.de
SUMMARY:Frühstück am Runden Tisch
DESCRIPTION:Frühstück am Runden Tisch auf der Kölner Straße \nJeden Freitag von 09:30-10:30 Uhr\nAnmeldung bis Donnerstag\, 13:00 Uhr
URL:https://ptv-solingen.de/event/fruehstueck-am-runden-tisch-duplicate-1-58/
LOCATION:Kölner Straße\, Kölner Straße 1\, Solingen\, 42651\, Deutschland
ATTACH;FMTTYPE=image/jpeg:https://ptv-solingen.de/wp-content/uploads/2021/11/AdobeStock_453679680-min-scaled.jpeg
ORGANIZER;CN="Psychosozialer Tr%C3%A4gerverein Solingen e.V.":MAILTO:info@ptv-solingen.de
END:VEVENT
BEGIN:VEVENT
DTSTART;TZID=UTC:20230220T130000
DTEND;TZID=UTC:20230220T140000
DTSTAMP:20260421T100301
CREATED:20230130T144143Z
LAST-MODIFIED:20230130T144143Z
UID:9188-1676898000-1676901600@ptv-solingen.de
SUMMARY:Ausflug am Rosenmontag
DESCRIPTION:Am Rosenmontag werden wir den Runden Tisch bereits um 13 Uhr schließen – uns aber dann gemeinsam mit allen interessierten Klienten/Besuchern treffen\, um zum Rosenmontagszug in der Stadt zu gehen.  \nEinladung nicht erforderlich\, einfach kommen :-).
URL:https://ptv-solingen.de/event/silvesterbrunch-am-runden-tisch-duplicate-1-2/
LOCATION:Kölner Straße\, Kölner Straße 1\, Solingen\, 42651\, Deutschland
ATTACH;FMTTYPE=image/jpeg:https://ptv-solingen.de/wp-content/uploads/2023/01/AdobeStock_126265448-min-scaled.jpeg
ORGANIZER;CN="Psychosozialer Tr%C3%A4gerverein Solingen e.V.":MAILTO:info@ptv-solingen.de
END:VEVENT
BEGIN:VEVENT
DTSTART;TZID=UTC:20230220T143000
DTEND;TZID=UTC:20230220T170000
DTSTAMP:20260421T100301
CREATED:20230117T091424Z
LAST-MODIFIED:20230117T091424Z
UID:9172-1676903400-1676912400@ptv-solingen.de
SUMMARY:Strick- und Handarbeitsgruppe
DESCRIPTION:Stricken und Häkeln mit Frau König-Ramadani \nMontags\, 14.30 Uhr – 17.00 Uhr \nIm Sommer treffen wir uns im Kleingarten Nr.5\, in der Kleingartenanlage Gabelsberg. Im Winter treffen wir uns in der Beckmannstraße 110. \nGemeinsam genießen wir unser Hobby und stricken\, spinnen und häkeln was auch immer grade Spaß macht. Gegenseitig helfen wir uns gerne und kommen gemeinsam gut voran. \nBei Interesse melden Sie sich bitte bei:\nFrau König-Ramadani unter 0173 – 248 08 76\nBitte vorher telefonisch anmelden!
URL:https://ptv-solingen.de/event/strick-und-handarbeitsgruppe-duplicate-1-61/
LOCATION:Beckmannstraße\, Beckmannstr. 110\, Solingen\, 42659\, Deutschland
ATTACH;FMTTYPE=image/jpeg:https://ptv-solingen.de/wp-content/uploads/2021/11/AdobeStock_78575029-min-scaled.jpeg
ORGANIZER;CN="Psychosozialer Tr%C3%A4gerverein Solingen e.V.":MAILTO:info@ptv-solingen.de
END:VEVENT
BEGIN:VEVENT
DTSTART;TZID=UTC:20230222T150000
DTEND;TZID=UTC:20230222T180000
DTSTAMP:20260421T100301
CREATED:20230117T091519Z
LAST-MODIFIED:20230117T091519Z
UID:9174-1677078000-1677088800@ptv-solingen.de
SUMMARY:Die Gartengruppe
DESCRIPTION:Jeden Mittwoch von 15:00 – 18:00 Uhr \nDas Treffen der Gartengruppe findet im Garten Nr. 5 des Kleingärtnerverein Gabelsbergerstraße e.V. statt. \nGemeinsam gestalten und bewirtschaften wir unseren Kleingarten. Gerne sammeln wir unsere Ideen\, setzen diese nach Möglichkeit um und genießen die Ergebnisse. \n \nBei schlechtem Wetter den Ort des Treffens bitte erfragen.\nBei Interesse melden Sie sich bitte bei uns\, wir geben Ihnen gerne weitere Informationen: \nBirgit Büque                        0173 – 248 08 61\nUlrike König-Ramadani    0173 – 248 08 76
URL:https://ptv-solingen.de/event/die-gartengruppe-duplicate-1-64/
LOCATION:Gartenanlage Gabelsberg\, Wittekindstraße 2\, Solingen\, 42659\, Deutschland
ATTACH;FMTTYPE=image/jpeg:https://ptv-solingen.de/wp-content/uploads/2021/09/garten-scaled-e1631092097189.jpg
ORGANIZER;CN="Psychosozialer Tr%C3%A4gerverein Solingen e.V.":MAILTO:info@ptv-solingen.de
END:VEVENT
BEGIN:VEVENT
DTSTART;TZID=UTC:20230223T150000
DTEND;TZID=UTC:20230223T170000
DTSTAMP:20260421T100301
CREATED:20230117T091620Z
LAST-MODIFIED:20230117T091620Z
UID:9176-1677164400-1677171600@ptv-solingen.de
SUMMARY:Treffen für junge Erwachsene von 18 bis 40 Jahren
DESCRIPTION:Treffen für junge Erwachsene von 18 bis 40 Jahren \nJeden Donnerstag von 15:00 – 17:00 Uhr \nmit Frau Ischebeck\, Frau Noll und Frau Gerth
URL:https://ptv-solingen.de/event/treffen-fuer-junge-erwachsene-von-18-bis-40-jahren-duplicate-1-63/
LOCATION:Kölner Straße\, Kölner Straße 1\, Solingen\, 42651\, Deutschland
ATTACH;FMTTYPE=image/jpeg:https://ptv-solingen.de/wp-content/uploads/2021/04/AdobeStock_206183606-scaled.jpeg
ORGANIZER;CN="Psychosozialer Tr%C3%A4gerverein Solingen e.V.":MAILTO:info@ptv-solingen.de
END:VEVENT
BEGIN:VEVENT
DTSTART;TZID=UTC:20230224T093000
DTEND;TZID=UTC:20230224T103000
DTSTAMP:20260421T100301
CREATED:20230117T091713Z
LAST-MODIFIED:20230117T091713Z
UID:9178-1677231000-1677234600@ptv-solingen.de
SUMMARY:Frühstück am Runden Tisch
DESCRIPTION:Frühstück am Runden Tisch auf der Kölner Straße \nJeden Freitag von 09:30-10:30 Uhr\nAnmeldung bis Donnerstag\, 13:00 Uhr
URL:https://ptv-solingen.de/event/fruehstueck-am-runden-tisch-duplicate-1-59/
LOCATION:Kölner Straße\, Kölner Straße 1\, Solingen\, 42651\, Deutschland
ATTACH;FMTTYPE=image/jpeg:https://ptv-solingen.de/wp-content/uploads/2021/11/AdobeStock_453679680-min-scaled.jpeg
ORGANIZER;CN="Psychosozialer Tr%C3%A4gerverein Solingen e.V.":MAILTO:info@ptv-solingen.de
END:VEVENT
BEGIN:VEVENT
DTSTART;TZID=UTC:20230227T143000
DTEND;TZID=UTC:20230227T170000
DTSTAMP:20260421T100301
CREATED:20230117T091802Z
LAST-MODIFIED:20230117T091802Z
UID:9180-1677508200-1677517200@ptv-solingen.de
SUMMARY:Strick- und Handarbeitsgruppe
DESCRIPTION:Stricken und Häkeln mit Frau König-Ramadani \nMontags\, 14.30 Uhr – 17.00 Uhr \nIm Sommer treffen wir uns im Kleingarten Nr.5\, in der Kleingartenanlage Gabelsberg. Im Winter treffen wir uns in der Beckmannstraße 110. \nGemeinsam genießen wir unser Hobby und stricken\, spinnen und häkeln was auch immer grade Spaß macht. Gegenseitig helfen wir uns gerne und kommen gemeinsam gut voran. \nBei Interesse melden Sie sich bitte bei:\nFrau König-Ramadani unter 0173 – 248 08 76\nBitte vorher telefonisch anmelden!
URL:https://ptv-solingen.de/event/strick-und-handarbeitsgruppe-duplicate-1-62/
LOCATION:Beckmannstraße\, Beckmannstr. 110\, Solingen\, 42659\, Deutschland
ATTACH;FMTTYPE=image/jpeg:https://ptv-solingen.de/wp-content/uploads/2021/11/AdobeStock_78575029-min-scaled.jpeg
ORGANIZER;CN="Psychosozialer Tr%C3%A4gerverein Solingen e.V.":MAILTO:info@ptv-solingen.de
END:VEVENT
END:VCALENDAR