BEGIN:VCALENDAR
VERSION:2.0
PRODID:-//Psychosozialer Trägerverein Solingen e. V. - ECPv6.15.12.2//NONSGML v1.0//EN
CALSCALE:GREGORIAN
METHOD:PUBLISH
X-WR-CALNAME:Psychosozialer Trägerverein Solingen e. V.
X-ORIGINAL-URL:https://ptv-solingen.de
X-WR-CALDESC:Veranstaltungen für Psychosozialer Trägerverein Solingen e. V.
REFRESH-INTERVAL;VALUE=DURATION:PT1H
X-Robots-Tag:noindex
X-PUBLISHED-TTL:PT1H
BEGIN:VTIMEZONE
TZID:UTC
BEGIN:STANDARD
TZOFFSETFROM:+0000
TZOFFSETTO:+0000
TZNAME:UTC
DTSTART:20210101T000000
END:STANDARD
END:VTIMEZONE
BEGIN:VEVENT
DTSTART;TZID=UTC:20220901T150000
DTEND;TZID=UTC:20220901T170000
DTSTAMP:20260421T162844
CREATED:20220826T063945Z
LAST-MODIFIED:20220826T063945Z
UID:8740-1662044400-1662051600@ptv-solingen.de
SUMMARY:Treffen für junge Erwachsene von 18 bis 40 Jahren
DESCRIPTION:Treffen für junge Erwachsene von 18 bis 40 Jahren \nJeden Donnerstag von 15:00 – 17:00 Uhr \nmit Frau Ischebeck\, Frau Noll und Frau Gerth
URL:https://ptv-solingen.de/event/treffen-fuer-junge-erwachsene-von-18-bis-40-jahren-duplicate-1-38/
LOCATION:Kölner Straße\, Kölner Straße 1\, Solingen\, 42651\, Deutschland
ATTACH;FMTTYPE=image/jpeg:https://ptv-solingen.de/wp-content/uploads/2021/04/AdobeStock_206183606-scaled.jpeg
ORGANIZER;CN="Psychosozialer Tr%C3%A4gerverein Solingen e.V.":MAILTO:info@ptv-solingen.de
END:VEVENT
BEGIN:VEVENT
DTSTART;TZID=UTC:20220902T093000
DTEND;TZID=UTC:20220902T103000
DTSTAMP:20260421T162844
CREATED:20220826T064101Z
LAST-MODIFIED:20220826T064101Z
UID:8742-1662111000-1662114600@ptv-solingen.de
SUMMARY:Frühstück am Runden Tisch
DESCRIPTION:Frühstück am Runden Tisch auf der Kölner Straße \nJeden Freitag von 09:30-10:30 Uhr\nAnmeldung bis Donnerstag\, 13:00 Uhr
URL:https://ptv-solingen.de/event/fruehstueck-am-runden-tisch-duplicate-1-36/
LOCATION:Kölner Straße\, Kölner Straße 1\, Solingen\, 42651\, Deutschland
ATTACH;FMTTYPE=image/jpeg:https://ptv-solingen.de/wp-content/uploads/2021/11/AdobeStock_453679680-min-scaled.jpeg
ORGANIZER;CN="Psychosozialer Tr%C3%A4gerverein Solingen e.V.":MAILTO:info@ptv-solingen.de
END:VEVENT
BEGIN:VEVENT
DTSTART;TZID=UTC:20220903T140000
DTEND;TZID=UTC:20220903T140000
DTSTAMP:20260421T162844
CREATED:20220826T064641Z
LAST-MODIFIED:20220826T064807Z
UID:8744-1662213600-1662213600@ptv-solingen.de
SUMMARY:AUSFLUG - Walder Stadtpark
DESCRIPTION:Ausflug zum Walder Stadtpark unter dem Motto „Leben braucht Vielfalt“ \nWir haben einige spannende Ausflüge vom Runden Tisch aus geplant – immer gemeinsam mit einem\nMitarbeiter machen wir uns auf den Weg. \nDer Treffpunkt ist um 14 Uhr in der Kölner Straße 1\n(davor von 12 bis 14 Uhr normale Öffnungszeit).\nWeitere Ausflüge an schöne Solinger Orte sind schon in Planung.\nEs ist keine Anmeldung nötig. Bei Fragen bitte unter 0212-2482159 melden. \nOffen für alle Interessierten!
URL:https://ptv-solingen.de/event/ausflug-sommerfest-echt-scharf-solingen-duplicate-1/
LOCATION:Kölner Straße\, Kölner Straße 1\, Solingen\, 42651\, Deutschland
ATTACH;FMTTYPE=image/jpeg:https://ptv-solingen.de/wp-content/uploads/2021/11/AdobeStock_29546739-scaled.jpeg
ORGANIZER;CN="Psychosozialer Tr%C3%A4gerverein Solingen e.V.":MAILTO:info@ptv-solingen.de
END:VEVENT
BEGIN:VEVENT
DTSTART;TZID=UTC:20220905T143000
DTEND;TZID=UTC:20220905T170000
DTSTAMP:20260421T162844
CREATED:20220826T070232Z
LAST-MODIFIED:20220826T070232Z
UID:8746-1662388200-1662397200@ptv-solingen.de
SUMMARY:Strick- und Handarbeitsgruppe
DESCRIPTION:Stricken und Häkeln mit Frau König-Ramadani \nMontags\, 14.30 Uhr – 17.00 Uhr \nIm Sommer treffen wir uns im Kleingarten Nr.5\, in der Kleingartenanlage Gabelsberg. Im Winter treffen wir uns in der Beckmannstraße 110. \nGemeinsam genießen wir unser Hobby und stricken\, spinnen und häkeln was auch immer grade Spaß macht. Gegenseitig helfen wir uns gerne und kommen gemeinsam gut voran. \nBei Interesse melden Sie sich bitte bei:\nFrau König-Ramadani unter 0173 – 248 08 76\nBitte vorher telefonisch anmelden!
URL:https://ptv-solingen.de/event/strick-und-handarbeitsgruppe-duplicate-1-39/
LOCATION:Beckmannstraße\, Beckmannstr. 110\, Solingen\, 42659\, Deutschland
ATTACH;FMTTYPE=image/jpeg:https://ptv-solingen.de/wp-content/uploads/2021/11/AdobeStock_78575029-min-scaled.jpeg
ORGANIZER;CN="Psychosozialer Tr%C3%A4gerverein Solingen e.V.":MAILTO:info@ptv-solingen.de
END:VEVENT
BEGIN:VEVENT
DTSTART;TZID=UTC:20220906T170000
DTEND;TZID=UTC:20220906T200000
DTSTAMP:20260421T162844
CREATED:20220826T070349Z
LAST-MODIFIED:20220826T070349Z
UID:8748-1662483600-1662494400@ptv-solingen.de
SUMMARY:Die Kochgruppe
DESCRIPTION:Von 15:30 Uhr – 19:00 Uhr auf der Kölner Straße mit Herr Wiederhake. \nBitte vorher telefonisch bei Herrn Wiederhake anmelden.\nAnsprechpartner:\nHerr Wiederhake Telefon: 0212 – 248 21 59
URL:https://ptv-solingen.de/event/die-kochgruppe-duplicate-1-11/
LOCATION:Kölner Straße\, Kölner Straße 1\, Solingen\, 42651\, Deutschland
ATTACH;FMTTYPE=image/jpeg:https://ptv-solingen.de/wp-content/uploads/2021/11/AdobeStock_48306297-min-scaled.jpeg
ORGANIZER;CN="Psychosozialer Tr%C3%A4gerverein Solingen e.V.":MAILTO:info@ptv-solingen.de
END:VEVENT
BEGIN:VEVENT
DTSTART;TZID=UTC:20220907T160000
DTEND;TZID=UTC:20220907T180000
DTSTAMP:20260421T162844
CREATED:20220826T070446Z
LAST-MODIFIED:20220826T070446Z
UID:8750-1662566400-1662573600@ptv-solingen.de
SUMMARY:Die Gartengruppe
DESCRIPTION:Jeden Mittwoch von 16:00 – 18:00 Uhr \nDas Treffen der Gartengruppe findet im Garten Nr. 5 des Kleingärtnerverein Gabelsbergerstraße e.V. statt. \nGemeinsam gestalten und bewirtschaften wir unseren Kleingarten. Gerne sammeln wir unsere Ideen\, setzen diese nach Möglichkeit um und genießen die Ergebnisse. \n \nBei schlechtem Wetter den Ort des Treffens bitte erfragen.\nBei Interesse melden Sie sich bitte bei uns\, wir geben Ihnen gerne weitere Informationen: \nBirgit Büque                        0173 – 248 08 61\nUlrike König-Ramadani    0173 – 248 08 76
URL:https://ptv-solingen.de/event/die-gartengruppe-duplicate-1-40/
LOCATION:Gartenanlage Gabelsberg\, Wittekindstraße 2\, Solingen\, 42659\, Deutschland
ATTACH;FMTTYPE=image/jpeg:https://ptv-solingen.de/wp-content/uploads/2021/09/garten-scaled-e1631092097189.jpg
ORGANIZER;CN="Psychosozialer Tr%C3%A4gerverein Solingen e.V.":MAILTO:info@ptv-solingen.de
END:VEVENT
BEGIN:VEVENT
DTSTART;TZID=UTC:20220908T150000
DTEND;TZID=UTC:20220908T170000
DTSTAMP:20260421T162844
CREATED:20220826T070555Z
LAST-MODIFIED:20220826T070555Z
UID:8752-1662649200-1662656400@ptv-solingen.de
SUMMARY:Treffen für junge Erwachsene von 18 bis 40 Jahren
DESCRIPTION:Treffen für junge Erwachsene von 18 bis 40 Jahren \nJeden Donnerstag von 15:00 – 17:00 Uhr \nmit Frau Ischebeck\, Frau Noll und Frau Gerth
URL:https://ptv-solingen.de/event/treffen-fuer-junge-erwachsene-von-18-bis-40-jahren-duplicate-1-39/
LOCATION:Kölner Straße\, Kölner Straße 1\, Solingen\, 42651\, Deutschland
ATTACH;FMTTYPE=image/jpeg:https://ptv-solingen.de/wp-content/uploads/2021/04/AdobeStock_206183606-scaled.jpeg
ORGANIZER;CN="Psychosozialer Tr%C3%A4gerverein Solingen e.V.":MAILTO:info@ptv-solingen.de
END:VEVENT
BEGIN:VEVENT
DTSTART;TZID=UTC:20220909T093000
DTEND;TZID=UTC:20220909T103000
DTSTAMP:20260421T162844
CREATED:20220826T070740Z
LAST-MODIFIED:20220826T070740Z
UID:8754-1662715800-1662719400@ptv-solingen.de
SUMMARY:Frühstück am Runden Tisch
DESCRIPTION:Frühstück am Runden Tisch auf der Kölner Straße \nJeden Freitag von 09:30-10:30 Uhr\nAnmeldung bis Donnerstag\, 13:00 Uhr
URL:https://ptv-solingen.de/event/fruehstueck-am-runden-tisch-duplicate-1-37/
LOCATION:Kölner Straße\, Kölner Straße 1\, Solingen\, 42651\, Deutschland
ATTACH;FMTTYPE=image/jpeg:https://ptv-solingen.de/wp-content/uploads/2021/11/AdobeStock_453679680-min-scaled.jpeg
ORGANIZER;CN="Psychosozialer Tr%C3%A4gerverein Solingen e.V.":MAILTO:info@ptv-solingen.de
END:VEVENT
BEGIN:VEVENT
DTSTART;TZID=UTC:20220909T160000
DTEND;TZID=UTC:20220909T180000
DTSTAMP:20260421T162844
CREATED:20220826T070831Z
LAST-MODIFIED:20220826T070831Z
UID:8756-1662739200-1662746400@ptv-solingen.de
SUMMARY:Die Mundartgruppe
DESCRIPTION:Von 13:00 – 15:00 Uhr auf der Kölner Straße \nBitte vorher telefonisch bei Fr Steingans anmelden. \nAnsprechpartnerin:\nFrau Steingans Telefon: 0173 – 35 64 858
URL:https://ptv-solingen.de/event/die-mundartgruppe-duplicate-1-15/
LOCATION:Kölner Straße\, Kölner Straße 1\, Solingen\, 42651\, Deutschland
ATTACH;FMTTYPE=image/jpeg:https://ptv-solingen.de/wp-content/uploads/2021/09/9444068-5e518c43-9eac-4bf8-9b49-e05ff9ea19ed-0-44a7.jpg
ORGANIZER;CN="Psychosozialer Tr%C3%A4gerverein Solingen e.V.":MAILTO:info@ptv-solingen.de
END:VEVENT
BEGIN:VEVENT
DTSTART;TZID=UTC:20220911T140000
DTEND;TZID=UTC:20220911T140000
DTSTAMP:20260421T162844
CREATED:20220826T071833Z
LAST-MODIFIED:20220826T071910Z
UID:8758-1662904800-1662904800@ptv-solingen.de
SUMMARY:AUSFLUG - Zöppkes Markt
DESCRIPTION:Ausflug zum Zöppkes Markt unter dem Motto „Leben braucht Vielfalt“ \nWir haben einige spannende Ausflüge vom Runden Tisch aus geplant – immer gemeinsam mit einem\nMitarbeiter machen wir uns auf den Weg. \nDer Treffpunkt ist um 14 Uhr in der Kölner Straße 1\n(davor von 12 bis 14 Uhr normale Öffnungszeit).\nWeitere Ausflüge an schöne Solinger Orte sind schon in Planung.\nEs ist keine Anmeldung nötig. Bei Fragen bitte unter 0212-2482159 melden. \nOffen für alle Interessierten!
URL:https://ptv-solingen.de/event/ausflug-walder-stadtpark-duplicate-1/
LOCATION:Kölner Straße\, Kölner Straße 1\, Solingen\, 42651\, Deutschland
ATTACH;FMTTYPE=image/png:https://ptv-solingen.de/wp-content/uploads/2022/08/feier_draussen.png
ORGANIZER;CN="Psychosozialer Tr%C3%A4gerverein Solingen e.V.":MAILTO:info@ptv-solingen.de
END:VEVENT
BEGIN:VEVENT
DTSTART;TZID=UTC:20220912T143000
DTEND;TZID=UTC:20220912T170000
DTSTAMP:20260421T162844
CREATED:20220826T072039Z
LAST-MODIFIED:20220826T072039Z
UID:8761-1662993000-1663002000@ptv-solingen.de
SUMMARY:Strick- und Handarbeitsgruppe
DESCRIPTION:Stricken und Häkeln mit Frau König-Ramadani \nMontags\, 14.30 Uhr – 17.00 Uhr \nIm Sommer treffen wir uns im Kleingarten Nr.5\, in der Kleingartenanlage Gabelsberg. Im Winter treffen wir uns in der Beckmannstraße 110. \nGemeinsam genießen wir unser Hobby und stricken\, spinnen und häkeln was auch immer grade Spaß macht. Gegenseitig helfen wir uns gerne und kommen gemeinsam gut voran. \nBei Interesse melden Sie sich bitte bei:\nFrau König-Ramadani unter 0173 – 248 08 76\nBitte vorher telefonisch anmelden!
URL:https://ptv-solingen.de/event/strick-und-handarbeitsgruppe-duplicate-1-40/
LOCATION:Beckmannstraße\, Beckmannstr. 110\, Solingen\, 42659\, Deutschland
ATTACH;FMTTYPE=image/jpeg:https://ptv-solingen.de/wp-content/uploads/2021/11/AdobeStock_78575029-min-scaled.jpeg
ORGANIZER;CN="Psychosozialer Tr%C3%A4gerverein Solingen e.V.":MAILTO:info@ptv-solingen.de
END:VEVENT
BEGIN:VEVENT
DTSTART;TZID=UTC:20220914T160000
DTEND;TZID=UTC:20220914T180000
DTSTAMP:20260421T162844
CREATED:20220826T072145Z
LAST-MODIFIED:20220826T072145Z
UID:8763-1663171200-1663178400@ptv-solingen.de
SUMMARY:Die Gartengruppe
DESCRIPTION:Jeden Mittwoch von 16:00 – 18:00 Uhr \nDas Treffen der Gartengruppe findet im Garten Nr. 5 des Kleingärtnerverein Gabelsbergerstraße e.V. statt. \nGemeinsam gestalten und bewirtschaften wir unseren Kleingarten. Gerne sammeln wir unsere Ideen\, setzen diese nach Möglichkeit um und genießen die Ergebnisse. \n \nBei schlechtem Wetter den Ort des Treffens bitte erfragen.\nBei Interesse melden Sie sich bitte bei uns\, wir geben Ihnen gerne weitere Informationen: \nBirgit Büque                        0173 – 248 08 61\nUlrike König-Ramadani    0173 – 248 08 76
URL:https://ptv-solingen.de/event/die-gartengruppe-duplicate-1-41/
LOCATION:Gartenanlage Gabelsberg\, Wittekindstraße 2\, Solingen\, 42659\, Deutschland
ATTACH;FMTTYPE=image/jpeg:https://ptv-solingen.de/wp-content/uploads/2021/09/garten-scaled-e1631092097189.jpg
ORGANIZER;CN="Psychosozialer Tr%C3%A4gerverein Solingen e.V.":MAILTO:info@ptv-solingen.de
END:VEVENT
BEGIN:VEVENT
DTSTART;TZID=UTC:20220915T110000
DTEND;TZID=UTC:20220915T120000
DTSTAMP:20260421T162844
CREATED:20220826T072300Z
LAST-MODIFIED:20220826T072300Z
UID:8765-1663239600-1663243200@ptv-solingen.de
SUMMARY:Vollversammlung am runden Tisch
DESCRIPTION:Vollversammlung am runden Tisch \nBeginn: 11.00 Uhr \nDie Vollversammlung ist ein Treffen für Besucher des Runden Tisches mit der Gruppenleitung des Runden Tisches\, um neue Informationen im Verein und für den Runden Tisch mitzubekommen\, aber auch um gemeinsam über Anregungen und Kritik der Nutzer zu sprechen. \nWir freuen uns auf zahlreiches Erscheinen!
URL:https://ptv-solingen.de/event/vollversammlung-am-runden-tisch-duplicate-1-6/
LOCATION:Kölner Straße\, Kölner Straße 1\, Solingen\, 42651\, Deutschland
ATTACH;FMTTYPE=image/jpeg:https://ptv-solingen.de/wp-content/uploads/2020/09/paper-3213924_960_720.jpg
ORGANIZER;CN="Psychosozialer Tr%C3%A4gerverein Solingen e.V.":MAILTO:info@ptv-solingen.de
END:VEVENT
BEGIN:VEVENT
DTSTART;TZID=UTC:20220915T150000
DTEND;TZID=UTC:20220915T170000
DTSTAMP:20260421T162844
CREATED:20220826T072352Z
LAST-MODIFIED:20220826T072352Z
UID:8767-1663254000-1663261200@ptv-solingen.de
SUMMARY:Treffen für junge Erwachsene von 18 bis 40 Jahren
DESCRIPTION:Treffen für junge Erwachsene von 18 bis 40 Jahren \nJeden Donnerstag von 15:00 – 17:00 Uhr \nmit Frau Ischebeck\, Frau Noll und Frau Gerth
URL:https://ptv-solingen.de/event/treffen-fuer-junge-erwachsene-von-18-bis-40-jahren-duplicate-1-40/
LOCATION:Kölner Straße\, Kölner Straße 1\, Solingen\, 42651\, Deutschland
ATTACH;FMTTYPE=image/jpeg:https://ptv-solingen.de/wp-content/uploads/2021/04/AdobeStock_206183606-scaled.jpeg
ORGANIZER;CN="Psychosozialer Tr%C3%A4gerverein Solingen e.V.":MAILTO:info@ptv-solingen.de
END:VEVENT
BEGIN:VEVENT
DTSTART;TZID=UTC:20220916T093000
DTEND;TZID=UTC:20220916T103000
DTSTAMP:20260421T162844
CREATED:20220826T072449Z
LAST-MODIFIED:20220826T072449Z
UID:8769-1663320600-1663324200@ptv-solingen.de
SUMMARY:Frühstück am Runden Tisch
DESCRIPTION:Frühstück am Runden Tisch auf der Kölner Straße \nJeden Freitag von 09:30-10:30 Uhr\nAnmeldung bis Donnerstag\, 13:00 Uhr
URL:https://ptv-solingen.de/event/fruehstueck-am-runden-tisch-duplicate-1-38/
LOCATION:Kölner Straße\, Kölner Straße 1\, Solingen\, 42651\, Deutschland
ATTACH;FMTTYPE=image/jpeg:https://ptv-solingen.de/wp-content/uploads/2021/11/AdobeStock_453679680-min-scaled.jpeg
ORGANIZER;CN="Psychosozialer Tr%C3%A4gerverein Solingen e.V.":MAILTO:info@ptv-solingen.de
END:VEVENT
BEGIN:VEVENT
DTSTART;TZID=UTC:20220919T143000
DTEND;TZID=UTC:20220919T170000
DTSTAMP:20260421T162844
CREATED:20220826T072616Z
LAST-MODIFIED:20220826T072616Z
UID:8771-1663597800-1663606800@ptv-solingen.de
SUMMARY:Strick- und Handarbeitsgruppe
DESCRIPTION:Stricken und Häkeln mit Frau König-Ramadani \nMontags\, 14.30 Uhr – 17.00 Uhr \nIm Sommer treffen wir uns im Kleingarten Nr.5\, in der Kleingartenanlage Gabelsberg. Im Winter treffen wir uns in der Beckmannstraße 110. \nGemeinsam genießen wir unser Hobby und stricken\, spinnen und häkeln was auch immer grade Spaß macht. Gegenseitig helfen wir uns gerne und kommen gemeinsam gut voran. \nBei Interesse melden Sie sich bitte bei:\nFrau König-Ramadani unter 0173 – 248 08 76\nBitte vorher telefonisch anmelden!
URL:https://ptv-solingen.de/event/strick-und-handarbeitsgruppe-duplicate-1-41/
LOCATION:Beckmannstraße\, Beckmannstr. 110\, Solingen\, 42659\, Deutschland
ATTACH;FMTTYPE=image/jpeg:https://ptv-solingen.de/wp-content/uploads/2021/11/AdobeStock_78575029-min-scaled.jpeg
ORGANIZER;CN="Psychosozialer Tr%C3%A4gerverein Solingen e.V.":MAILTO:info@ptv-solingen.de
END:VEVENT
BEGIN:VEVENT
DTSTART;TZID=UTC:20220921T160000
DTEND;TZID=UTC:20220921T180000
DTSTAMP:20260421T162844
CREATED:20220826T072707Z
LAST-MODIFIED:20220826T072707Z
UID:8773-1663776000-1663783200@ptv-solingen.de
SUMMARY:Die Gartengruppe
DESCRIPTION:Jeden Mittwoch von 16:00 – 18:00 Uhr \nDas Treffen der Gartengruppe findet im Garten Nr. 5 des Kleingärtnerverein Gabelsbergerstraße e.V. statt. \nGemeinsam gestalten und bewirtschaften wir unseren Kleingarten. Gerne sammeln wir unsere Ideen\, setzen diese nach Möglichkeit um und genießen die Ergebnisse. \n \nBei schlechtem Wetter den Ort des Treffens bitte erfragen.\nBei Interesse melden Sie sich bitte bei uns\, wir geben Ihnen gerne weitere Informationen: \nVolker Dickerhoff                0151 – 730 192 82\nBirgit Büque                        0173 – 248 08 61\nUlrike König-Ramadani    0173 – 248 08 76
URL:https://ptv-solingen.de/event/die-gartengruppe-duplicate-1-42/
LOCATION:Gartenanlage Gabelsberg\, Wittekindstraße 2\, Solingen\, 42659\, Deutschland
ATTACH;FMTTYPE=image/jpeg:https://ptv-solingen.de/wp-content/uploads/2021/09/garten-scaled-e1631092097189.jpg
ORGANIZER;CN="Psychosozialer Tr%C3%A4gerverein Solingen e.V.":MAILTO:info@ptv-solingen.de
END:VEVENT
BEGIN:VEVENT
DTSTART;TZID=UTC:20220922T150000
DTEND;TZID=UTC:20220922T170000
DTSTAMP:20260421T162844
CREATED:20220826T072748Z
LAST-MODIFIED:20220826T072748Z
UID:8775-1663858800-1663866000@ptv-solingen.de
SUMMARY:Treffen für junge Erwachsene von 18 bis 40 Jahren
DESCRIPTION:Treffen für junge Erwachsene von 18 bis 40 Jahren \nJeden Donnerstag von 15:00 – 17:00 Uhr \nmit Frau Ischebeck\, Frau Noll und Frau Gerth
URL:https://ptv-solingen.de/event/treffen-fuer-junge-erwachsene-von-18-bis-40-jahren-duplicate-1-41/
LOCATION:Kölner Straße\, Kölner Straße 1\, Solingen\, 42651\, Deutschland
ATTACH;FMTTYPE=image/jpeg:https://ptv-solingen.de/wp-content/uploads/2021/04/AdobeStock_206183606-scaled.jpeg
ORGANIZER;CN="Psychosozialer Tr%C3%A4gerverein Solingen e.V.":MAILTO:info@ptv-solingen.de
END:VEVENT
BEGIN:VEVENT
DTSTART;TZID=UTC:20220923T093000
DTEND;TZID=UTC:20220923T103000
DTSTAMP:20260421T162844
CREATED:20220826T072838Z
LAST-MODIFIED:20220826T072838Z
UID:8777-1663925400-1663929000@ptv-solingen.de
SUMMARY:Frühstück am Runden Tisch
DESCRIPTION:Frühstück am Runden Tisch auf der Kölner Straße \nJeden Freitag von 09:30-10:30 Uhr\nAnmeldung bis Donnerstag\, 13:00 Uhr
URL:https://ptv-solingen.de/event/fruehstueck-am-runden-tisch-duplicate-1-39/
LOCATION:Kölner Straße\, Kölner Straße 1\, Solingen\, 42651\, Deutschland
ATTACH;FMTTYPE=image/jpeg:https://ptv-solingen.de/wp-content/uploads/2021/11/AdobeStock_453679680-min-scaled.jpeg
ORGANIZER;CN="Psychosozialer Tr%C3%A4gerverein Solingen e.V.":MAILTO:info@ptv-solingen.de
END:VEVENT
BEGIN:VEVENT
DTSTART;TZID=UTC:20220923T160000
DTEND;TZID=UTC:20220923T180000
DTSTAMP:20260421T162844
CREATED:20220826T072924Z
LAST-MODIFIED:20220826T072924Z
UID:8779-1663948800-1663956000@ptv-solingen.de
SUMMARY:Die Mundartgruppe
DESCRIPTION:Von 13:00 – 15:00 Uhr auf der Kölner Straße \nBitte vorher telefonisch bei Fr Steingans anmelden. \nAnsprechpartnerin:\nFrau Steingans Telefon: 0173 – 35 64 858
URL:https://ptv-solingen.de/event/die-mundartgruppe-duplicate-1-16/
LOCATION:Kölner Straße\, Kölner Straße 1\, Solingen\, 42651\, Deutschland
ATTACH;FMTTYPE=image/jpeg:https://ptv-solingen.de/wp-content/uploads/2021/09/9444068-5e518c43-9eac-4bf8-9b49-e05ff9ea19ed-0-44a7.jpg
ORGANIZER;CN="Psychosozialer Tr%C3%A4gerverein Solingen e.V.":MAILTO:info@ptv-solingen.de
END:VEVENT
BEGIN:VEVENT
DTSTART;TZID=UTC:20220926T143000
DTEND;TZID=UTC:20220926T170000
DTSTAMP:20260421T162844
CREATED:20220826T073005Z
LAST-MODIFIED:20220826T073005Z
UID:8781-1664202600-1664211600@ptv-solingen.de
SUMMARY:Strick- und Handarbeitsgruppe
DESCRIPTION:Stricken und Häkeln mit Frau König-Ramadani \nMontags\, 14.30 Uhr – 17.00 Uhr \nIm Sommer treffen wir uns im Kleingarten Nr.5\, in der Kleingartenanlage Gabelsberg. Im Winter treffen wir uns in der Beckmannstraße 110. \nGemeinsam genießen wir unser Hobby und stricken\, spinnen und häkeln was auch immer grade Spaß macht. Gegenseitig helfen wir uns gerne und kommen gemeinsam gut voran. \nBei Interesse melden Sie sich bitte bei:\nFrau König-Ramadani unter 0173 – 248 08 76\nBitte vorher telefonisch anmelden!
URL:https://ptv-solingen.de/event/strick-und-handarbeitsgruppe-duplicate-1-42/
LOCATION:Beckmannstraße\, Beckmannstr. 110\, Solingen\, 42659\, Deutschland
ATTACH;FMTTYPE=image/jpeg:https://ptv-solingen.de/wp-content/uploads/2021/11/AdobeStock_78575029-min-scaled.jpeg
ORGANIZER;CN="Psychosozialer Tr%C3%A4gerverein Solingen e.V.":MAILTO:info@ptv-solingen.de
END:VEVENT
BEGIN:VEVENT
DTSTART;TZID=UTC:20220928T160000
DTEND;TZID=UTC:20220928T180000
DTSTAMP:20260421T162844
CREATED:20220826T073046Z
LAST-MODIFIED:20220826T073046Z
UID:8783-1664380800-1664388000@ptv-solingen.de
SUMMARY:Die Gartengruppe
DESCRIPTION:Jeden Mittwoch von 16:00 – 18:00 Uhr \nDas Treffen der Gartengruppe findet im Garten Nr. 5 des Kleingärtnerverein Gabelsbergerstraße e.V. statt. \nGemeinsam gestalten und bewirtschaften wir unseren Kleingarten. Gerne sammeln wir unsere Ideen\, setzen diese nach Möglichkeit um und genießen die Ergebnisse. \n \nBei schlechtem Wetter den Ort des Treffens bitte erfragen.\nBei Interesse melden Sie sich bitte bei uns\, wir geben Ihnen gerne weitere Informationen: \nBirgit Büque                        0173 – 248 08 61\nUlrike König-Ramadani    0173 – 248 08 76
URL:https://ptv-solingen.de/event/die-gartengruppe-duplicate-1-43/
LOCATION:Gartenanlage Gabelsberg\, Wittekindstraße 2\, Solingen\, 42659\, Deutschland
ATTACH;FMTTYPE=image/jpeg:https://ptv-solingen.de/wp-content/uploads/2021/09/garten-scaled-e1631092097189.jpg
ORGANIZER;CN="Psychosozialer Tr%C3%A4gerverein Solingen e.V.":MAILTO:info@ptv-solingen.de
END:VEVENT
BEGIN:VEVENT
DTSTART;TZID=UTC:20220929T150000
DTEND;TZID=UTC:20220929T170000
DTSTAMP:20260421T162844
CREATED:20220826T073138Z
LAST-MODIFIED:20220826T073138Z
UID:8785-1664463600-1664470800@ptv-solingen.de
SUMMARY:Treffen für junge Erwachsene von 18 bis 40 Jahren
DESCRIPTION:Treffen für junge Erwachsene von 18 bis 40 Jahren \nJeden Donnerstag von 15:00 – 17:00 Uhr \nmit Frau Ischebeck\, Frau Noll und Frau Gerth
URL:https://ptv-solingen.de/event/treffen-fuer-junge-erwachsene-von-18-bis-40-jahren-duplicate-1-42/
LOCATION:Kölner Straße\, Kölner Straße 1\, Solingen\, 42651\, Deutschland
ATTACH;FMTTYPE=image/jpeg:https://ptv-solingen.de/wp-content/uploads/2021/04/AdobeStock_206183606-scaled.jpeg
ORGANIZER;CN="Psychosozialer Tr%C3%A4gerverein Solingen e.V.":MAILTO:info@ptv-solingen.de
END:VEVENT
BEGIN:VEVENT
DTSTART;TZID=UTC:20220930T093000
DTEND;TZID=UTC:20220930T103000
DTSTAMP:20260421T162844
CREATED:20220826T073216Z
LAST-MODIFIED:20220826T073216Z
UID:8787-1664530200-1664533800@ptv-solingen.de
SUMMARY:Frühstück am Runden Tisch
DESCRIPTION:Frühstück am Runden Tisch auf der Kölner Straße \nJeden Freitag von 09:30-10:30 Uhr\nAnmeldung bis Donnerstag\, 13:00 Uhr
URL:https://ptv-solingen.de/event/fruehstueck-am-runden-tisch-duplicate-1-40/
LOCATION:Kölner Straße\, Kölner Straße 1\, Solingen\, 42651\, Deutschland
ATTACH;FMTTYPE=image/jpeg:https://ptv-solingen.de/wp-content/uploads/2021/11/AdobeStock_453679680-min-scaled.jpeg
ORGANIZER;CN="Psychosozialer Tr%C3%A4gerverein Solingen e.V.":MAILTO:info@ptv-solingen.de
END:VEVENT
BEGIN:VEVENT
DTSTART;TZID=UTC:20220930T160000
DTEND;TZID=UTC:20220930T180000
DTSTAMP:20260421T162844
CREATED:20220826T073315Z
LAST-MODIFIED:20220826T073315Z
UID:8789-1664553600-1664560800@ptv-solingen.de
SUMMARY:Die Mundartgruppe
DESCRIPTION:Von 13:00 – 15:00 Uhr auf der Kölner Straße \nBitte vorher telefonisch bei Fr Steingans anmelden. \nAnsprechpartnerin:\nFrau Steingans Telefon: 0173 – 35 64 858
URL:https://ptv-solingen.de/event/die-mundartgruppe-duplicate-1-17/
LOCATION:Kölner Straße\, Kölner Straße 1\, Solingen\, 42651\, Deutschland
ATTACH;FMTTYPE=image/jpeg:https://ptv-solingen.de/wp-content/uploads/2021/09/9444068-5e518c43-9eac-4bf8-9b49-e05ff9ea19ed-0-44a7.jpg
ORGANIZER;CN="Psychosozialer Tr%C3%A4gerverein Solingen e.V.":MAILTO:info@ptv-solingen.de
END:VEVENT
END:VCALENDAR