BEGIN:VCALENDAR
VERSION:2.0
PRODID:-//Psychosozialer Trägerverein Solingen e. V. - ECPv6.15.12.2//NONSGML v1.0//EN
CALSCALE:GREGORIAN
METHOD:PUBLISH
X-ORIGINAL-URL:https://ptv-solingen.de
X-WR-CALDESC:Veranstaltungen für Psychosozialer Trägerverein Solingen e. V.
REFRESH-INTERVAL;VALUE=DURATION:PT1H
X-Robots-Tag:noindex
X-PUBLISHED-TTL:PT1H
BEGIN:VTIMEZONE
TZID:UTC
BEGIN:STANDARD
TZOFFSETFROM:+0000
TZOFFSETTO:+0000
TZNAME:UTC
DTSTART:20210101T000000
END:STANDARD
END:VTIMEZONE
BEGIN:VEVENT
DTSTART;TZID=UTC:20220801T143000
DTEND;TZID=UTC:20220801T170000
DTSTAMP:20260421T202827
CREATED:20220722T071447Z
LAST-MODIFIED:20220722T071620Z
UID:8646-1659364200-1659373200@ptv-solingen.de
SUMMARY:Strick- und Handarbeitsgruppe
DESCRIPTION:Stricken und Häkeln mit Frau König-Ramadani \nMontags\, 14.30 Uhr – 17.00 Uhr \nIm Sommer treffen wir uns im Kleingarten Nr.5\, in der Kleingartenanlage Gabelsberg. Im Winter treffen wir uns in der Beckmannstraße 110. \nGemeinsam genießen wir unser Hobby und stricken\, spinnen und häkeln was auch immer grade Spaß macht. Gegenseitig helfen wir uns gerne und kommen gemeinsam gut voran. \nBei Interesse melden Sie sich bitte bei:\nFrau König-Ramadani unter 0173 – 248 08 76\nBitte vorher telefonisch anmelden!
URL:https://ptv-solingen.de/event/strick-und-handarbeitsgruppe-duplicate-1-34/
LOCATION:Beckmannstraße\, Beckmannstr. 110\, Solingen\, 42659\, Deutschland
ATTACH;FMTTYPE=image/jpeg:https://ptv-solingen.de/wp-content/uploads/2021/11/AdobeStock_78575029-min-scaled.jpeg
ORGANIZER;CN="Psychosozialer Tr%C3%A4gerverein Solingen e.V.":MAILTO:info@ptv-solingen.de
END:VEVENT
BEGIN:VEVENT
DTSTART;TZID=UTC:20220802T170000
DTEND;TZID=UTC:20220802T200000
DTSTAMP:20260421T202827
CREATED:20220722T071742Z
LAST-MODIFIED:20220803T060804Z
UID:8648-1659459600-1659470400@ptv-solingen.de
SUMMARY:Die Kochgruppe
DESCRIPTION:Von 15:30 Uhr – 19:00 Uhr auf der Kölner Straße mit Herr Wiederhake. \nBitte vorher telefonisch bei Herrn Wiederhake anmelden.\nAnsprechpartner:\nHerr Wiederhake Telefon: 0212 – 248 21 59
URL:https://ptv-solingen.de/event/die-kochgruppe-duplicate-1-10/
LOCATION:Kölner Straße\, Kölner Straße 1\, Solingen\, 42651\, Deutschland
ATTACH;FMTTYPE=image/jpeg:https://ptv-solingen.de/wp-content/uploads/2021/11/AdobeStock_48306297-min-scaled.jpeg
ORGANIZER;CN="Psychosozialer Tr%C3%A4gerverein Solingen e.V.":MAILTO:info@ptv-solingen.de
END:VEVENT
BEGIN:VEVENT
DTSTART;TZID=UTC:20220803T150000
DTEND;TZID=UTC:20220803T180000
DTSTAMP:20260421T202827
CREATED:20220722T075552Z
LAST-MODIFIED:20220722T075552Z
UID:8651-1659538800-1659549600@ptv-solingen.de
SUMMARY:Die Gartengruppe
DESCRIPTION:Jeden Mittwoch von 15:00 – 18:00 Uhr \nDas Treffen der Gartengruppe findet im Garten Nr. 5 des Kleingärtnerverein Gabelsbergerstraße e.V. statt. \nGemeinsam gestalten und bewirtschaften wir unseren Kleingarten. Gerne sammeln wir unsere Ideen\, setzen diese nach Möglichkeit um und genießen die Ergebnisse. \n \nBei schlechtem Wetter den Ort des Treffens bitte erfragen.\nBei Interesse melden Sie sich bitte bei uns\, wir geben Ihnen gerne weitere Informationen: \nBirgit Büque                        0173 – 248 08 61\nUlrike König-Ramadani    0173 – 248 08 76
URL:https://ptv-solingen.de/event/die-gartengruppe-duplicate-1-35/
LOCATION:Gartenanlage Gabelsberg\, Wittekindstraße 2\, Solingen\, 42659\, Deutschland
ATTACH;FMTTYPE=image/jpeg:https://ptv-solingen.de/wp-content/uploads/2021/09/garten-scaled-e1631092097189.jpg
ORGANIZER;CN="Psychosozialer Tr%C3%A4gerverein Solingen e.V.":MAILTO:info@ptv-solingen.de
END:VEVENT
BEGIN:VEVENT
DTSTART;TZID=UTC:20220804T150000
DTEND;TZID=UTC:20220804T170000
DTSTAMP:20260421T202827
CREATED:20220722T075905Z
LAST-MODIFIED:20220804T064053Z
UID:8655-1659625200-1659632400@ptv-solingen.de
SUMMARY:Treffen für junge Erwachsene von 18 bis 40 Jahren
DESCRIPTION:Treffen für junge Erwachsene von 18 bis 40 Jahren \nJeden Donnerstag von 15:00 – 17:00 Uhr \nmit Frau Ischebeck\, Frau Noll und Frau Gerth
URL:https://ptv-solingen.de/event/treffen-fuer-junge-erwachsene-von-18-bis-40-jahren-duplicate-1-34/
LOCATION:Kölner Straße\, Kölner Straße 1\, Solingen\, 42651\, Deutschland
ATTACH;FMTTYPE=image/jpeg:https://ptv-solingen.de/wp-content/uploads/2021/04/AdobeStock_206183606-scaled.jpeg
ORGANIZER;CN="Psychosozialer Tr%C3%A4gerverein Solingen e.V.":MAILTO:info@ptv-solingen.de
END:VEVENT
BEGIN:VEVENT
DTSTART;TZID=UTC:20220805T093000
DTEND;TZID=UTC:20220805T103000
DTSTAMP:20260421T202827
CREATED:20220722T075640Z
LAST-MODIFIED:20220722T075728Z
UID:8653-1659691800-1659695400@ptv-solingen.de
SUMMARY:Frühstück am Runden Tisch
DESCRIPTION:Frühstück am Runden Tisch auf der Kölner Straße \nJeden Freitag von 09:30-10:30 Uhr\nAnmeldung bis Donnerstag\, 13:00 Uhr
URL:https://ptv-solingen.de/event/fruehstueck-am-runden-tisch-duplicate-1-32/
LOCATION:Kölner Straße\, Kölner Straße 1\, Solingen\, 42651\, Deutschland
ATTACH;FMTTYPE=image/jpeg:https://ptv-solingen.de/wp-content/uploads/2021/11/AdobeStock_453679680-min-scaled.jpeg
ORGANIZER;CN="Psychosozialer Tr%C3%A4gerverein Solingen e.V.":MAILTO:info@ptv-solingen.de
END:VEVENT
BEGIN:VEVENT
DTSTART;TZID=UTC:20220808T143000
DTEND;TZID=UTC:20220808T170000
DTSTAMP:20260421T202827
CREATED:20220722T080026Z
LAST-MODIFIED:20220722T080026Z
UID:8657-1659969000-1659978000@ptv-solingen.de
SUMMARY:Strick- und Handarbeitsgruppe
DESCRIPTION:Stricken und Häkeln mit Frau König-Ramadani \nMontags\, 14.30 Uhr – 17.00 Uhr \nIm Sommer treffen wir uns im Kleingarten Nr.5\, in der Kleingartenanlage Gabelsberg. Im Winter treffen wir uns in der Beckmannstraße 110. \nGemeinsam genießen wir unser Hobby und stricken\, spinnen und häkeln was auch immer grade Spaß macht. Gegenseitig helfen wir uns gerne und kommen gemeinsam gut voran. \nBei Interesse melden Sie sich bitte bei:\nFrau König-Ramadani unter 0173 – 248 08 76\nBitte vorher telefonisch anmelden!
URL:https://ptv-solingen.de/event/strick-und-handarbeitsgruppe-duplicate-1-35/
LOCATION:Beckmannstraße\, Beckmannstr. 110\, Solingen\, 42659\, Deutschland
ATTACH;FMTTYPE=image/jpeg:https://ptv-solingen.de/wp-content/uploads/2021/11/AdobeStock_78575029-min-scaled.jpeg
ORGANIZER;CN="Psychosozialer Tr%C3%A4gerverein Solingen e.V.":MAILTO:info@ptv-solingen.de
END:VEVENT
BEGIN:VEVENT
DTSTART;TZID=UTC:20220810T160000
DTEND;TZID=UTC:20220810T180000
DTSTAMP:20260421T202827
CREATED:20220722T080132Z
LAST-MODIFIED:20220722T080132Z
UID:8659-1660147200-1660154400@ptv-solingen.de
SUMMARY:Die Gartengruppe
DESCRIPTION:Jeden Mittwoch von 16:00 – 18:00 Uhr \nDas Treffen der Gartengruppe findet im Garten Nr. 5 des Kleingärtnerverein Gabelsbergerstraße e.V. statt. \nGemeinsam gestalten und bewirtschaften wir unseren Kleingarten. Gerne sammeln wir unsere Ideen\, setzen diese nach Möglichkeit um und genießen die Ergebnisse. \n \nBei schlechtem Wetter den Ort des Treffens bitte erfragen.\nBei Interesse melden Sie sich bitte bei uns\, wir geben Ihnen gerne weitere Informationen: \nBirgit Büque                        0173 – 248 08 61\nUlrike König-Ramadani    0173 – 248 08 76
URL:https://ptv-solingen.de/event/die-gartengruppe-duplicate-1-36/
LOCATION:Gartenanlage Gabelsberg\, Wittekindstraße 2\, Solingen\, 42659\, Deutschland
ATTACH;FMTTYPE=image/jpeg:https://ptv-solingen.de/wp-content/uploads/2021/09/garten-scaled-e1631092097189.jpg
ORGANIZER;CN="Psychosozialer Tr%C3%A4gerverein Solingen e.V.":MAILTO:info@ptv-solingen.de
END:VEVENT
BEGIN:VEVENT
DTSTART;TZID=UTC:20220811T150000
DTEND;TZID=UTC:20220811T170000
DTSTAMP:20260421T202827
CREATED:20220722T080228Z
LAST-MODIFIED:20220804T064026Z
UID:8661-1660230000-1660237200@ptv-solingen.de
SUMMARY:Treffen für junge Erwachsene von 18 bis 40 Jahren
DESCRIPTION:Treffen für junge Erwachsene von 18 bis 40 Jahren \nJeden Donnerstag von 15:00 – 17:00 Uhr \nmit Frau Ischebeck\, Frau Noll und Frau Gerth
URL:https://ptv-solingen.de/event/treffen-fuer-junge-erwachsene-von-18-bis-40-jahren-duplicate-1-35/
LOCATION:Kölner Straße\, Kölner Straße 1\, Solingen\, 42651\, Deutschland
ATTACH;FMTTYPE=image/jpeg:https://ptv-solingen.de/wp-content/uploads/2021/04/AdobeStock_206183606-scaled.jpeg
ORGANIZER;CN="Psychosozialer Tr%C3%A4gerverein Solingen e.V.":MAILTO:info@ptv-solingen.de
END:VEVENT
BEGIN:VEVENT
DTSTART;TZID=UTC:20220812T093000
DTEND;TZID=UTC:20220812T103000
DTSTAMP:20260421T202827
CREATED:20220722T080325Z
LAST-MODIFIED:20220722T080325Z
UID:8663-1660296600-1660300200@ptv-solingen.de
SUMMARY:Frühstück am Runden Tisch
DESCRIPTION:Frühstück am Runden Tisch auf der Kölner Straße \nJeden Freitag von 09:30-10:30 Uhr\nAnmeldung bis Donnerstag\, 13:00 Uhr
URL:https://ptv-solingen.de/event/fruehstueck-am-runden-tisch-duplicate-1-33/
LOCATION:Kölner Straße\, Kölner Straße 1\, Solingen\, 42651\, Deutschland
ATTACH;FMTTYPE=image/jpeg:https://ptv-solingen.de/wp-content/uploads/2021/11/AdobeStock_453679680-min-scaled.jpeg
ORGANIZER;CN="Psychosozialer Tr%C3%A4gerverein Solingen e.V.":MAILTO:info@ptv-solingen.de
END:VEVENT
BEGIN:VEVENT
DTSTART;TZID=UTC:20220812T160000
DTEND;TZID=UTC:20220812T180000
DTSTAMP:20260421T202827
CREATED:20220722T080444Z
LAST-MODIFIED:20220722T080444Z
UID:8665-1660320000-1660327200@ptv-solingen.de
SUMMARY:Die Mundartgruppe
DESCRIPTION:Von 13:00 – 15:00 Uhr auf der Kölner Straße \nBitte vorher telefonisch bei Fr Steingans anmelden. \nAnsprechpartnerin:\nFrau Steingans Telefon: 0173 – 35 64 858
URL:https://ptv-solingen.de/event/die-mundartgruppe-duplicate-1-14/
LOCATION:Kölner Straße\, Kölner Straße 1\, Solingen\, 42651\, Deutschland
ATTACH;FMTTYPE=image/jpeg:https://ptv-solingen.de/wp-content/uploads/2021/09/9444068-5e518c43-9eac-4bf8-9b49-e05ff9ea19ed-0-44a7.jpg
ORGANIZER;CN="Psychosozialer Tr%C3%A4gerverein Solingen e.V.":MAILTO:info@ptv-solingen.de
END:VEVENT
BEGIN:VEVENT
DTSTART;TZID=UTC:20220813T140000
DTEND;TZID=UTC:20220813T140000
DTSTAMP:20260421T202827
CREATED:20220722T081834Z
LAST-MODIFIED:20220722T081910Z
UID:8667-1660399200-1660399200@ptv-solingen.de
SUMMARY:AUSFLUG - Sommerfest echt.scharf.solingen
DESCRIPTION:Ausflug zum Sommerfest „echt.scharf.solingen“\nWir haben einige spannende Ausflüge vom Runden Tisch aus geplant – immer gemeinsam mit einem\nMitarbeiter machen wir uns auf den Weg. Der Treffpunkt ist jeweils um 14 Uhr in der Kölner Straße 1\n(davor von 12 bis 14 Uhr normale Öffnungszeit).\nWeitere Ausflüge an schöne Solinger Orte sind schon in Planung.\nEs ist keine Anmeldung nötig. Bei Fragen bitte unter 0212-2482159 melden.
URL:https://ptv-solingen.de/event/sommerfest_echt-scharf/
LOCATION:Kölner Straße\, Kölner Straße 1\, Solingen\, 42651\, Deutschland
ATTACH;FMTTYPE=image/png:https://ptv-solingen.de/wp-content/uploads/2022/07/xsommerparty_1-1024x725.png.pagespeed.ic_.HfpyM7REow.png
ORGANIZER;CN="Psychosozialer Tr%C3%A4gerverein Solingen e.V.":MAILTO:info@ptv-solingen.de
END:VEVENT
BEGIN:VEVENT
DTSTART;TZID=UTC:20220815T143000
DTEND;TZID=UTC:20220815T170000
DTSTAMP:20260421T202827
CREATED:20220722T082037Z
LAST-MODIFIED:20220722T082037Z
UID:8670-1660573800-1660582800@ptv-solingen.de
SUMMARY:Strick- und Handarbeitsgruppe
DESCRIPTION:Stricken und Häkeln mit Frau König-Ramadani \nMontags\, 14.30 Uhr – 17.00 Uhr \nIm Sommer treffen wir uns im Kleingarten Nr.5\, in der Kleingartenanlage Gabelsberg. Im Winter treffen wir uns in der Beckmannstraße 110. \nGemeinsam genießen wir unser Hobby und stricken\, spinnen und häkeln was auch immer grade Spaß macht. Gegenseitig helfen wir uns gerne und kommen gemeinsam gut voran. \nBei Interesse melden Sie sich bitte bei:\nFrau König-Ramadani unter 0173 – 248 08 76\nBitte vorher telefonisch anmelden!
URL:https://ptv-solingen.de/event/strick-und-handarbeitsgruppe-duplicate-1-36/
LOCATION:Beckmannstraße\, Beckmannstr. 110\, Solingen\, 42659\, Deutschland
ATTACH;FMTTYPE=image/jpeg:https://ptv-solingen.de/wp-content/uploads/2021/11/AdobeStock_78575029-min-scaled.jpeg
ORGANIZER;CN="Psychosozialer Tr%C3%A4gerverein Solingen e.V.":MAILTO:info@ptv-solingen.de
END:VEVENT
BEGIN:VEVENT
DTSTART;TZID=UTC:20220817T160000
DTEND;TZID=UTC:20220817T180000
DTSTAMP:20260421T202827
CREATED:20220722T082134Z
LAST-MODIFIED:20220722T082134Z
UID:8672-1660752000-1660759200@ptv-solingen.de
SUMMARY:Die Gartengruppe
DESCRIPTION:Jeden Mittwoch von 16:00 – 18:00 Uhr \nDas Treffen der Gartengruppe findet im Garten Nr. 5 des Kleingärtnerverein Gabelsbergerstraße e.V. statt. \nGemeinsam gestalten und bewirtschaften wir unseren Kleingarten. Gerne sammeln wir unsere Ideen\, setzen diese nach Möglichkeit um und genießen die Ergebnisse. \n \nBei schlechtem Wetter den Ort des Treffens bitte erfragen.\nBei Interesse melden Sie sich bitte bei uns\, wir geben Ihnen gerne weitere Informationen: \nBirgit Büque                        0173 – 248 08 61\nUlrike König-Ramadani    0173 – 248 08 76
URL:https://ptv-solingen.de/event/die-gartengruppe-duplicate-1-37/
LOCATION:Gartenanlage Gabelsberg\, Wittekindstraße 2\, Solingen\, 42659\, Deutschland
ATTACH;FMTTYPE=image/jpeg:https://ptv-solingen.de/wp-content/uploads/2021/09/garten-scaled-e1631092097189.jpg
ORGANIZER;CN="Psychosozialer Tr%C3%A4gerverein Solingen e.V.":MAILTO:info@ptv-solingen.de
END:VEVENT
BEGIN:VEVENT
DTSTART;TZID=UTC:20220818T110000
DTEND;TZID=UTC:20220818T120000
DTSTAMP:20260421T202827
CREATED:20220722T082307Z
LAST-MODIFIED:20220722T082307Z
UID:8674-1660820400-1660824000@ptv-solingen.de
SUMMARY:Vollversammlung am runden Tisch
DESCRIPTION:Vollversammlung am runden Tisch \nBeginn: 11.00 Uhr \nDie Vollversammlung ist ein Treffen für Besucher des Runden Tisches mit der Gruppenleitung des Runden Tisches\, um neue Informationen im Verein und für den Runden Tisch mitzubekommen\, aber auch um gemeinsam über Anregungen und Kritik der Nutzer zu sprechen. \nWir freuen uns auf zahlreiches Erscheinen!
URL:https://ptv-solingen.de/event/vollversammlung-am-runden-tisch-duplicate-1-5/
LOCATION:Kölner Straße\, Kölner Straße 1\, Solingen\, 42651\, Deutschland
ATTACH;FMTTYPE=image/jpeg:https://ptv-solingen.de/wp-content/uploads/2020/09/paper-3213924_960_720.jpg
ORGANIZER;CN="Psychosozialer Tr%C3%A4gerverein Solingen e.V.":MAILTO:info@ptv-solingen.de
END:VEVENT
BEGIN:VEVENT
DTSTART;TZID=UTC:20220818T150000
DTEND;TZID=UTC:20220818T170000
DTSTAMP:20260421T202827
CREATED:20220722T082421Z
LAST-MODIFIED:20220804T064000Z
UID:8676-1660834800-1660842000@ptv-solingen.de
SUMMARY:Treffen für junge Erwachsene von 18 bis 40 Jahren
DESCRIPTION:Treffen für junge Erwachsene von 18 bis 40 Jahren \nJeden Donnerstag von 15:00 – 17:00 Uhr \nmit Frau Ischebeck\, Frau Noll und Frau Gerth
URL:https://ptv-solingen.de/event/treffen-fuer-junge-erwachsene-von-18-bis-40-jahren-duplicate-1-36/
LOCATION:Kölner Straße\, Kölner Straße 1\, Solingen\, 42651\, Deutschland
ATTACH;FMTTYPE=image/jpeg:https://ptv-solingen.de/wp-content/uploads/2021/04/AdobeStock_206183606-scaled.jpeg
ORGANIZER;CN="Psychosozialer Tr%C3%A4gerverein Solingen e.V.":MAILTO:info@ptv-solingen.de
END:VEVENT
BEGIN:VEVENT
DTSTART;TZID=UTC:20220819T093000
DTEND;TZID=UTC:20220819T103000
DTSTAMP:20260421T202827
CREATED:20220722T082518Z
LAST-MODIFIED:20220722T082518Z
UID:8678-1660901400-1660905000@ptv-solingen.de
SUMMARY:Frühstück am Runden Tisch
DESCRIPTION:Frühstück am Runden Tisch auf der Kölner Straße \nJeden Freitag von 09:30-10:30 Uhr\nAnmeldung bis Donnerstag\, 13:00 Uhr
URL:https://ptv-solingen.de/event/fruehstueck-am-runden-tisch-duplicate-1-34/
LOCATION:Kölner Straße\, Kölner Straße 1\, Solingen\, 42651\, Deutschland
ATTACH;FMTTYPE=image/jpeg:https://ptv-solingen.de/wp-content/uploads/2021/11/AdobeStock_453679680-min-scaled.jpeg
ORGANIZER;CN="Psychosozialer Tr%C3%A4gerverein Solingen e.V.":MAILTO:info@ptv-solingen.de
END:VEVENT
BEGIN:VEVENT
DTSTART;TZID=UTC:20220822T143000
DTEND;TZID=UTC:20220822T170000
DTSTAMP:20260421T202827
CREATED:20220722T082644Z
LAST-MODIFIED:20220722T082644Z
UID:8680-1661178600-1661187600@ptv-solingen.de
SUMMARY:Strick- und Handarbeitsgruppe
DESCRIPTION:Stricken und Häkeln mit Frau König-Ramadani \nMontags\, 14.30 Uhr – 17.00 Uhr \nIm Sommer treffen wir uns im Kleingarten Nr.5\, in der Kleingartenanlage Gabelsberg. Im Winter treffen wir uns in der Beckmannstraße 110. \nGemeinsam genießen wir unser Hobby und stricken\, spinnen und häkeln was auch immer grade Spaß macht. Gegenseitig helfen wir uns gerne und kommen gemeinsam gut voran. \nBei Interesse melden Sie sich bitte bei:\nFrau König-Ramadani unter 0173 – 248 08 76\nBitte vorher telefonisch anmelden!
URL:https://ptv-solingen.de/event/strick-und-handarbeitsgruppe-duplicate-1-37/
LOCATION:Beckmannstraße\, Beckmannstr. 110\, Solingen\, 42659\, Deutschland
ATTACH;FMTTYPE=image/jpeg:https://ptv-solingen.de/wp-content/uploads/2021/11/AdobeStock_78575029-min-scaled.jpeg
ORGANIZER;CN="Psychosozialer Tr%C3%A4gerverein Solingen e.V.":MAILTO:info@ptv-solingen.de
END:VEVENT
BEGIN:VEVENT
DTSTART;TZID=UTC:20220824T160000
DTEND;TZID=UTC:20220824T180000
DTSTAMP:20260421T202827
CREATED:20220722T082729Z
LAST-MODIFIED:20220722T082729Z
UID:8682-1661356800-1661364000@ptv-solingen.de
SUMMARY:Die Gartengruppe
DESCRIPTION:Jeden Mittwoch von 16:00 – 18:00 Uhr \nDas Treffen der Gartengruppe findet im Garten Nr. 5 des Kleingärtnerverein Gabelsbergerstraße e.V. statt. \nGemeinsam gestalten und bewirtschaften wir unseren Kleingarten. Gerne sammeln wir unsere Ideen\, setzen diese nach Möglichkeit um und genießen die Ergebnisse. \n \nBei schlechtem Wetter den Ort des Treffens bitte erfragen.\nBei Interesse melden Sie sich bitte bei uns\, wir geben Ihnen gerne weitere Informationen: \nVolker Dickerhoff                0151 – 730 192 82\nBirgit Büque                        0173 – 248 08 61\nUlrike König-Ramadani    0173 – 248 08 76
URL:https://ptv-solingen.de/event/die-gartengruppe-duplicate-1-38/
LOCATION:Gartenanlage Gabelsberg\, Wittekindstraße 2\, Solingen\, 42659\, Deutschland
ATTACH;FMTTYPE=image/jpeg:https://ptv-solingen.de/wp-content/uploads/2021/09/garten-scaled-e1631092097189.jpg
ORGANIZER;CN="Psychosozialer Tr%C3%A4gerverein Solingen e.V.":MAILTO:info@ptv-solingen.de
END:VEVENT
BEGIN:VEVENT
DTSTART;TZID=UTC:20220825T150000
DTEND;TZID=UTC:20220825T170000
DTSTAMP:20260421T202827
CREATED:20220722T082817Z
LAST-MODIFIED:20220804T063652Z
UID:8684-1661439600-1661446800@ptv-solingen.de
SUMMARY:Treffen für junge Erwachsene von 18 bis 40 Jahren
DESCRIPTION:Treffen für junge Erwachsene von 18 bis 40 Jahren \nJeden Donnerstag von 15:00 – 17:00 Uhr \nmit Frau Ischebeck\, Frau Noll und Frau Gerth
URL:https://ptv-solingen.de/event/treffen-fuer-junge-erwachsene-von-18-bis-40-jahren-duplicate-1-37/
LOCATION:Kölner Straße\, Kölner Straße 1\, Solingen\, 42651\, Deutschland
ATTACH;FMTTYPE=image/jpeg:https://ptv-solingen.de/wp-content/uploads/2021/04/AdobeStock_206183606-scaled.jpeg
ORGANIZER;CN="Psychosozialer Tr%C3%A4gerverein Solingen e.V.":MAILTO:info@ptv-solingen.de
END:VEVENT
BEGIN:VEVENT
DTSTART;TZID=UTC:20220826T093000
DTEND;TZID=UTC:20220826T103000
DTSTAMP:20260421T202827
CREATED:20220722T082929Z
LAST-MODIFIED:20220722T082929Z
UID:8686-1661506200-1661509800@ptv-solingen.de
SUMMARY:Frühstück am Runden Tisch
DESCRIPTION:Frühstück am Runden Tisch auf der Kölner Straße \nJeden Freitag von 09:30-10:30 Uhr\nAnmeldung bis Donnerstag\, 13:00 Uhr
URL:https://ptv-solingen.de/event/fruehstueck-am-runden-tisch-duplicate-1-35/
LOCATION:Kölner Straße\, Kölner Straße 1\, Solingen\, 42651\, Deutschland
ATTACH;FMTTYPE=image/jpeg:https://ptv-solingen.de/wp-content/uploads/2021/11/AdobeStock_453679680-min-scaled.jpeg
ORGANIZER;CN="Psychosozialer Tr%C3%A4gerverein Solingen e.V.":MAILTO:info@ptv-solingen.de
END:VEVENT
BEGIN:VEVENT
DTSTART;TZID=UTC:20220826T160000
DTEND;TZID=UTC:20220826T180000
DTSTAMP:20260421T202827
CREATED:20220728T072521Z
LAST-MODIFIED:20220728T072622Z
UID:8693-1661529600-1661536800@ptv-solingen.de
SUMMARY:Die Mundartgruppe
DESCRIPTION:Von 13:00 – 15:00 Uhr auf der Kölner Straße \nBitte vorher telefonisch bei Fr Steingans anmelden. \nAnsprechpartnerin:\nFrau Steingans Telefon: 0173 – 35 64 858
URL:https://ptv-solingen.de/event/die-mundartgruppe-3/
LOCATION:Kölner Straße\, Kölner Straße 1\, Solingen\, 42651\, Deutschland
ATTACH;FMTTYPE=image/jpeg:https://ptv-solingen.de/wp-content/uploads/2021/09/9444068-5e518c43-9eac-4bf8-9b49-e05ff9ea19ed-0-44a7.jpg
ORGANIZER;CN="Psychosozialer Tr%C3%A4gerverein Solingen e.V.":MAILTO:info@ptv-solingen.de
END:VEVENT
BEGIN:VEVENT
DTSTART;TZID=UTC:20220829T143000
DTEND;TZID=UTC:20220829T170000
DTSTAMP:20260421T202827
CREATED:20220728T072732Z
LAST-MODIFIED:20220728T072732Z
UID:8695-1661783400-1661792400@ptv-solingen.de
SUMMARY:Strick- und Handarbeitsgruppe
DESCRIPTION:Stricken und Häkeln mit Frau König-Ramadani \nMontags\, 14.30 Uhr – 17.00 Uhr \nIm Sommer treffen wir uns im Kleingarten Nr.5\, in der Kleingartenanlage Gabelsberg. Im Winter treffen wir uns in der Beckmannstraße 110. \nGemeinsam genießen wir unser Hobby und stricken\, spinnen und häkeln was auch immer grade Spaß macht. Gegenseitig helfen wir uns gerne und kommen gemeinsam gut voran. \nBei Interesse melden Sie sich bitte bei:\nFrau König-Ramadani unter 0173 – 248 08 76\nBitte vorher telefonisch anmelden!
URL:https://ptv-solingen.de/event/strick-und-handarbeitsgruppe-duplicate-1-38/
LOCATION:Beckmannstraße\, Beckmannstr. 110\, Solingen\, 42659\, Deutschland
ATTACH;FMTTYPE=image/jpeg:https://ptv-solingen.de/wp-content/uploads/2021/11/AdobeStock_78575029-min-scaled.jpeg
ORGANIZER;CN="Psychosozialer Tr%C3%A4gerverein Solingen e.V.":MAILTO:info@ptv-solingen.de
END:VEVENT
BEGIN:VEVENT
DTSTART;TZID=UTC:20220831T160000
DTEND;TZID=UTC:20220831T180000
DTSTAMP:20260421T202827
CREATED:20220728T072830Z
LAST-MODIFIED:20220728T072830Z
UID:8697-1661961600-1661968800@ptv-solingen.de
SUMMARY:Die Gartengruppe
DESCRIPTION:Jeden Mittwoch von 16:00 – 18:00 Uhr \nDas Treffen der Gartengruppe findet im Garten Nr. 5 des Kleingärtnerverein Gabelsbergerstraße e.V. statt. \nGemeinsam gestalten und bewirtschaften wir unseren Kleingarten. Gerne sammeln wir unsere Ideen\, setzen diese nach Möglichkeit um und genießen die Ergebnisse. \n \nBei schlechtem Wetter den Ort des Treffens bitte erfragen.\nBei Interesse melden Sie sich bitte bei uns\, wir geben Ihnen gerne weitere Informationen: \nBirgit Büque                        0173 – 248 08 61\nUlrike König-Ramadani    0173 – 248 08 76
URL:https://ptv-solingen.de/event/die-gartengruppe-duplicate-1-39/
LOCATION:Gartenanlage Gabelsberg\, Wittekindstraße 2\, Solingen\, 42659\, Deutschland
ATTACH;FMTTYPE=image/jpeg:https://ptv-solingen.de/wp-content/uploads/2021/09/garten-scaled-e1631092097189.jpg
ORGANIZER;CN="Psychosozialer Tr%C3%A4gerverein Solingen e.V.":MAILTO:info@ptv-solingen.de
END:VEVENT
END:VCALENDAR