BEGIN:VCALENDAR
VERSION:2.0
PRODID:-//Psychosozialer Trägerverein Solingen e. V. - ECPv6.15.12.2//NONSGML v1.0//EN
CALSCALE:GREGORIAN
METHOD:PUBLISH
X-ORIGINAL-URL:https://ptv-solingen.de
X-WR-CALDESC:Veranstaltungen für Psychosozialer Trägerverein Solingen e. V.
REFRESH-INTERVAL;VALUE=DURATION:PT1H
X-Robots-Tag:noindex
X-PUBLISHED-TTL:PT1H
BEGIN:VTIMEZONE
TZID:UTC
BEGIN:STANDARD
TZOFFSETFROM:+0000
TZOFFSETTO:+0000
TZNAME:UTC
DTSTART:20210101T000000
END:STANDARD
END:VTIMEZONE
BEGIN:VEVENT
DTSTART;TZID=UTC:20220701T093000
DTEND;TZID=UTC:20220701T103000
DTSTAMP:20260421T215919
CREATED:20220623T075243Z
LAST-MODIFIED:20220623T075243Z
UID:8547-1656667800-1656671400@ptv-solingen.de
SUMMARY:Frühstück am Runden Tisch
DESCRIPTION:Frühstück am Runden Tisch auf der Kölner Straße \nJeden Freitag von 09:30-10:30 Uhr\nAnmeldung bis Donnerstag\, 13:00 Uhr
URL:https://ptv-solingen.de/event/fruehstueck-am-runden-tisch-duplicate-1-27/
LOCATION:Kölner Straße\, Kölner Straße 1\, Solingen\, 42651\, Deutschland
ATTACH;FMTTYPE=image/jpeg:https://ptv-solingen.de/wp-content/uploads/2021/11/AdobeStock_453679680-min-scaled.jpeg
ORGANIZER;CN="Psychosozialer Tr%C3%A4gerverein Solingen e.V.":MAILTO:info@ptv-solingen.de
END:VEVENT
BEGIN:VEVENT
DTSTART;TZID=UTC:20220704T143000
DTEND;TZID=UTC:20220704T170000
DTSTAMP:20260421T215919
CREATED:20220623T075404Z
LAST-MODIFIED:20220623T075404Z
UID:8549-1656945000-1656954000@ptv-solingen.de
SUMMARY:Strick- und Handarbeitsgruppe
DESCRIPTION:Stricken und Häkeln mit Frau König-Ramadani \nMontags\, 14.30 Uhr – 17.00 Uhr \nIm Sommer treffen wir uns im Kleingarten Nr.5\, in der Kleingartenanlage Gabelsberg. Im Winter treffen wir uns in der Beckmannstraße 110. \nGemeinsam genießen wir unser Hobby und stricken\, spinnen und häkeln was auch immer grade Spaß macht. Gegenseitig helfen wir uns gerne und kommen gemeinsam gut voran. \nBei Interesse melden Sie sich bitte bei:\nFrau König-Ramadani unter 0173 – 248 08 76\nBitte vorher telefonisch anmelden!
URL:https://ptv-solingen.de/event/strick-und-handarbeitsgruppe-duplicate-1-30/
LOCATION:Beckmannstraße\, Beckmannstr. 110\, Solingen\, 42659\, Deutschland
ATTACH;FMTTYPE=image/jpeg:https://ptv-solingen.de/wp-content/uploads/2021/11/AdobeStock_78575029-min-scaled.jpeg
ORGANIZER;CN="Psychosozialer Tr%C3%A4gerverein Solingen e.V.":MAILTO:info@ptv-solingen.de
END:VEVENT
BEGIN:VEVENT
DTSTART;TZID=UTC:20220705T170000
DTEND;TZID=UTC:20220705T200000
DTSTAMP:20260421T215919
CREATED:20220623T075546Z
LAST-MODIFIED:20220623T075546Z
UID:8551-1657040400-1657051200@ptv-solingen.de
SUMMARY:Die Kochgruppe
DESCRIPTION:Von 17:00 – 20:00 Uhr auf der Kölner Straße \nBitte vorher telefonisch bei Herrn Grapentin anmelden. \nAnsprechpartner:\nHerr Grapentin Telefon: 0212 – 248 21 59
URL:https://ptv-solingen.de/event/die-kochgruppe-duplicate-1-9/
LOCATION:Kölner Straße\, Kölner Straße 1\, Solingen\, 42651\, Deutschland
ATTACH;FMTTYPE=image/jpeg:https://ptv-solingen.de/wp-content/uploads/2021/11/AdobeStock_48306297-min-scaled.jpeg
ORGANIZER;CN="Psychosozialer Tr%C3%A4gerverein Solingen e.V.":MAILTO:info@ptv-solingen.de
END:VEVENT
BEGIN:VEVENT
DTSTART;TZID=UTC:20220706T160000
DTEND;TZID=UTC:20220706T180000
DTSTAMP:20260421T215919
CREATED:20220623T075639Z
LAST-MODIFIED:20220623T075701Z
UID:8553-1657123200-1657130400@ptv-solingen.de
SUMMARY:Die Gartengruppe
DESCRIPTION:Jeden Mittwoch von 16:00 – 18:00 Uhr \nDas Treffen der Gartengruppe findet im Garten Nr. 5 des Kleingärtnerverein Gabelsbergerstraße e.V. statt. \nGemeinsam gestalten und bewirtschaften wir unseren Kleingarten. Gerne sammeln wir unsere Ideen\, setzen diese nach Möglichkeit um und genießen die Ergebnisse. \n \nBei schlechtem Wetter den Ort des Treffens bitte erfragen.\nBei Interesse melden Sie sich bitte bei uns\, wir geben Ihnen gerne weitere Informationen: \nBirgit Büque                        0173 – 248 08 61\nUlrike König-Ramadani    0173 – 248 08 76
URL:https://ptv-solingen.de/event/die-gartengruppe-duplicate-1-31/
LOCATION:Gartenanlage Gabelsberg\, Wittekindstraße 2\, Solingen\, 42659\, Deutschland
ATTACH;FMTTYPE=image/jpeg:https://ptv-solingen.de/wp-content/uploads/2021/09/garten-scaled-e1631092097189.jpg
ORGANIZER;CN="Psychosozialer Tr%C3%A4gerverein Solingen e.V.":MAILTO:info@ptv-solingen.de
END:VEVENT
BEGIN:VEVENT
DTSTART;TZID=UTC:20220707T150000
DTEND;TZID=UTC:20220707T170000
DTSTAMP:20260421T215919
CREATED:20220623T075756Z
LAST-MODIFIED:20220623T075756Z
UID:8556-1657206000-1657213200@ptv-solingen.de
SUMMARY:Treffen für junge Erwachsene von 18 bis 40 Jahren
DESCRIPTION:Treffen für junge Erwachsene von 18 bis 40 Jahren \nJeden Donnerstag von 15:00 – 17:00 Uhr \nmit Frau Ischebeck\, Frau Noll und Frau Gerth \nBitte vorher telefonisch bei den Mitarbeiterinnen erkundigen ob\nder Treffpunkt wegen der Pandemie-Einschränkungen\nstattfindet.
URL:https://ptv-solingen.de/event/treffen-fuer-junge-erwachsene-von-18-bis-40-jahren-duplicate-1-30/
LOCATION:Kölner Straße\, Kölner Straße 1\, Solingen\, 42651\, Deutschland
ATTACH;FMTTYPE=image/jpeg:https://ptv-solingen.de/wp-content/uploads/2021/04/AdobeStock_206183606-scaled.jpeg
ORGANIZER;CN="Psychosozialer Tr%C3%A4gerverein Solingen e.V.":MAILTO:info@ptv-solingen.de
END:VEVENT
BEGIN:VEVENT
DTSTART;TZID=UTC:20220708T093000
DTEND;TZID=UTC:20220708T103000
DTSTAMP:20260421T215919
CREATED:20220623T080939Z
LAST-MODIFIED:20220623T080939Z
UID:8558-1657272600-1657276200@ptv-solingen.de
SUMMARY:Frühstück am Runden Tisch
DESCRIPTION:Frühstück am Runden Tisch auf der Kölner Straße \nJeden Freitag von 09:30-10:30 Uhr\nAnmeldung bis Donnerstag\, 13:00 Uhr
URL:https://ptv-solingen.de/event/fruehstueck-am-runden-tisch-duplicate-1-28/
LOCATION:Kölner Straße\, Kölner Straße 1\, Solingen\, 42651\, Deutschland
ATTACH;FMTTYPE=image/jpeg:https://ptv-solingen.de/wp-content/uploads/2021/11/AdobeStock_453679680-min-scaled.jpeg
ORGANIZER;CN="Psychosozialer Tr%C3%A4gerverein Solingen e.V.":MAILTO:info@ptv-solingen.de
END:VEVENT
BEGIN:VEVENT
DTSTART;TZID=UTC:20220708T160000
DTEND;TZID=UTC:20220708T180000
DTSTAMP:20260421T215919
CREATED:20220623T081033Z
LAST-MODIFIED:20220623T081033Z
UID:8560-1657296000-1657303200@ptv-solingen.de
SUMMARY:Die Mundartgruppe
DESCRIPTION:Von 16:00 – 18:00 Uhr auf der Kölner Straße \nBitte vorher telefonisch bei Fr Steingans anmelden. \nAnsprechpartnerin:\nFrau Steingans Telefon: 0173 – 35 64 858
URL:https://ptv-solingen.de/event/die-mundartgruppe-duplicate-1-12/
LOCATION:Kölner Straße\, Kölner Straße 1\, Solingen\, 42651\, Deutschland
ATTACH;FMTTYPE=image/jpeg:https://ptv-solingen.de/wp-content/uploads/2021/09/9444068-5e518c43-9eac-4bf8-9b49-e05ff9ea19ed-0-44a7.jpg
ORGANIZER;CN="Psychosozialer Tr%C3%A4gerverein Solingen e.V.":MAILTO:info@ptv-solingen.de
END:VEVENT
BEGIN:VEVENT
DTSTART;TZID=UTC:20220711T143000
DTEND;TZID=UTC:20220711T170000
DTSTAMP:20260421T215919
CREATED:20220623T081156Z
LAST-MODIFIED:20220623T082402Z
UID:8562-1657549800-1657558800@ptv-solingen.de
SUMMARY:Strick- und Handarbeitsgruppe
DESCRIPTION:Stricken und Häkeln mit Frau König-Ramadani \nMontags\, 14.30 Uhr – 17.00 Uhr \nIm Sommer treffen wir uns im Kleingarten Nr.5\, in der Kleingartenanlage Gabelsberg. Im Winter treffen wir uns in der Beckmannstraße 110. \nGemeinsam genießen wir unser Hobby und stricken\, spinnen und häkeln was auch immer grade Spaß macht. Gegenseitig helfen wir uns gerne und kommen gemeinsam gut voran. \nBei Interesse melden Sie sich bitte bei:\nFrau König-Ramadani unter 0173 – 248 08 76\nBitte vorher telefonisch anmelden!
URL:https://ptv-solingen.de/event/strick-und-handarbeitsgruppe-duplicate-1-31/
LOCATION:Beckmannstraße\, Beckmannstr. 110\, Solingen\, 42659\, Deutschland
ATTACH;FMTTYPE=image/jpeg:https://ptv-solingen.de/wp-content/uploads/2021/11/AdobeStock_78575029-min-scaled.jpeg
ORGANIZER;CN="Psychosozialer Tr%C3%A4gerverein Solingen e.V.":MAILTO:info@ptv-solingen.de
END:VEVENT
BEGIN:VEVENT
DTSTART;TZID=UTC:20220713T160000
DTEND;TZID=UTC:20220713T180000
DTSTAMP:20260421T215919
CREATED:20220623T082653Z
LAST-MODIFIED:20220623T082653Z
UID:8564-1657728000-1657735200@ptv-solingen.de
SUMMARY:Die Gartengruppe
DESCRIPTION:Jeden Mittwoch von 16:00 – 18:00 Uhr \nDas Treffen der Gartengruppe findet im Garten Nr. 5 des Kleingärtnerverein Gabelsbergerstraße e.V. statt. \nGemeinsam gestalten und bewirtschaften wir unseren Kleingarten. Gerne sammeln wir unsere Ideen\, setzen diese nach Möglichkeit um und genießen die Ergebnisse. \n \nBei schlechtem Wetter den Ort des Treffens bitte erfragen.\nBei Interesse melden Sie sich bitte bei uns\, wir geben Ihnen gerne weitere Informationen: \nBirgit Büque                        0173 – 248 08 61\nUlrike König-Ramadani    0173 – 248 08 76
URL:https://ptv-solingen.de/event/die-gartengruppe-duplicate-1-32/
LOCATION:Gartenanlage Gabelsberg\, Wittekindstraße 2\, Solingen\, 42659\, Deutschland
ATTACH;FMTTYPE=image/jpeg:https://ptv-solingen.de/wp-content/uploads/2021/09/garten-scaled-e1631092097189.jpg
ORGANIZER;CN="Psychosozialer Tr%C3%A4gerverein Solingen e.V.":MAILTO:info@ptv-solingen.de
END:VEVENT
BEGIN:VEVENT
DTSTART;TZID=UTC:20220714T150000
DTEND;TZID=UTC:20220714T170000
DTSTAMP:20260421T215919
CREATED:20220623T082747Z
LAST-MODIFIED:20220623T082747Z
UID:8566-1657810800-1657818000@ptv-solingen.de
SUMMARY:Treffen für junge Erwachsene von 18 bis 40 Jahren
DESCRIPTION:Treffen für junge Erwachsene von 18 bis 40 Jahren \nJeden Donnerstag von 15:00 – 17:00 Uhr \nmit Frau Ischebeck\, Frau Noll und Frau Gerth \nBitte vorher telefonisch bei den Mitarbeiterinnen erkundigen ob\nder Treffpunkt wegen der Pandemie-Einschränkungen\nstattfindet.
URL:https://ptv-solingen.de/event/treffen-fuer-junge-erwachsene-von-18-bis-40-jahren-duplicate-1-31/
LOCATION:Kölner Straße\, Kölner Straße 1\, Solingen\, 42651\, Deutschland
ATTACH;FMTTYPE=image/jpeg:https://ptv-solingen.de/wp-content/uploads/2021/04/AdobeStock_206183606-scaled.jpeg
ORGANIZER;CN="Psychosozialer Tr%C3%A4gerverein Solingen e.V.":MAILTO:info@ptv-solingen.de
END:VEVENT
BEGIN:VEVENT
DTSTART;TZID=UTC:20220715T093000
DTEND;TZID=UTC:20220715T103000
DTSTAMP:20260421T215919
CREATED:20220623T082840Z
LAST-MODIFIED:20220623T082840Z
UID:8568-1657877400-1657881000@ptv-solingen.de
SUMMARY:Frühstück am Runden Tisch
DESCRIPTION:Frühstück am Runden Tisch auf der Kölner Straße \nJeden Freitag von 09:30-10:30 Uhr\nAnmeldung bis Donnerstag\, 13:00 Uhr
URL:https://ptv-solingen.de/event/fruehstueck-am-runden-tisch-duplicate-1-29/
LOCATION:Kölner Straße\, Kölner Straße 1\, Solingen\, 42651\, Deutschland
ATTACH;FMTTYPE=image/jpeg:https://ptv-solingen.de/wp-content/uploads/2021/11/AdobeStock_453679680-min-scaled.jpeg
ORGANIZER;CN="Psychosozialer Tr%C3%A4gerverein Solingen e.V.":MAILTO:info@ptv-solingen.de
END:VEVENT
BEGIN:VEVENT
DTSTART;TZID=UTC:20220718T143000
DTEND;TZID=UTC:20220718T170000
DTSTAMP:20260421T215919
CREATED:20220623T082926Z
LAST-MODIFIED:20220623T082926Z
UID:8570-1658154600-1658163600@ptv-solingen.de
SUMMARY:Strick- und Handarbeitsgruppe
DESCRIPTION:Stricken und Häkeln mit Frau König-Ramadani \nMontags\, 14.30 Uhr – 17.00 Uhr \nIm Sommer treffen wir uns im Kleingarten Nr.5\, in der Kleingartenanlage Gabelsberg. Im Winter treffen wir uns in der Beckmannstraße 110. \nGemeinsam genießen wir unser Hobby und stricken\, spinnen und häkeln was auch immer grade Spaß macht. Gegenseitig helfen wir uns gerne und kommen gemeinsam gut voran. \nBei Interesse melden Sie sich bitte bei:\nFrau König-Ramadani unter 0173 – 248 08 76\nBitte vorher telefonisch anmelden!
URL:https://ptv-solingen.de/event/strick-und-handarbeitsgruppe-duplicate-1-32/
LOCATION:Beckmannstraße\, Beckmannstr. 110\, Solingen\, 42659\, Deutschland
ATTACH;FMTTYPE=image/jpeg:https://ptv-solingen.de/wp-content/uploads/2021/11/AdobeStock_78575029-min-scaled.jpeg
ORGANIZER;CN="Psychosozialer Tr%C3%A4gerverein Solingen e.V.":MAILTO:info@ptv-solingen.de
END:VEVENT
BEGIN:VEVENT
DTSTART;TZID=UTC:20220720T160000
DTEND;TZID=UTC:20220720T180000
DTSTAMP:20260421T215919
CREATED:20220623T083014Z
LAST-MODIFIED:20220623T083014Z
UID:8572-1658332800-1658340000@ptv-solingen.de
SUMMARY:Die Gartengruppe
DESCRIPTION:Jeden Mittwoch von 16:00 – 18:00 Uhr \nDas Treffen der Gartengruppe findet im Garten Nr. 5 des Kleingärtnerverein Gabelsbergerstraße e.V. statt. \nGemeinsam gestalten und bewirtschaften wir unseren Kleingarten. Gerne sammeln wir unsere Ideen\, setzen diese nach Möglichkeit um und genießen die Ergebnisse. \n \nBei schlechtem Wetter den Ort des Treffens bitte erfragen.\nBei Interesse melden Sie sich bitte bei uns\, wir geben Ihnen gerne weitere Informationen: \nBirgit Büque                        0173 – 248 08 61\nUlrike König-Ramadani    0173 – 248 08 76
URL:https://ptv-solingen.de/event/die-gartengruppe-duplicate-1-33/
LOCATION:Gartenanlage Gabelsberg\, Wittekindstraße 2\, Solingen\, 42659\, Deutschland
ATTACH;FMTTYPE=image/jpeg:https://ptv-solingen.de/wp-content/uploads/2021/09/garten-scaled-e1631092097189.jpg
ORGANIZER;CN="Psychosozialer Tr%C3%A4gerverein Solingen e.V.":MAILTO:info@ptv-solingen.de
END:VEVENT
BEGIN:VEVENT
DTSTART;TZID=UTC:20220721T150000
DTEND;TZID=UTC:20220721T170000
DTSTAMP:20260421T215919
CREATED:20220623T083406Z
LAST-MODIFIED:20220623T083406Z
UID:8576-1658415600-1658422800@ptv-solingen.de
SUMMARY:Treffen für junge Erwachsene von 18 bis 40 Jahren
DESCRIPTION:Treffen für junge Erwachsene von 18 bis 40 Jahren \nJeden Donnerstag von 15:00 – 17:00 Uhr \nmit Frau Ischebeck\, Frau Noll und Frau Gerth \nBitte vorher telefonisch bei den Mitarbeiterinnen erkundigen ob\nder Treffpunkt wegen der Pandemie-Einschränkungen\nstattfindet.
URL:https://ptv-solingen.de/event/treffen-fuer-junge-erwachsene-von-18-bis-40-jahren-duplicate-1-32/
LOCATION:Kölner Straße\, Kölner Straße 1\, Solingen\, 42651\, Deutschland
ATTACH;FMTTYPE=image/jpeg:https://ptv-solingen.de/wp-content/uploads/2021/04/AdobeStock_206183606-scaled.jpeg
ORGANIZER;CN="Psychosozialer Tr%C3%A4gerverein Solingen e.V.":MAILTO:info@ptv-solingen.de
END:VEVENT
BEGIN:VEVENT
DTSTART;TZID=UTC:20220722T093000
DTEND;TZID=UTC:20220722T103000
DTSTAMP:20260421T215919
CREATED:20220623T083516Z
LAST-MODIFIED:20220623T083516Z
UID:8578-1658482200-1658485800@ptv-solingen.de
SUMMARY:Frühstück am Runden Tisch
DESCRIPTION:Frühstück am Runden Tisch auf der Kölner Straße \nJeden Freitag von 09:30-10:30 Uhr\nAnmeldung bis Donnerstag\, 13:00 Uhr
URL:https://ptv-solingen.de/event/fruehstueck-am-runden-tisch-duplicate-1-30/
LOCATION:Kölner Straße\, Kölner Straße 1\, Solingen\, 42651\, Deutschland
ATTACH;FMTTYPE=image/jpeg:https://ptv-solingen.de/wp-content/uploads/2021/11/AdobeStock_453679680-min-scaled.jpeg
ORGANIZER;CN="Psychosozialer Tr%C3%A4gerverein Solingen e.V.":MAILTO:info@ptv-solingen.de
END:VEVENT
BEGIN:VEVENT
DTSTART;TZID=UTC:20220722T160000
DTEND;TZID=UTC:20220722T180000
DTSTAMP:20260421T215919
CREATED:20220623T084058Z
LAST-MODIFIED:20220623T084058Z
UID:8580-1658505600-1658512800@ptv-solingen.de
SUMMARY:Die Mundartgruppe
DESCRIPTION:Von 16:00 – 18:00 Uhr auf der Kölner Straße \nBitte vorher telefonisch bei Fr Steingans anmelden. \nAnsprechpartnerin:\nFrau Steingans Telefon: 0173 – 35 64 858
URL:https://ptv-solingen.de/event/die-mundartgruppe-duplicate-1-13/
LOCATION:Kölner Straße\, Kölner Straße 1\, Solingen\, 42651\, Deutschland
ATTACH;FMTTYPE=image/jpeg:https://ptv-solingen.de/wp-content/uploads/2021/09/9444068-5e518c43-9eac-4bf8-9b49-e05ff9ea19ed-0-44a7.jpg
ORGANIZER;CN="Psychosozialer Tr%C3%A4gerverein Solingen e.V.":MAILTO:info@ptv-solingen.de
END:VEVENT
BEGIN:VEVENT
DTSTART;TZID=UTC:20220725T143000
DTEND;TZID=UTC:20220725T170000
DTSTAMP:20260421T215919
CREATED:20220623T084144Z
LAST-MODIFIED:20220623T084144Z
UID:8582-1658759400-1658768400@ptv-solingen.de
SUMMARY:Strick- und Handarbeitsgruppe
DESCRIPTION:Stricken und Häkeln mit Frau König-Ramadani \nMontags\, 14.30 Uhr – 17.00 Uhr \nIm Sommer treffen wir uns im Kleingarten Nr.5\, in der Kleingartenanlage Gabelsberg. Im Winter treffen wir uns in der Beckmannstraße 110. \nGemeinsam genießen wir unser Hobby und stricken\, spinnen und häkeln was auch immer grade Spaß macht. Gegenseitig helfen wir uns gerne und kommen gemeinsam gut voran. \nBei Interesse melden Sie sich bitte bei:\nFrau König-Ramadani unter 0173 – 248 08 76\nBitte vorher telefonisch anmelden!
URL:https://ptv-solingen.de/event/strick-und-handarbeitsgruppe-duplicate-1-33/
LOCATION:Beckmannstraße\, Beckmannstr. 110\, Solingen\, 42659\, Deutschland
ATTACH;FMTTYPE=image/jpeg:https://ptv-solingen.de/wp-content/uploads/2021/11/AdobeStock_78575029-min-scaled.jpeg
ORGANIZER;CN="Psychosozialer Tr%C3%A4gerverein Solingen e.V.":MAILTO:info@ptv-solingen.de
END:VEVENT
BEGIN:VEVENT
DTSTART;TZID=UTC:20220727T160000
DTEND;TZID=UTC:20220727T180000
DTSTAMP:20260421T215919
CREATED:20220623T084342Z
LAST-MODIFIED:20220623T084342Z
UID:8584-1658937600-1658944800@ptv-solingen.de
SUMMARY:Die Gartengruppe
DESCRIPTION:Jeden Mittwoch von 16:00 – 18:00 Uhr \nDas Treffen der Gartengruppe findet im Garten Nr. 5 des Kleingärtnerverein Gabelsbergerstraße e.V. statt. \nGemeinsam gestalten und bewirtschaften wir unseren Kleingarten. Gerne sammeln wir unsere Ideen\, setzen diese nach Möglichkeit um und genießen die Ergebnisse. \n \nBei schlechtem Wetter den Ort des Treffens bitte erfragen.\nBei Interesse melden Sie sich bitte bei uns\, wir geben Ihnen gerne weitere Informationen: \nBirgit Büque                        0173 – 248 08 61\nUlrike König-Ramadani    0173 – 248 08 76
URL:https://ptv-solingen.de/event/die-gartengruppe-duplicate-1-34/
LOCATION:Gartenanlage Gabelsberg\, Wittekindstraße 2\, Solingen\, 42659\, Deutschland
ATTACH;FMTTYPE=image/jpeg:https://ptv-solingen.de/wp-content/uploads/2021/09/garten-scaled-e1631092097189.jpg
ORGANIZER;CN="Psychosozialer Tr%C3%A4gerverein Solingen e.V.":MAILTO:info@ptv-solingen.de
END:VEVENT
BEGIN:VEVENT
DTSTART;TZID=UTC:20220728T150000
DTEND;TZID=UTC:20220728T170000
DTSTAMP:20260421T215919
CREATED:20220623T084423Z
LAST-MODIFIED:20220623T084423Z
UID:8586-1659020400-1659027600@ptv-solingen.de
SUMMARY:Treffen für junge Erwachsene von 18 bis 40 Jahren
DESCRIPTION:Treffen für junge Erwachsene von 18 bis 40 Jahren \nJeden Donnerstag von 15:00 – 17:00 Uhr \nmit Frau Ischebeck\, Frau Noll und Frau Gerth \nBitte vorher telefonisch bei den Mitarbeiterinnen erkundigen ob\nder Treffpunkt wegen der Pandemie-Einschränkungen\nstattfindet.
URL:https://ptv-solingen.de/event/treffen-fuer-junge-erwachsene-von-18-bis-40-jahren-duplicate-1-33/
LOCATION:Kölner Straße\, Kölner Straße 1\, Solingen\, 42651\, Deutschland
ATTACH;FMTTYPE=image/jpeg:https://ptv-solingen.de/wp-content/uploads/2021/04/AdobeStock_206183606-scaled.jpeg
ORGANIZER;CN="Psychosozialer Tr%C3%A4gerverein Solingen e.V.":MAILTO:info@ptv-solingen.de
END:VEVENT
BEGIN:VEVENT
DTSTART;TZID=UTC:20220729T093000
DTEND;TZID=UTC:20220729T103000
DTSTAMP:20260421T215919
CREATED:20220623T084508Z
LAST-MODIFIED:20220623T084508Z
UID:8588-1659087000-1659090600@ptv-solingen.de
SUMMARY:Frühstück am Runden Tisch
DESCRIPTION:Frühstück am Runden Tisch auf der Kölner Straße \nJeden Freitag von 09:30-10:30 Uhr\nAnmeldung bis Donnerstag\, 13:00 Uhr
URL:https://ptv-solingen.de/event/fruehstueck-am-runden-tisch-duplicate-1-31/
LOCATION:Kölner Straße\, Kölner Straße 1\, Solingen\, 42651\, Deutschland
ATTACH;FMTTYPE=image/jpeg:https://ptv-solingen.de/wp-content/uploads/2021/11/AdobeStock_453679680-min-scaled.jpeg
ORGANIZER;CN="Psychosozialer Tr%C3%A4gerverein Solingen e.V.":MAILTO:info@ptv-solingen.de
END:VEVENT
END:VCALENDAR