BEGIN:VCALENDAR
VERSION:2.0
PRODID:-//Psychosozialer Trägerverein Solingen e. V. - ECPv6.15.12.2//NONSGML v1.0//EN
CALSCALE:GREGORIAN
METHOD:PUBLISH
X-WR-CALNAME:Psychosozialer Trägerverein Solingen e. V.
X-ORIGINAL-URL:https://ptv-solingen.de
X-WR-CALDESC:Veranstaltungen für Psychosozialer Trägerverein Solingen e. V.
REFRESH-INTERVAL;VALUE=DURATION:PT1H
X-Robots-Tag:noindex
X-PUBLISHED-TTL:PT1H
BEGIN:VTIMEZONE
TZID:UTC
BEGIN:STANDARD
TZOFFSETFROM:+0000
TZOFFSETTO:+0000
TZNAME:UTC
DTSTART:20210101T000000
END:STANDARD
END:VTIMEZONE
BEGIN:VEVENT
DTSTART;TZID=UTC:20220601T160000
DTEND;TZID=UTC:20220601T180000
DTSTAMP:20260421T232214
CREATED:20220523T065443Z
LAST-MODIFIED:20220523T065616Z
UID:8467-1654099200-1654106400@ptv-solingen.de
SUMMARY:Die Gartengruppe
DESCRIPTION:Jeden Mittwoch von 16:00 – 18:00 Uhr \nDas Treffen der Gartengruppe findet im Garten Nr. 5 des Kleingärtnerverein Gabelsbergerstraße e.V. statt. \nGemeinsam gestalten und bewirtschaften wir unseren Kleingarten. Gerne sammeln wir unsere Ideen\, setzen diese nach Möglichkeit um und genießen die Ergebnisse. \n \nBei schlechtem Wetter den Ort des Treffens bitte erfragen.\nBei Interesse melden Sie sich bitte bei uns\, wir geben Ihnen gerne weitere Informationen: \nVolker Dickerhoff                0151 – 730 192 82\nBirgit Büque                        0173 – 248 08 61\nUlrike König-Ramadani    0173 – 248 08 76
URL:https://ptv-solingen.de/event/die-gartengruppe/
LOCATION:Gartenanlage Gabelsberg\, Wittekindstraße 2\, Solingen\, 42659\, Deutschland
ATTACH;FMTTYPE=image/jpeg:https://ptv-solingen.de/wp-content/uploads/2021/09/garten-scaled-e1631092097189.jpg
ORGANIZER;CN="Psychosozialer Tr%C3%A4gerverein Solingen e.V.":MAILTO:info@ptv-solingen.de
END:VEVENT
BEGIN:VEVENT
DTSTART;TZID=UTC:20220602T150000
DTEND;TZID=UTC:20220602T170000
DTSTAMP:20260421T232214
CREATED:20220523T065658Z
LAST-MODIFIED:20220523T065827Z
UID:8469-1654182000-1654189200@ptv-solingen.de
SUMMARY:Treffen für junge Erwachsene von 18 bis 40 Jahren
DESCRIPTION:Treffen für junge Erwachsene von 18 bis 40 Jahren \nJeden Donnerstag von 15:00 – 17:00 Uhr \nmit Frau Ischebeck\, Frau Noll und Frau Gerth \nBitte vorher telefonisch bei den Mitarbeiterinnen erkundigen ob\nder Treffpunkt wegen der Pandemie-Einschränkungen\nstattfindet.
URL:https://ptv-solingen.de/event/treffen-fuer-junge-erwachsene-von-18-bis-40-jahren-3/
LOCATION:Kölner Straße\, Kölner Straße 1\, Solingen\, 42651\, Deutschland
ATTACH;FMTTYPE=image/jpeg:https://ptv-solingen.de/wp-content/uploads/2021/04/AdobeStock_206183606-scaled.jpeg
ORGANIZER;CN="Psychosozialer Tr%C3%A4gerverein Solingen e.V.":MAILTO:info@ptv-solingen.de
END:VEVENT
BEGIN:VEVENT
DTSTART;TZID=UTC:20220603T093000
DTEND;TZID=UTC:20220603T103000
DTSTAMP:20260421T232214
CREATED:20220523T065851Z
LAST-MODIFIED:20220523T065934Z
UID:8472-1654248600-1654252200@ptv-solingen.de
SUMMARY:Frühstück am Runden Tisch
DESCRIPTION:Frühstück am Runden Tisch auf der Kölner Straße \nJeden Freitag von 09:30-10:30 Uhr\nAnmeldung bis Donnerstag\, 13:00 Uhr
URL:https://ptv-solingen.de/event/fruehstueck-am-runden-tisch-2/
LOCATION:Kölner Straße\, Kölner Straße 1\, Solingen\, 42651\, Deutschland
ATTACH;FMTTYPE=image/jpeg:https://ptv-solingen.de/wp-content/uploads/2021/11/AdobeStock_453679680-min-scaled.jpeg
ORGANIZER;CN="Psychosozialer Tr%C3%A4gerverein Solingen e.V.":MAILTO:info@ptv-solingen.de
END:VEVENT
BEGIN:VEVENT
DTSTART;TZID=UTC:20220607T170000
DTEND;TZID=UTC:20220607T200000
DTSTAMP:20260421T232214
CREATED:20220523T070023Z
LAST-MODIFIED:20220523T070104Z
UID:8474-1654621200-1654632000@ptv-solingen.de
SUMMARY:Die Kochgruppe
DESCRIPTION:Von 17:00 – 20:00 Uhr auf der Kölner Straße \nBitte vorher telefonisch bei Herrn Grapentin anmelden. \nAnsprechpartner:\nHerr Grapentin Telefon: 0212 – 248 21 59
URL:https://ptv-solingen.de/event/die-kochgruppe-2/
LOCATION:Kölner Straße\, Kölner Straße 1\, Solingen\, 42651\, Deutschland
ATTACH;FMTTYPE=image/jpeg:https://ptv-solingen.de/wp-content/uploads/2021/11/AdobeStock_48306297-min-scaled.jpeg
ORGANIZER;CN="Psychosozialer Tr%C3%A4gerverein Solingen e.V.":MAILTO:info@ptv-solingen.de
END:VEVENT
BEGIN:VEVENT
DTSTART;TZID=UTC:20220608T160000
DTEND;TZID=UTC:20220608T180000
DTSTAMP:20260421T232214
CREATED:20220523T070133Z
LAST-MODIFIED:20220523T070236Z
UID:8476-1654704000-1654711200@ptv-solingen.de
SUMMARY:Die Gartengruppe
DESCRIPTION:Jeden Mittwoch von 16:00 – 18:00 Uhr \nDas Treffen der Gartengruppe findet im Garten Nr. 5 des Kleingärtnerverein Gabelsbergerstraße e.V. statt. \nGemeinsam gestalten und bewirtschaften wir unseren Kleingarten. Gerne sammeln wir unsere Ideen\, setzen diese nach Möglichkeit um und genießen die Ergebnisse. \n \nBei schlechtem Wetter den Ort des Treffens bitte erfragen.\nBei Interesse melden Sie sich bitte bei uns\, wir geben Ihnen gerne weitere Informationen: \nVolker Dickerhoff                0151 – 730 192 82\nBirgit Büque                        0173 – 248 08 61\nUlrike König-Ramadani    0173 – 248 08 76
URL:https://ptv-solingen.de/event/die-gartengruppe-2/
LOCATION:Gartenanlage Gabelsberg\, Wittekindstraße 2\, Solingen\, 42659\, Deutschland
ATTACH;FMTTYPE=image/jpeg:https://ptv-solingen.de/wp-content/uploads/2021/09/garten-scaled-e1631092097189.jpg
ORGANIZER;CN="Psychosozialer Tr%C3%A4gerverein Solingen e.V.":MAILTO:info@ptv-solingen.de
END:VEVENT
BEGIN:VEVENT
DTSTART;TZID=UTC:20220609T150000
DTEND;TZID=UTC:20220609T170000
DTSTAMP:20260421T232214
CREATED:20220523T070330Z
LAST-MODIFIED:20220523T070422Z
UID:8478-1654786800-1654794000@ptv-solingen.de
SUMMARY:Treffen für junge Erwachsene von 18 bis 40 Jahren
DESCRIPTION:Treffen für junge Erwachsene von 18 bis 40 Jahren \nJeden Donnerstag von 15:00 – 17:00 Uhr \nmit Frau Ischebeck\, Frau Noll und Frau Gerth \nBitte vorher telefonisch bei den Mitarbeiterinnen erkundigen ob\nder Treffpunkt wegen der Pandemie-Einschränkungen\nstattfindet.
URL:https://ptv-solingen.de/event/treffen-fuer-junge-erwachsene-von-18-bis-40-jahren-4/
LOCATION:Kölner Straße\, Kölner Straße 1\, Solingen\, 42651\, Deutschland
ATTACH;FMTTYPE=image/jpeg:https://ptv-solingen.de/wp-content/uploads/2021/04/AdobeStock_206183606-scaled.jpeg
ORGANIZER;CN="Psychosozialer Tr%C3%A4gerverein Solingen e.V.":MAILTO:info@ptv-solingen.de
END:VEVENT
BEGIN:VEVENT
DTSTART;TZID=UTC:20220610T093000
DTEND;TZID=UTC:20220610T103000
DTSTAMP:20260421T232214
CREATED:20220523T070441Z
LAST-MODIFIED:20220523T070520Z
UID:8481-1654853400-1654857000@ptv-solingen.de
SUMMARY:Frühstück am Runden Tisch
DESCRIPTION:Frühstück am Runden Tisch auf der Kölner Straße \nJeden Freitag von 09:30-10:30 Uhr\nAnmeldung bis Donnerstag\, 13:00 Uhr
URL:https://ptv-solingen.de/event/fruehstueck-am-runden-tisch-3/
LOCATION:Kölner Straße\, Kölner Straße 1\, Solingen\, 42651\, Deutschland
ATTACH;FMTTYPE=image/jpeg:https://ptv-solingen.de/wp-content/uploads/2021/11/AdobeStock_453679680-min-scaled.jpeg
ORGANIZER;CN="Psychosozialer Tr%C3%A4gerverein Solingen e.V.":MAILTO:info@ptv-solingen.de
END:VEVENT
BEGIN:VEVENT
DTSTART;TZID=UTC:20220610T160000
DTEND;TZID=UTC:20220610T180000
DTSTAMP:20260421T232214
CREATED:20220523T070549Z
LAST-MODIFIED:20220523T070637Z
UID:8483-1654876800-1654884000@ptv-solingen.de
SUMMARY:Die Mundartgruppe
DESCRIPTION:Von 16:00 – 18:00 Uhr auf der Kölner Straße \nBitte vorher telefonisch bei Fr Steingans anmelden. \nAnsprechpartnerin:\nFrau Steingans Telefon: 0173 – 35 64 858
URL:https://ptv-solingen.de/event/die-mundartgruppe/
LOCATION:Kölner Straße\, Kölner Straße 1\, Solingen\, 42651\, Deutschland
ATTACH;FMTTYPE=image/jpeg:https://ptv-solingen.de/wp-content/uploads/2021/09/9444068-5e518c43-9eac-4bf8-9b49-e05ff9ea19ed-0-44a7.jpg
ORGANIZER;CN="Psychosozialer Tr%C3%A4gerverein Solingen e.V.":MAILTO:info@ptv-solingen.de
END:VEVENT
BEGIN:VEVENT
DTSTART;TZID=UTC:20220613T143000
DTEND;TZID=UTC:20220613T170000
DTSTAMP:20260421T232214
CREATED:20220523T071603Z
LAST-MODIFIED:20220523T071652Z
UID:8485-1655130600-1655139600@ptv-solingen.de
SUMMARY:Strick- und Handarbeitsgruppe
DESCRIPTION:Stricken und Häkeln mit Frau König-Ramadani \nMontags\, 14.30 Uhr – 17.00 Uhr \nIm Sommer treffen wir uns im Kleingarten Nr.5\, in der Kleingartenanlage Gabelsberg. Im Winter treffen wir uns in der Beckmannstraße 110. \nGemeinsam genießen wir unser Hobby und stricken\, spinnen und häkeln was auch immer grade Spaß macht. Gegenseitig helfen wir uns gerne und kommen gemeinsam gut voran. \nBei Interesse melden Sie sich bitte bei:\nFrau König-Ramadani unter 0173 – 248 08 76\nBitte vorher telefonisch anmelden!
URL:https://ptv-solingen.de/event/strick-und-handarbeitsgruppe/
LOCATION:Beckmannstraße\, Beckmannstr. 110\, Solingen\, 42659\, Deutschland
ATTACH;FMTTYPE=image/jpeg:https://ptv-solingen.de/wp-content/uploads/2021/11/AdobeStock_78575029-min-scaled.jpeg
ORGANIZER;CN="Psychosozialer Tr%C3%A4gerverein Solingen e.V.":MAILTO:info@ptv-solingen.de
END:VEVENT
BEGIN:VEVENT
DTSTART;TZID=UTC:20220615T160000
DTEND;TZID=UTC:20220615T180000
DTSTAMP:20260421T232214
CREATED:20220523T071722Z
LAST-MODIFIED:20220523T071809Z
UID:8487-1655308800-1655316000@ptv-solingen.de
SUMMARY:Die Gartengruppe
DESCRIPTION:Jeden Mittwoch von 16:00 – 18:00 Uhr \nDas Treffen der Gartengruppe findet im Garten Nr. 5 des Kleingärtnerverein Gabelsbergerstraße e.V. statt. \nGemeinsam gestalten und bewirtschaften wir unseren Kleingarten. Gerne sammeln wir unsere Ideen\, setzen diese nach Möglichkeit um und genießen die Ergebnisse. \n \nBei schlechtem Wetter den Ort des Treffens bitte erfragen.\nBei Interesse melden Sie sich bitte bei uns\, wir geben Ihnen gerne weitere Informationen: \nVolker Dickerhoff                0151 – 730 192 82\nBirgit Büque                        0173 – 248 08 61\nUlrike König-Ramadani    0173 – 248 08 76
URL:https://ptv-solingen.de/event/die-gartengruppe-3/
LOCATION:Gartenanlage Gabelsberg\, Wittekindstraße 2\, Solingen\, 42659\, Deutschland
ATTACH;FMTTYPE=image/jpeg:https://ptv-solingen.de/wp-content/uploads/2021/09/garten-scaled-e1631092097189.jpg
ORGANIZER;CN="Psychosozialer Tr%C3%A4gerverein Solingen e.V.":MAILTO:info@ptv-solingen.de
END:VEVENT
BEGIN:VEVENT
DTSTART;TZID=UTC:20220617T093000
DTEND;TZID=UTC:20220617T103000
DTSTAMP:20260421T232214
CREATED:20220523T071839Z
LAST-MODIFIED:20220523T071916Z
UID:8489-1655458200-1655461800@ptv-solingen.de
SUMMARY:Frühstück am Runden Tisch
DESCRIPTION:Frühstück am Runden Tisch auf der Kölner Straße \nJeden Freitag von 09:30-10:30 Uhr\nAnmeldung bis Donnerstag\, 13:00 Uhr
URL:https://ptv-solingen.de/event/fruehstueck-am-runden-tisch-4/
LOCATION:Kölner Straße\, Kölner Straße 1\, Solingen\, 42651\, Deutschland
ATTACH;FMTTYPE=image/jpeg:https://ptv-solingen.de/wp-content/uploads/2021/11/AdobeStock_453679680-min-scaled.jpeg
ORGANIZER;CN="Psychosozialer Tr%C3%A4gerverein Solingen e.V.":MAILTO:info@ptv-solingen.de
END:VEVENT
BEGIN:VEVENT
DTSTART;TZID=UTC:20220620T143000
DTEND;TZID=UTC:20220620T170000
DTSTAMP:20260421T232214
CREATED:20220523T071934Z
LAST-MODIFIED:20220523T072017Z
UID:8491-1655735400-1655744400@ptv-solingen.de
SUMMARY:Strick- und Handarbeitsgruppe
DESCRIPTION:Stricken und Häkeln mit Frau König-Ramadani \nMontags\, 14.30 Uhr – 17.00 Uhr \nIm Sommer treffen wir uns im Kleingarten Nr.5\, in der Kleingartenanlage Gabelsberg. Im Winter treffen wir uns in der Beckmannstraße 110. \nGemeinsam genießen wir unser Hobby und stricken\, spinnen und häkeln was auch immer grade Spaß macht. Gegenseitig helfen wir uns gerne und kommen gemeinsam gut voran. \nBei Interesse melden Sie sich bitte bei:\nFrau König-Ramadani unter 0173 – 248 08 76\nBitte vorher telefonisch anmelden!
URL:https://ptv-solingen.de/event/strick-und-handarbeitsgruppe-2/
LOCATION:Beckmannstraße\, Beckmannstr. 110\, Solingen\, 42659\, Deutschland
ATTACH;FMTTYPE=image/jpeg:https://ptv-solingen.de/wp-content/uploads/2021/11/AdobeStock_78575029-min-scaled.jpeg
ORGANIZER;CN="Psychosozialer Tr%C3%A4gerverein Solingen e.V.":MAILTO:info@ptv-solingen.de
END:VEVENT
BEGIN:VEVENT
DTSTART;TZID=UTC:20220621T110000
DTEND;TZID=UTC:20220621T120000
DTSTAMP:20260421T232214
CREATED:20220623T083148Z
LAST-MODIFIED:20220623T083307Z
UID:8574-1655809200-1655812800@ptv-solingen.de
SUMMARY:Vollversammlung am runden Tisch
DESCRIPTION:Vollversammlung am runden Tisch \nBeginn: 11.00 Uhr \nDie Vollversammlung ist ein Treffen für Besucher des Runden Tisches mit der Gruppenleitung des Runden Tisches\, um neue Informationen im Verein und für den Runden Tisch mitzubekommen\, aber auch um gemeinsam über Anregungen und Kritik der Nutzer zu sprechen. \nWir freuen uns auf zahlreiches Erscheinen!
URL:https://ptv-solingen.de/event/vollversammlung-am-runden-tisch-duplicate-1-4/
LOCATION:Kölner Straße\, Kölner Straße 1\, Solingen\, 42651\, Deutschland
ATTACH;FMTTYPE=image/jpeg:https://ptv-solingen.de/wp-content/uploads/2020/09/paper-3213924_960_720.jpg
ORGANIZER;CN="Psychosozialer Tr%C3%A4gerverein Solingen e.V.":MAILTO:info@ptv-solingen.de
END:VEVENT
BEGIN:VEVENT
DTSTART;TZID=UTC:20220622T160000
DTEND;TZID=UTC:20220622T180000
DTSTAMP:20260421T232214
CREATED:20220523T072032Z
LAST-MODIFIED:20220523T072122Z
UID:8493-1655913600-1655920800@ptv-solingen.de
SUMMARY:Die Gartengruppe
DESCRIPTION:Jeden Mittwoch von 16:00 – 18:00 Uhr \nDas Treffen der Gartengruppe findet im Garten Nr. 5 des Kleingärtnerverein Gabelsbergerstraße e.V. statt. \nGemeinsam gestalten und bewirtschaften wir unseren Kleingarten. Gerne sammeln wir unsere Ideen\, setzen diese nach Möglichkeit um und genießen die Ergebnisse. \n \nBei schlechtem Wetter den Ort des Treffens bitte erfragen.\nBei Interesse melden Sie sich bitte bei uns\, wir geben Ihnen gerne weitere Informationen: \nVolker Dickerhoff                0151 – 730 192 82\nBirgit Büque                        0173 – 248 08 61\nUlrike König-Ramadani    0173 – 248 08 76
URL:https://ptv-solingen.de/event/die-gartengruppe-4/
LOCATION:Gartenanlage Gabelsberg\, Wittekindstraße 2\, Solingen\, 42659\, Deutschland
ATTACH;FMTTYPE=image/jpeg:https://ptv-solingen.de/wp-content/uploads/2021/09/garten-scaled-e1631092097189.jpg
ORGANIZER;CN="Psychosozialer Tr%C3%A4gerverein Solingen e.V.":MAILTO:info@ptv-solingen.de
END:VEVENT
BEGIN:VEVENT
DTSTART;TZID=UTC:20220623T150000
DTEND;TZID=UTC:20220623T170000
DTSTAMP:20260421T232214
CREATED:20220523T072144Z
LAST-MODIFIED:20220523T072224Z
UID:8495-1655996400-1656003600@ptv-solingen.de
SUMMARY:Treffen für junge Erwachsene von 18 bis 40 Jahren
DESCRIPTION:Treffen für junge Erwachsene von 18 bis 40 Jahren \nJeden Donnerstag von 15:00 – 17:00 Uhr \nmit Frau Ischebeck\, Frau Noll und Frau Gerth \nBitte vorher telefonisch bei den Mitarbeiterinnen erkundigen ob\nder Treffpunkt wegen der Pandemie-Einschränkungen\nstattfindet.
URL:https://ptv-solingen.de/event/treffen-fuer-junge-erwachsene-von-18-bis-40-jahren-5/
LOCATION:Kölner Straße\, Kölner Straße 1\, Solingen\, 42651\, Deutschland
ATTACH;FMTTYPE=image/jpeg:https://ptv-solingen.de/wp-content/uploads/2021/04/AdobeStock_206183606-scaled.jpeg
ORGANIZER;CN="Psychosozialer Tr%C3%A4gerverein Solingen e.V.":MAILTO:info@ptv-solingen.de
END:VEVENT
BEGIN:VEVENT
DTSTART;TZID=UTC:20220624T093000
DTEND;TZID=UTC:20220624T103000
DTSTAMP:20260421T232214
CREATED:20220523T072240Z
LAST-MODIFIED:20220523T072315Z
UID:8497-1656063000-1656066600@ptv-solingen.de
SUMMARY:Frühstück am Runden Tisch
DESCRIPTION:Frühstück am Runden Tisch auf der Kölner Straße \nJeden Freitag von 09:30-10:30 Uhr\nAnmeldung bis Donnerstag\, 13:00 Uhr
URL:https://ptv-solingen.de/event/fruehstueck-am-runden-tisch-5/
LOCATION:Kölner Straße\, Kölner Straße 1\, Solingen\, 42651\, Deutschland
ATTACH;FMTTYPE=image/jpeg:https://ptv-solingen.de/wp-content/uploads/2021/11/AdobeStock_453679680-min-scaled.jpeg
ORGANIZER;CN="Psychosozialer Tr%C3%A4gerverein Solingen e.V.":MAILTO:info@ptv-solingen.de
END:VEVENT
BEGIN:VEVENT
DTSTART;TZID=UTC:20220624T160000
DTEND;TZID=UTC:20220624T180000
DTSTAMP:20260421T232214
CREATED:20220523T072333Z
LAST-MODIFIED:20220523T072417Z
UID:8499-1656086400-1656093600@ptv-solingen.de
SUMMARY:Die Mundartgruppe
DESCRIPTION:Von 16:00 – 18:00 Uhr auf der Kölner Straße \nBitte vorher telefonisch bei Fr Steingans anmelden. \nAnsprechpartnerin:\nFrau Steingans Telefon: 0173 – 35 64 858
URL:https://ptv-solingen.de/event/die-mundartgruppe-2/
LOCATION:Kölner Straße\, Kölner Straße 1\, Solingen\, 42651\, Deutschland
ATTACH;FMTTYPE=image/jpeg:https://ptv-solingen.de/wp-content/uploads/2021/09/9444068-5e518c43-9eac-4bf8-9b49-e05ff9ea19ed-0-44a7.jpg
ORGANIZER;CN="Psychosozialer Tr%C3%A4gerverein Solingen e.V.":MAILTO:info@ptv-solingen.de
END:VEVENT
BEGIN:VEVENT
DTSTART;TZID=UTC:20220627T143000
DTEND;TZID=UTC:20220627T170000
DTSTAMP:20260421T232214
CREATED:20220523T072441Z
LAST-MODIFIED:20220523T072533Z
UID:8501-1656340200-1656349200@ptv-solingen.de
SUMMARY:Strick- und Handarbeitsgruppe
DESCRIPTION:Stricken und Häkeln mit Frau König-Ramadani \nMontags\, 14.30 Uhr – 17.00 Uhr \nIm Sommer treffen wir uns im Kleingarten Nr.5\, in der Kleingartenanlage Gabelsberg. Im Winter treffen wir uns in der Beckmannstraße 110. \nGemeinsam genießen wir unser Hobby und stricken\, spinnen und häkeln was auch immer grade Spaß macht. Gegenseitig helfen wir uns gerne und kommen gemeinsam gut voran. \nBei Interesse melden Sie sich bitte bei:\nFrau König-Ramadani unter 0173 – 248 08 76\nBitte vorher telefonisch anmelden!
URL:https://ptv-solingen.de/event/strick-und-handarbeitsgruppe-3/
LOCATION:Beckmannstraße\, Beckmannstr. 110\, Solingen\, 42659\, Deutschland
ATTACH;FMTTYPE=image/jpeg:https://ptv-solingen.de/wp-content/uploads/2021/11/AdobeStock_78575029-min-scaled.jpeg
ORGANIZER;CN="Psychosozialer Tr%C3%A4gerverein Solingen e.V.":MAILTO:info@ptv-solingen.de
END:VEVENT
BEGIN:VEVENT
DTSTART;TZID=UTC:20220629T160000
DTEND;TZID=UTC:20220629T180000
DTSTAMP:20260421T232214
CREATED:20220523T072704Z
LAST-MODIFIED:20220523T072752Z
UID:8503-1656518400-1656525600@ptv-solingen.de
SUMMARY:Die Gartengruppe
DESCRIPTION:Jeden Mittwoch von 16:00 – 18:00 Uhr \nDas Treffen der Gartengruppe findet im Garten Nr. 5 des Kleingärtnerverein Gabelsbergerstraße e.V. statt. \nGemeinsam gestalten und bewirtschaften wir unseren Kleingarten. Gerne sammeln wir unsere Ideen\, setzen diese nach Möglichkeit um und genießen die Ergebnisse. \n \nBei schlechtem Wetter den Ort des Treffens bitte erfragen.\nBei Interesse melden Sie sich bitte bei uns\, wir geben Ihnen gerne weitere Informationen: \nVolker Dickerhoff                0151 – 730 192 82\nBirgit Büque                        0173 – 248 08 61\nUlrike König-Ramadani    0173 – 248 08 76
URL:https://ptv-solingen.de/event/die-gartengruppe-5/
LOCATION:Gartenanlage Gabelsberg\, Wittekindstraße 2\, Solingen\, 42659\, Deutschland
ATTACH;FMTTYPE=image/jpeg:https://ptv-solingen.de/wp-content/uploads/2021/09/garten-scaled-e1631092097189.jpg
ORGANIZER;CN="Psychosozialer Tr%C3%A4gerverein Solingen e.V.":MAILTO:info@ptv-solingen.de
END:VEVENT
BEGIN:VEVENT
DTSTART;TZID=UTC:20220630T150000
DTEND;TZID=UTC:20220630T170000
DTSTAMP:20260421T232214
CREATED:20220523T072804Z
LAST-MODIFIED:20220523T072845Z
UID:8505-1656601200-1656608400@ptv-solingen.de
SUMMARY:Treffen für junge Erwachsene von 18 bis 40 Jahren
DESCRIPTION:Treffen für junge Erwachsene von 18 bis 40 Jahren \nJeden Donnerstag von 15:00 – 17:00 Uhr \nmit Frau Ischebeck\, Frau Noll und Frau Gerth \nBitte vorher telefonisch bei den Mitarbeiterinnen erkundigen ob\nder Treffpunkt wegen der Pandemie-Einschränkungen\nstattfindet.
URL:https://ptv-solingen.de/event/treffen-fuer-junge-erwachsene-von-18-bis-40-jahren-6/
LOCATION:Kölner Straße\, Kölner Straße 1\, Solingen\, 42651\, Deutschland
ATTACH;FMTTYPE=image/jpeg:https://ptv-solingen.de/wp-content/uploads/2021/04/AdobeStock_206183606-scaled.jpeg
ORGANIZER;CN="Psychosozialer Tr%C3%A4gerverein Solingen e.V.":MAILTO:info@ptv-solingen.de
END:VEVENT
END:VCALENDAR