BEGIN:VCALENDAR
VERSION:2.0
PRODID:-//Psychosozialer Trägerverein Solingen e. V. - ECPv6.15.12.2//NONSGML v1.0//EN
CALSCALE:GREGORIAN
METHOD:PUBLISH
X-WR-CALNAME:Psychosozialer Trägerverein Solingen e. V.
X-ORIGINAL-URL:https://ptv-solingen.de
X-WR-CALDESC:Veranstaltungen für Psychosozialer Trägerverein Solingen e. V.
REFRESH-INTERVAL;VALUE=DURATION:PT1H
X-Robots-Tag:noindex
X-PUBLISHED-TTL:PT1H
BEGIN:VTIMEZONE
TZID:UTC
BEGIN:STANDARD
TZOFFSETFROM:+0000
TZOFFSETTO:+0000
TZNAME:UTC
DTSTART:20200101T000000
END:STANDARD
END:VTIMEZONE
BEGIN:VEVENT
DTSTART;TZID=UTC:20210917T093000
DTEND;TZID=UTC:20210917T103000
DTSTAMP:20260422T225814
CREATED:20210908T081700Z
LAST-MODIFIED:20211110T091824Z
UID:6218-1631871000-1631874600@ptv-solingen.de
SUMMARY:Frühstück am Runden Tisch
DESCRIPTION:Frühstück am Runden Tisch auf der Kölner Straße \nJeden Freitag von 09:30-10:30 Uhr\nAnmeldung bis Donnerstag\, 13:00 Uhr
URL:https://ptv-solingen.de/event/fruehstueck-am-runden-tisch/
LOCATION:Kölner Straße\, Kölner Straße 1\, Solingen\, 42651\, Deutschland
ATTACH;FMTTYPE=image/jpeg:https://ptv-solingen.de/wp-content/uploads/2021/11/AdobeStock_453679680-min-scaled.jpeg
ORGANIZER;CN="Psychosozialer Tr%C3%A4gerverein Solingen e.V.":MAILTO:info@ptv-solingen.de
END:VEVENT
BEGIN:VEVENT
DTSTART;TZID=UTC:20210918T160000
DTEND;TZID=UTC:20210918T180000
DTSTAMP:20260422T225814
CREATED:20210909T074008Z
LAST-MODIFIED:20211001T074755Z
UID:6222-1631980800-1631988000@ptv-solingen.de
SUMMARY:Die Mundartgruppe
DESCRIPTION:Von 16:00 – 18:00 Uhr auf der Kölner Straße \nBitte vorher telefonisch bei Fr Steingans anmelden. \nAnsprechpartnerin:\nFrau Steingans Telefon: 0173 – 35 64 858
URL:https://ptv-solingen.de/event/mundartgruppe/
LOCATION:Kölner Straße\, Kölner Straße 1\, Solingen\, 42651\, Deutschland
ATTACH;FMTTYPE=image/jpeg:https://ptv-solingen.de/wp-content/uploads/2021/09/9444068-5e518c43-9eac-4bf8-9b49-e05ff9ea19ed-0-44a7.jpg
ORGANIZER;CN="Psychosozialer Tr%C3%A4gerverein Solingen e.V.":MAILTO:info@ptv-solingen.de
END:VEVENT
BEGIN:VEVENT
DTSTART;TZID=UTC:20210921T170000
DTEND;TZID=UTC:20210921T200000
DTSTAMP:20260422T225814
CREATED:20210909T074959Z
LAST-MODIFIED:20211110T090601Z
UID:6225-1632243600-1632254400@ptv-solingen.de
SUMMARY:Die Kochgruppe
DESCRIPTION:Von 17:00 – 20:00 Uhr auf der Kölner Straße \nBitte vorher telefonisch bei Herrn Grapentin anmelden. \nAnsprechpartner:\nHerr Grapentin Telefon: 0212 – 248 21 59
URL:https://ptv-solingen.de/event/kochgruppe/
LOCATION:Kölner Straße\, Kölner Straße 1\, Solingen\, 42651\, Deutschland
ATTACH;FMTTYPE=image/jpeg:https://ptv-solingen.de/wp-content/uploads/2021/11/AdobeStock_48306297-min-scaled.jpeg
ORGANIZER;CN="Psychosozialer Tr%C3%A4gerverein Solingen e.V.":MAILTO:info@ptv-solingen.de
END:VEVENT
BEGIN:VEVENT
DTSTART;TZID=UTC:20210922T160000
DTEND;TZID=UTC:20210922T180000
DTSTAMP:20260422T225814
CREATED:20210908T074309Z
LAST-MODIFIED:20211018T085612Z
UID:6195-1632326400-1632333600@ptv-solingen.de
SUMMARY:Die Gartengruppe
DESCRIPTION:Jeden Mittwoch von 16:00 – 18:00 Uhr \nDas Treffen der Gartengruppe findet im Garten Nr. 5 des Kleingärtnerverein Gabelsbergerstraße e.V. statt. \nGemeinsam gestalten und bewirtschaften wir unseren Kleingarten. Gerne sammeln wir unsere Ideen\, setzen diese nach Möglichkeit um und genießen die Ergebnisse. \nBei Interesse melden Sie sich bitte bei uns\, wir geben Ihnen gerne weitere Informationen: \nUlrike König-Ramadani      0173 – 248 08 76\nBirgit Büque                        0173 – 248 08 61\nVolker Dickerhoff                0151 – 73019282
URL:https://ptv-solingen.de/event/gartengruppe/
LOCATION:Gartenanlage Gabelsberg\, Wittekindstraße 2\, Solingen\, 42659\, Deutschland
ATTACH;FMTTYPE=image/jpeg:https://ptv-solingen.de/wp-content/uploads/2021/09/garten-scaled-e1631092097189.jpg
ORGANIZER;CN="Psychosozialer Tr%C3%A4gerverein Solingen e.V.":MAILTO:info@ptv-solingen.de
END:VEVENT
BEGIN:VEVENT
DTSTART;TZID=UTC:20210923T150000
DTEND;TZID=UTC:20210923T170000
DTSTAMP:20260422T225814
CREATED:20210908T080905Z
LAST-MODIFIED:20211001T074727Z
UID:6216-1632409200-1632416400@ptv-solingen.de
SUMMARY:Treffen für junge Erwachsene von 18 bis 40 Jahren
DESCRIPTION:Treffen für junge Erwachsene von 18 bis 40 Jahren \nJeden Donnerstag von 15:00 – 17:00 Uhr \nmit Frau Ischebeck\, Frau Noll und Frau Rath \nBitte vorher telefonisch bei den Mitarbeiterinnen erkundigen ob\nder Treffpunkt wegen der Pandemie-Einschränkungen\nstattfindet.
URL:https://ptv-solingen.de/event/treffen-fuer-junge-erwachsene-von-18-bis-40-jahren/
LOCATION:Kölner Straße\, Kölner Straße 1\, Solingen\, 42651\, Deutschland
ATTACH;FMTTYPE=image/jpeg:https://ptv-solingen.de/wp-content/uploads/2021/04/AdobeStock_206183606-scaled.jpeg
ORGANIZER;CN="Psychosozialer Tr%C3%A4gerverein Solingen e.V.":MAILTO:info@ptv-solingen.de
END:VEVENT
BEGIN:VEVENT
DTSTART;TZID=UTC:20210924T093000
DTEND;TZID=UTC:20210924T103000
DTSTAMP:20260422T225814
CREATED:20210921T072638Z
LAST-MODIFIED:20211110T092612Z
UID:6322-1632475800-1632479400@ptv-solingen.de
SUMMARY:Frühstück am Runden Tisch
DESCRIPTION:Frühstück am Runden Tisch auf der Kölner Straße \nJeden Freitag von 09:30-10:30 Uhr\nAnmeldung bis Donnerstag\, 13:00 Uhr
URL:https://ptv-solingen.de/event/fruehstueck-am-runden-tisch2/
LOCATION:Kölner Straße\, Kölner Straße 1\, Solingen\, 42651\, Deutschland
ATTACH;FMTTYPE=image/jpeg:https://ptv-solingen.de/wp-content/uploads/2021/11/AdobeStock_453679680-min-scaled.jpeg
ORGANIZER;CN="Psychosozialer Tr%C3%A4gerverein Solingen e.V.":MAILTO:info@ptv-solingen.de
END:VEVENT
BEGIN:VEVENT
DTSTART;TZID=UTC:20210928T170000
DTEND;TZID=UTC:20210928T200000
DTSTAMP:20260422T225814
CREATED:20200814T065409Z
LAST-MODIFIED:20211111T092330Z
UID:2514-1632848400-1632859200@ptv-solingen.de
SUMMARY:Dienstagskreis mit Frau Moll oder Herrn Grapentin
DESCRIPTION:Jeden Dienstag von 17.00 Uhr bis 20.00 Uhr \nEine zwanglose\, offene Möglichkeit sich am Runden Tisch zu treffen.\nEs werden verschiedenen Dinge angeboten – beispielsweise  Gesellschaftsspiele\,\nFilm gucken oder man kann machen\, was man mag.
URL:https://ptv-solingen.de/event/dienstagskreis-mit-frau-moll-oder-herrn-grapentin/
LOCATION:Kölner Straße\, Kölner Straße 1\, Solingen\, 42651\, Deutschland
ATTACH;FMTTYPE=image/jpeg:https://ptv-solingen.de/wp-content/uploads/2021/11/AdobeStock_462496657-min-scaled.jpeg
ORGANIZER;CN="Psychosozialer Tr%C3%A4gerverein Solingen e.V.":MAILTO:info@ptv-solingen.de
END:VEVENT
END:VCALENDAR