BEGIN:VCALENDAR
VERSION:2.0
PRODID:-//Psychosozialer Trägerverein Solingen e. V. - ECPv6.15.12.2//NONSGML v1.0//EN
CALSCALE:GREGORIAN
METHOD:PUBLISH
X-WR-CALNAME:Psychosozialer Trägerverein Solingen e. V.
X-ORIGINAL-URL:https://ptv-solingen.de
X-WR-CALDESC:Veranstaltungen für Psychosozialer Trägerverein Solingen e. V.
REFRESH-INTERVAL;VALUE=DURATION:PT1H
X-Robots-Tag:noindex
X-PUBLISHED-TTL:PT1H
BEGIN:VTIMEZONE
TZID:UTC
BEGIN:STANDARD
TZOFFSETFROM:+0000
TZOFFSETTO:+0000
TZNAME:UTC
DTSTART:20210101T000000
END:STANDARD
END:VTIMEZONE
BEGIN:VEVENT
DTSTART;TZID=UTC:20221227T120000
DTEND;TZID=UTC:20221227T160000
DTSTAMP:20260421T123934
CREATED:20221129T090137Z
LAST-MODIFIED:20221129T090137Z
UID:9057-1672142400-1672156800@ptv-solingen.de
SUMMARY:Weihnachten am runden Tisch
DESCRIPTION:Die Weihnachtstage nicht alleine verbringen! \nUnser Runder Tisch auf der Kölner Str. 1 hat über Weihnachten geöffnet und läd ein zum besinnlichen Miteinander. Wir freuen uns auf Sie und sind gespannt\, wer uns besuchen kommt.
URL:https://ptv-solingen.de/event/weihnachten-am-runden-tisch-duplicate-1-3/
LOCATION:Kölner Straße\, Kölner Straße 1\, Solingen\, 42651\, Deutschland
ATTACH;FMTTYPE=image/jpeg:https://ptv-solingen.de/wp-content/uploads/2022/11/AdobeStock_34544442-min-scaled.jpeg
ORGANIZER;CN="Psychosozialer Tr%C3%A4gerverein Solingen e.V.":MAILTO:info@ptv-solingen.de
END:VEVENT
END:VCALENDAR