BEGIN:VCALENDAR
VERSION:2.0
PRODID:-//Psychosozialer Trägerverein Solingen e. V. - ECPv6.15.12.2//NONSGML v1.0//EN
CALSCALE:GREGORIAN
METHOD:PUBLISH
X-WR-CALNAME:Psychosozialer Trägerverein Solingen e. V.
X-ORIGINAL-URL:https://ptv-solingen.de
X-WR-CALDESC:Veranstaltungen für Psychosozialer Trägerverein Solingen e. V.
REFRESH-INTERVAL;VALUE=DURATION:PT1H
X-Robots-Tag:noindex
X-PUBLISHED-TTL:PT1H
BEGIN:VTIMEZONE
TZID:UTC
BEGIN:STANDARD
TZOFFSETFROM:+0000
TZOFFSETTO:+0000
TZNAME:UTC
DTSTART:20210101T000000
END:STANDARD
END:VTIMEZONE
BEGIN:VEVENT
DTSTART;TZID=UTC:20221213T153000
DTEND;TZID=UTC:20221213T153000
DTSTAMP:20260421T133756
CREATED:20221122T084547Z
LAST-MODIFIED:20221122T102401Z
UID:9011-1670945400-1670945400@ptv-solingen.de
SUMMARY:Ausflug zum Weihnachtsmarkt Solingen
DESCRIPTION:Ausflug zum Weihnachtsmarkt Solingen \nTreffpunkt um 15:30 Uhr am Runden Tisch Kölner Str. 1 mit Frau Fuchs.\nJEDER IST WILLKOMMEN!
URL:https://ptv-solingen.de/event/ausflug-zum-weihnachtsdorf-der-guten-taten-duplicate-1/
LOCATION:Kölner Straße\, Kölner Straße 1\, Solingen\, 42651\, Deutschland
ATTACH;FMTTYPE=image/jpeg:https://ptv-solingen.de/wp-content/uploads/2022/11/AdobeStock_544840169-min-scaled.jpeg
ORGANIZER;CN="Psychosozialer Tr%C3%A4gerverein Solingen e.V.":MAILTO:info@ptv-solingen.de
END:VEVENT
END:VCALENDAR