BEGIN:VCALENDAR
VERSION:2.0
PRODID:-//Psychosozialer Trägerverein Solingen e. V. - ECPv6.15.12.2//NONSGML v1.0//EN
CALSCALE:GREGORIAN
METHOD:PUBLISH
X-WR-CALNAME:Psychosozialer Trägerverein Solingen e. V.
X-ORIGINAL-URL:https://ptv-solingen.de
X-WR-CALDESC:Veranstaltungen für Psychosozialer Trägerverein Solingen e. V.
REFRESH-INTERVAL;VALUE=DURATION:PT1H
X-Robots-Tag:noindex
X-PUBLISHED-TTL:PT1H
BEGIN:VTIMEZONE
TZID:UTC
BEGIN:STANDARD
TZOFFSETFROM:+0000
TZOFFSETTO:+0000
TZNAME:UTC
DTSTART:20210101T000000
END:STANDARD
END:VTIMEZONE
BEGIN:VEVENT
DTSTART;TZID=UTC:20220903T140000
DTEND;TZID=UTC:20220903T140000
DTSTAMP:20260421T202710
CREATED:20220826T064641Z
LAST-MODIFIED:20220826T064807Z
UID:8744-1662213600-1662213600@ptv-solingen.de
SUMMARY:AUSFLUG - Walder Stadtpark
DESCRIPTION:Ausflug zum Walder Stadtpark unter dem Motto „Leben braucht Vielfalt“ \nWir haben einige spannende Ausflüge vom Runden Tisch aus geplant – immer gemeinsam mit einem\nMitarbeiter machen wir uns auf den Weg. \nDer Treffpunkt ist um 14 Uhr in der Kölner Straße 1\n(davor von 12 bis 14 Uhr normale Öffnungszeit).\nWeitere Ausflüge an schöne Solinger Orte sind schon in Planung.\nEs ist keine Anmeldung nötig. Bei Fragen bitte unter 0212-2482159 melden. \nOffen für alle Interessierten!
URL:https://ptv-solingen.de/event/ausflug-sommerfest-echt-scharf-solingen-duplicate-1/
LOCATION:Kölner Straße\, Kölner Straße 1\, Solingen\, 42651\, Deutschland
ATTACH;FMTTYPE=image/jpeg:https://ptv-solingen.de/wp-content/uploads/2021/11/AdobeStock_29546739-scaled.jpeg
ORGANIZER;CN="Psychosozialer Tr%C3%A4gerverein Solingen e.V.":MAILTO:info@ptv-solingen.de
END:VEVENT
END:VCALENDAR