BEGIN:VCALENDAR
VERSION:2.0
PRODID:-//Psychosozialer Trägerverein Solingen e. V. - ECPv6.15.12.2//NONSGML v1.0//EN
CALSCALE:GREGORIAN
METHOD:PUBLISH
X-ORIGINAL-URL:https://ptv-solingen.de
X-WR-CALDESC:Veranstaltungen für Psychosozialer Trägerverein Solingen e. V.
REFRESH-INTERVAL;VALUE=DURATION:PT1H
X-Robots-Tag:noindex
X-PUBLISHED-TTL:PT1H
BEGIN:VTIMEZONE
TZID:UTC
BEGIN:STANDARD
TZOFFSETFROM:+0000
TZOFFSETTO:+0000
TZNAME:UTC
DTSTART:20210101T000000
END:STANDARD
END:VTIMEZONE
BEGIN:VEVENT
DTSTART;TZID=UTC:20220813T140000
DTEND;TZID=UTC:20220813T140000
DTSTAMP:20260421T230741
CREATED:20220722T081834Z
LAST-MODIFIED:20220722T081910Z
UID:8667-1660399200-1660399200@ptv-solingen.de
SUMMARY:AUSFLUG - Sommerfest echt.scharf.solingen
DESCRIPTION:Ausflug zum Sommerfest „echt.scharf.solingen“\nWir haben einige spannende Ausflüge vom Runden Tisch aus geplant – immer gemeinsam mit einem\nMitarbeiter machen wir uns auf den Weg. Der Treffpunkt ist jeweils um 14 Uhr in der Kölner Straße 1\n(davor von 12 bis 14 Uhr normale Öffnungszeit).\nWeitere Ausflüge an schöne Solinger Orte sind schon in Planung.\nEs ist keine Anmeldung nötig. Bei Fragen bitte unter 0212-2482159 melden.
URL:https://ptv-solingen.de/event/sommerfest_echt-scharf/
LOCATION:Kölner Straße\, Kölner Straße 1\, Solingen\, 42651\, Deutschland
ATTACH;FMTTYPE=image/png:https://ptv-solingen.de/wp-content/uploads/2022/07/xsommerparty_1-1024x725.png.pagespeed.ic_.HfpyM7REow.png
ORGANIZER;CN="Psychosozialer Tr%C3%A4gerverein Solingen e.V.":MAILTO:info@ptv-solingen.de
END:VEVENT
END:VCALENDAR