BEGIN:VCALENDAR
VERSION:2.0
PRODID:-//Psychosozialer Trägerverein Solingen e. V. - ECPv6.15.12.2//NONSGML v1.0//EN
CALSCALE:GREGORIAN
METHOD:PUBLISH
X-ORIGINAL-URL:https://ptv-solingen.de
X-WR-CALDESC:Veranstaltungen für Psychosozialer Trägerverein Solingen e. V.
REFRESH-INTERVAL;VALUE=DURATION:PT1H
X-Robots-Tag:noindex
X-PUBLISHED-TTL:PT1H
BEGIN:VTIMEZONE
TZID:UTC
BEGIN:STANDARD
TZOFFSETFROM:+0000
TZOFFSETTO:+0000
TZNAME:UTC
DTSTART:20210101T000000
END:STANDARD
END:VTIMEZONE
BEGIN:VEVENT
DTSTART;TZID=UTC:20220317T110000
DTEND;TZID=UTC:20220317T120000
DTSTAMP:20260422T073603
CREATED:20220227T100539Z
LAST-MODIFIED:20220227T100539Z
UID:8268-1647514800-1647518400@ptv-solingen.de
SUMMARY:Vollversammlung am runden Tisch
DESCRIPTION:Vollversammlung am runden Tisch \nBeginn: 11.00 Uhr \nDie Vollversammlung ist ein Treffen für Besucher des Runden Tisches mit der Gruppenleitung des Runden Tisches\, um neue Informationen im Verein und für den Runden Tisch mitzubekommen\, aber auch um gemeinsam über Anregungen und Kritik der Nutzer zu sprechen. \nWir freuen uns auf zahlreiches Erscheinen!
URL:https://ptv-solingen.de/event/vollversammlung-am-runden-tisch-duplicate-1/
LOCATION:Kölner Straße\, Kölner Straße 1\, Solingen\, 42651\, Deutschland
ATTACH;FMTTYPE=image/jpeg:https://ptv-solingen.de/wp-content/uploads/2020/09/paper-3213924_960_720.jpg
ORGANIZER;CN="Psychosozialer Tr%C3%A4gerverein Solingen e.V.":MAILTO:info@ptv-solingen.de
END:VEVENT
BEGIN:VEVENT
DTSTART;TZID=UTC:20220317T150000
DTEND;TZID=UTC:20220317T170000
DTSTAMP:20260422T073603
CREATED:20220227T100619Z
LAST-MODIFIED:20220227T100619Z
UID:8270-1647529200-1647536400@ptv-solingen.de
SUMMARY:Treffen für junge Erwachsene von 18 bis 40 Jahren
DESCRIPTION:Treffen für junge Erwachsene von 18 bis 40 Jahren \nJeden Donnerstag von 15:00 – 17:00 Uhr \nmit Frau Ischebeck\, Frau Noll und Frau Rath \nBitte vorher telefonisch bei den Mitarbeiterinnen erkundigen ob\nder Treffpunkt wegen der Pandemie-Einschränkungen\nstattfindet.
URL:https://ptv-solingen.de/event/treffen-fuer-junge-erwachsene-von-18-bis-40-jahren-duplicate-1-20/
LOCATION:Kölner Straße\, Kölner Straße 1\, Solingen\, 42651\, Deutschland
ATTACH;FMTTYPE=image/jpeg:https://ptv-solingen.de/wp-content/uploads/2021/04/AdobeStock_206183606-scaled.jpeg
ORGANIZER;CN="Psychosozialer Tr%C3%A4gerverein Solingen e.V.":MAILTO:info@ptv-solingen.de
END:VEVENT
END:VCALENDAR