BEGIN:VCALENDAR
VERSION:2.0
PRODID:-//Psychosozialer Trägerverein Solingen e. V. - ECPv6.15.12.2//NONSGML v1.0//EN
CALSCALE:GREGORIAN
METHOD:PUBLISH
X-ORIGINAL-URL:https://ptv-solingen.de
X-WR-CALDESC:Veranstaltungen für Psychosozialer Trägerverein Solingen e. V.
REFRESH-INTERVAL;VALUE=DURATION:PT1H
X-Robots-Tag:noindex
X-PUBLISHED-TTL:PT1H
BEGIN:VTIMEZONE
TZID:UTC
BEGIN:STANDARD
TZOFFSETFROM:+0000
TZOFFSETTO:+0000
TZNAME:UTC
DTSTART:20200101T000000
END:STANDARD
END:VTIMEZONE
BEGIN:VEVENT
DTSTART;TZID=UTC:20211224T100000
DTEND;TZID=UTC:20211224T140000
DTSTAMP:20260422T170937
CREATED:20211125T154516Z
LAST-MODIFIED:20211216T072934Z
UID:7723-1640340000-1640354400@ptv-solingen.de
SUMMARY:Weihnachtsbrunch Heiliger Abend am runden Tisch
DESCRIPTION:Unser traditioneller Weihnachtsbrunch am Heiligen Abend findet auch dieses Jahr wieder am Runden Tisch auf der Kölner Str. 1 statt. \nDie Teilnahme ist nur nach vorheriger Anmeldung und Vorkasse in der Tagesstätte möglich. \nAnsprechpartnerin:\nChristina Rath\nGruppenleiterin \nTelefon: 02 12 – 248 21 – 51\nE-Mail: christina.rath@ptv-solingen.de
URL:https://ptv-solingen.de/event/heiliger-abend/
LOCATION:Kölner Straße\, Kölner Straße 1\, Solingen\, 42651\, Deutschland
ATTACH;FMTTYPE=image/jpeg:https://ptv-solingen.de/wp-content/uploads/2021/11/AdobeStock_465081024-min-scaled.jpeg
ORGANIZER;CN="Psychosozialer Tr%C3%A4gerverein Solingen e.V.":MAILTO:info@ptv-solingen.de
END:VEVENT
END:VCALENDAR