BEGIN:VCALENDAR
VERSION:2.0
PRODID:-//Psychosozialer Trägerverein Solingen e. V. - ECPv6.15.12.2//NONSGML v1.0//EN
CALSCALE:GREGORIAN
METHOD:PUBLISH
X-WR-CALNAME:Psychosozialer Trägerverein Solingen e. V.
X-ORIGINAL-URL:https://ptv-solingen.de
X-WR-CALDESC:Veranstaltungen für Psychosozialer Trägerverein Solingen e. V.
REFRESH-INTERVAL;VALUE=DURATION:PT1H
X-Robots-Tag:noindex
X-PUBLISHED-TTL:PT1H
BEGIN:VTIMEZONE
TZID:UTC
BEGIN:STANDARD
TZOFFSETFROM:+0000
TZOFFSETTO:+0000
TZNAME:UTC
DTSTART:20200101T000000
END:STANDARD
END:VTIMEZONE
BEGIN:VEVENT
DTSTART;TZID=UTC:20211102T170000
DTEND;TZID=UTC:20211102T200000
DTSTAMP:20260422T181927
CREATED:20211027T073954Z
LAST-MODIFIED:20211110T090318Z
UID:6951-1635872400-1635883200@ptv-solingen.de
SUMMARY:Die Kochgruppe
DESCRIPTION:Von 17:00 – 20:00 Uhr auf der Kölner Straße \nBitte vorher telefonisch bei Herrn Grapentin anmelden. \nAnsprechpartner:\nHerr Grapentin Telefon: 0212 – 248 21 59
URL:https://ptv-solingen.de/event/die-kochgruppe-duplicate-1/
LOCATION:Kölner Straße\, Kölner Straße 1\, Solingen\, 42651\, Deutschland
ATTACH;FMTTYPE=image/jpeg:https://ptv-solingen.de/wp-content/uploads/2021/11/AdobeStock_48306297-min-scaled.jpeg
ORGANIZER;CN="Psychosozialer Tr%C3%A4gerverein Solingen e.V.":MAILTO:info@ptv-solingen.de
END:VEVENT
BEGIN:VEVENT
DTSTART;TZID=UTC:20211102T170000
DTEND;TZID=UTC:20211102T200000
DTSTAMP:20260422T181927
CREATED:20211027T074159Z
LAST-MODIFIED:20211111T092158Z
UID:6954-1635872400-1635883200@ptv-solingen.de
SUMMARY:Der Dienstagskreis
DESCRIPTION:Jeden Dienstag von 17.00 Uhr bis 20.00 Uhr \nEine zwanglose\, offene Möglichkeit sich am Runden Tisch zu treffen.\nEs werden verschiedenen Dinge angeboten – beispielsweise  Gesellschaftsspiele\,\nFilm gucken oder man kann machen\, was man mag.
URL:https://ptv-solingen.de/event/dienstagskreis/
LOCATION:Kölner Straße\, Kölner Straße 1\, Solingen\, 42651\, Deutschland
ATTACH;FMTTYPE=image/jpeg:https://ptv-solingen.de/wp-content/uploads/2021/11/AdobeStock_462496657-min-scaled.jpeg
ORGANIZER;CN="Psychosozialer Tr%C3%A4gerverein Solingen e.V.":MAILTO:info@ptv-solingen.de
END:VEVENT
END:VCALENDAR